BEGIN:VCALENDAR
VERSION:2.0
PRODID:-//Shenandoah University - ECPv6.15.20//NONSGML v1.0//EN
CALSCALE:GREGORIAN
METHOD:PUBLISH
X-WR-CALNAME:Shenandoah University
X-ORIGINAL-URL:https://www.su.edu
X-WR-CALDESC:Events for Shenandoah University
REFRESH-INTERVAL;VALUE=DURATION:PT1H
X-Robots-Tag:noindex
X-PUBLISHED-TTL:PT1H
BEGIN:VTIMEZONE
TZID:America/New_York
BEGIN:DAYLIGHT
TZOFFSETFROM:-0500
TZOFFSETTO:-0400
TZNAME:EDT
DTSTART:20250309T070000
END:DAYLIGHT
BEGIN:STANDARD
TZOFFSETFROM:-0400
TZOFFSETTO:-0500
TZNAME:EST
DTSTART:20251102T060000
END:STANDARD
BEGIN:DAYLIGHT
TZOFFSETFROM:-0500
TZOFFSETTO:-0400
TZNAME:EDT
DTSTART:20260308T070000
END:DAYLIGHT
BEGIN:STANDARD
TZOFFSETFROM:-0400
TZOFFSETTO:-0500
TZNAME:EST
DTSTART:20261101T060000
END:STANDARD
BEGIN:DAYLIGHT
TZOFFSETFROM:-0500
TZOFFSETTO:-0400
TZNAME:EDT
DTSTART:20270314T070000
END:DAYLIGHT
BEGIN:STANDARD
TZOFFSETFROM:-0400
TZOFFSETTO:-0500
TZNAME:EST
DTSTART:20271107T060000
END:STANDARD
END:VTIMEZONE
BEGIN:VEVENT
DTSTART;TZID=America/New_York:20260424T100000
DTEND;TZID=America/New_York:20260424T140000
DTSTAMP:20260424T104208
CREATED:20260401T161157Z
LAST-MODIFIED:20260401T161159Z
UID:10003935-1777024800-1777039200@www.su.edu
SUMMARY:Native Plant & Herb Sale
DESCRIPTION:Home » Events\n\n\n\nLast Bowling Night with Catholic Campus Ministry\n\n\n\n\nCelebrate Earth Week by visiting the annual Native Plant and Herb Sale hosted by the Environmental and Sustainability Club on the SU Quad. From Wednesday\, April 22\, through Friday\, April 24\, students and staff can stop by between 10 a.m. and 2 p.m. to purchase a variety of plants. With prices ranging from $1 to $5\, all proceeds directly support the club’s future environmental initiatives. For more information\, please contact the Environmental and Sustainability Club at suenviroclub@gmail.com. 
URL:https://www.su.edu/event/native-plant-herb-sale/2026-04-24/
LOCATION:SU Quad\, 1460 University Drive\, Winchester\, VA\, 22601
CATEGORIES:Clubs & Organizations,Student Life
GEO:39.165466;-78.1587425
X-APPLE-STRUCTURED-LOCATION;VALUE=URI;X-ADDRESS=SU Quad 1460 University Drive Winchester VA 22601;X-APPLE-RADIUS=500;X-TITLE=1460 University Drive:geo:-78.1587425,39.165466
END:VEVENT
BEGIN:VEVENT
DTSTART;TZID=America/New_York:20260424T110000
DTEND;TZID=America/New_York:20260424T133000
DTSTAMP:20260424T104208
CREATED:20260121T141805Z
LAST-MODIFIED:20260121T141808Z
UID:10003539-1777028400-1777037400@www.su.edu
SUMMARY:Pretzel Bar
DESCRIPTION:Home » Events\n\n\n\nLast Bowling Night with Catholic Campus Ministry\n\n\n\n\nSnack on warm soft pretzels and a variety of fun dips and toppings at Shenandoah Home’s Pretzel Bar from 11 a.m.-1:30 p.m. on Friday\, April 24\, in Allen Dining Hall. For more information\, contact Isabel Mammano at lzh84@su.edu or Lizzy Ledesma at vjk45@su.edu.
URL:https://www.su.edu/event/pretzel-bar/
LOCATION:Allen Dining Hall\, 730 WADE MILLER DR.\, Winchester\, VA\, 22601\, United States
CATEGORIES:Student Life
GEO:39.1644933;-78.1580011
X-APPLE-STRUCTURED-LOCATION;VALUE=URI;X-ADDRESS=Allen Dining Hall 730 WADE MILLER DR. Winchester VA 22601 United States;X-APPLE-RADIUS=500;X-TITLE=730 WADE MILLER DR.:geo:-78.1580011,39.1644933
END:VEVENT
BEGIN:VEVENT
DTSTART;TZID=America/New_York:20260424T130000
DTEND;TZID=America/New_York:20260424T150000
DTSTAMP:20260424T104208
CREATED:20260417T201542Z
LAST-MODIFIED:20260417T201546Z
UID:10003987-1777035600-1777042800@www.su.edu
SUMMARY:Volunteer Appreciation
DESCRIPTION:Home » Events\n\n\n\nLast Bowling Night with Catholic Campus Ministry\n\n\n\n\nTo cap off National Volunteer Week with a gesture of gratitude\, the Center for Civic Engagement is celebrating every student\, faculty\, and staff member who gave back this year. Volunteers are invited to drop by the Brandt Student Center on Thursday\, April 23\, from 3:30-5 p.m. or Friday\, April 24\, from 1-3 p.m. to pick up a treat as a token of appreciation For more information t\, contact Jenni O’Hara at wni51@su.edu. 
URL:https://www.su.edu/event/volunteer-appreciation/2026-04-24/
LOCATION:Brandt Student Center\, 1460 University Drive\, Winchester\, VA\, 22601\, United States
CATEGORIES:Clubs & Organizations,Student Life
GEO:39.1673226;-78.1573107
X-APPLE-STRUCTURED-LOCATION;VALUE=URI;X-ADDRESS=Brandt Student Center 1460 University Drive Winchester VA 22601 United States;X-APPLE-RADIUS=500;X-TITLE=1460 University Drive:geo:-78.1573107,39.1673226
END:VEVENT
BEGIN:VEVENT
DTSTART;TZID=America/New_York:20260424T160000
DTEND;TZID=America/New_York:20260424T180000
DTSTAMP:20260424T104208
CREATED:20260422T151652Z
LAST-MODIFIED:20260422T151655Z
UID:10004006-1777046400-1777053600@www.su.edu
SUMMARY:Clean Up the Apple Blossom Mall
DESCRIPTION:Home » Events\n\n\n\nLast Bowling Night with Catholic Campus Ministry\n\n\n\n\nCelebrate Earth Week by giving back to the local community during the Apple Blossom Mall Clean Up on Friday\, April 24\, from 4-6 p.m. Hosted by Shenandoah Outdoor & Adventure Recreation and the National Parks Trust College Ambassadors\, this initiative focuses on removing litter and debris from the grassy areas surrounding the mall. Volunteers should meet at the Vaden Campus Commons (SOAR Center)\, where transportation will depart in 30-minute increments; alternatively\, participants can meet the group directly at the mall. All necessary supplies\, including trash bags\, gloves\, and grabbers\, will be provided. To ensure safety\, participants must wear bright or neon clothing\, though orange vests will be available for those who need them. There is no requirement to stay for the entire two-hour block\, making it easy to drop in and help as your schedule allows. For more information\, please contact dmc85@su.edu. 
URL:https://www.su.edu/event/clean-up-the-apple-blossom-mall/
LOCATION:Vaden Campus Commons\, 711 Millwood Ave\, Winchester\, VA\, 22601\, United States
CATEGORIES:Clubs & Organizations,Outdoor Activities,Student Life
GEO:39.1630147;-78.1610749
X-APPLE-STRUCTURED-LOCATION;VALUE=URI;X-ADDRESS=Vaden Campus Commons 711 Millwood Ave Winchester VA 22601 United States;X-APPLE-RADIUS=500;X-TITLE=711 Millwood Ave:geo:-78.1610749,39.1630147
END:VEVENT
BEGIN:VEVENT
DTSTART;TZID=America/New_York:20260424T180000
DTEND;TZID=America/New_York:20260424T200000
DTSTAMP:20260424T104208
CREATED:20260416T155303Z
LAST-MODIFIED:20260416T155307Z
UID:10003983-1777053600-1777060800@www.su.edu
SUMMARY:Beat the Stress
DESCRIPTION:Home » Events\n\n\n\nLast Bowling Night with Catholic Campus Ministry\n\n\n\n\nSupport your fellow students and manage pre-finals pressure as you  “Decompress to Beat That Stress” on Friday\, April 24\, from 6-8 p.m. in the Pruitt Health and Life Science Building\, Halpin Rotunda. This hands-on service event invites the campus community to assemble DIY stress fidgets and squishies\, which will be distributed to students to help them stay focused and calm during finals week. It is a great way to earn service hours while making a tangible difference in campus wellness. This event is hosted by the Center for Civic Engagement. To sign up\, please register via Helper Helper or contact Ivanna Stefanova at tdl43@su.edu or Francesca Brown at dwg63@su.edu with any questions. 
URL:https://www.su.edu/event/beat-the-stress/
LOCATION:Cecil Pruitt\, Jr. Health & Life Sciences Building\, WADE MILLER DR.\, Winchester\, VA\, United States
CATEGORIES:Clubs & Organizations,Student Life
GEO:39.1645514;-78.1585658
X-APPLE-STRUCTURED-LOCATION;VALUE=URI;X-ADDRESS=Cecil Pruitt Jr. Health & Life Sciences Building WADE MILLER DR. Winchester VA United States;X-APPLE-RADIUS=500;X-TITLE=WADE MILLER DR.:geo:-78.1585658,39.1645514
END:VEVENT
BEGIN:VEVENT
DTSTART;TZID=America/New_York:20260424T193000
DTEND;TZID=America/New_York:20260424T193000
DTSTAMP:20260424T104208
CREATED:20251212T201845Z
LAST-MODIFIED:20251212T201847Z
UID:10003286-1777059000-1777059000@www.su.edu
SUMMARY:“Our Lady of 121st Street”
DESCRIPTION:Home » Events\n\n\n\nLast Bowling Night with Catholic Campus Ministry\n\n\n\n\nStephen Adly Guirgis’s “Our Lady of 121st Street” is a darkly insightful and sharply funny comedy that brings together twelve unforgettable characters\, each teetering on the edge of revelation. \n\n\n\nShenandoah University students\, faculty and staff are eligible for complimentary tickets\, subject to availability. Visit conservatoryperforms.org to learn more about the event\, explore the digital program and purchase tickets.
URL:https://www.su.edu/performs/event/26-04-our-lady-of-121st-street/#new_tab
LOCATION:Glaize Studio Theatre\, Ruebush Hall\, 620 MILLWOOD AVE.\, Winchester\, VA\, 22601\, United States
CATEGORIES:Performances,Theatre
GEO:39.1663264;-78.1605404
X-APPLE-STRUCTURED-LOCATION;VALUE=URI;X-ADDRESS=Glaize Studio Theatre Ruebush Hall 620 MILLWOOD AVE. Winchester VA 22601 United States;X-APPLE-RADIUS=500;X-TITLE=620 MILLWOOD AVE.:geo:-78.1605404,39.1663264
END:VEVENT
BEGIN:VEVENT
DTSTART;TZID=America/New_York:20260424T193000
DTEND;TZID=America/New_York:20260424T193000
DTSTAMP:20260424T104208
CREATED:20251212T202020Z
LAST-MODIFIED:20251212T203152Z
UID:10003299-1777059000-1777059000@www.su.edu
SUMMARY:Main Stage Opera: “Hansel & Gretel”
DESCRIPTION:Home » Events\n\n\n\nLast Bowling Night with Catholic Campus Ministry\n\n\n\n\nEnter a magical world of wonder and whimsy with Engelbert Humperdinck’s beloved fairy tale opera\, “Hansel & Gretel!” \n\n\n\nShenandoah University students\, faculty and staff are eligible for complimentary tickets\, subject to availability. Visit conservatoryperforms.org to learn more about the event\, explore the digital program and purchase tickets.
URL:https://www.su.edu/performs/event/26-04-hansel-gretel/#new_tab
LOCATION:Ohrstrom-Bryant Theatre\, 620 MILLWOOD AVE.\, Winchester\, VA\, 22601\, United States
CATEGORIES:Music,Performances
GEO:39.1663264;-78.1605404
X-APPLE-STRUCTURED-LOCATION;VALUE=URI;X-ADDRESS=Ohrstrom-Bryant Theatre 620 MILLWOOD AVE. Winchester VA 22601 United States;X-APPLE-RADIUS=500;X-TITLE=620 MILLWOOD AVE.:geo:-78.1605404,39.1663264
END:VEVENT
END:VCALENDAR