BEGIN:VCALENDAR
VERSION:2.0
PRODID:-//Shenandoah University - ECPv6.15.18//NONSGML v1.0//EN
CALSCALE:GREGORIAN
METHOD:PUBLISH
X-WR-CALNAME:Shenandoah University
X-ORIGINAL-URL:https://www.su.edu
X-WR-CALDESC:Events for Shenandoah University
REFRESH-INTERVAL;VALUE=DURATION:PT1H
X-Robots-Tag:noindex
X-PUBLISHED-TTL:PT1H
BEGIN:VTIMEZONE
TZID:America/New_York
BEGIN:DAYLIGHT
TZOFFSETFROM:-0500
TZOFFSETTO:-0400
TZNAME:EDT
DTSTART:20250309T070000
END:DAYLIGHT
BEGIN:STANDARD
TZOFFSETFROM:-0400
TZOFFSETTO:-0500
TZNAME:EST
DTSTART:20251102T060000
END:STANDARD
BEGIN:DAYLIGHT
TZOFFSETFROM:-0500
TZOFFSETTO:-0400
TZNAME:EDT
DTSTART:20260308T070000
END:DAYLIGHT
BEGIN:STANDARD
TZOFFSETFROM:-0400
TZOFFSETTO:-0500
TZNAME:EST
DTSTART:20261101T060000
END:STANDARD
BEGIN:DAYLIGHT
TZOFFSETFROM:-0500
TZOFFSETTO:-0400
TZNAME:EDT
DTSTART:20270314T070000
END:DAYLIGHT
BEGIN:STANDARD
TZOFFSETFROM:-0400
TZOFFSETTO:-0500
TZNAME:EST
DTSTART:20271107T060000
END:STANDARD
END:VTIMEZONE
BEGIN:VEVENT
DTSTART;TZID=America/New_York:20260321T000000
DTEND;TZID=America/New_York:20260321T235959
DTSTAMP:20260422T000844
CREATED:20260226T182200Z
LAST-MODIFIED:20260226T182203Z
UID:10003783-1774051200-1774137599@www.su.edu
SUMMARY:CAN trip to Busch Gardens
DESCRIPTION:Home » Clubs & Organizations\n\n\n\nAmerican Sign Language Club Movie Night\n\n\n\n\nEnjoy record-breaking roller coasters like Griffon and Pantheon\, live entertainment and various festival offerings at Campus Activities Network’s all-day excursion to Busch Gardens in Williamsburg\, Virginia\, on Saturday\, March 21. The bus departs at 6:30 a.m.; tickets are $15 and will be available for purchase starting Friday\, March 6. For more information and the ticket link\, students should follow @shenandoah.can on Instagram or email can@su.edu. 
URL:https://www.su.edu/event/can-trip-to-busch-gardens/
LOCATION:VA
CATEGORIES:Clubs & Organizations,Student Life
END:VEVENT
END:VCALENDAR