BEGIN:VCALENDAR
VERSION:2.0
PRODID:-//Shenandoah University - ECPv6.15.18//NONSGML v1.0//EN
CALSCALE:GREGORIAN
METHOD:PUBLISH
X-ORIGINAL-URL:https://www.su.edu
X-WR-CALDESC:Events for Shenandoah University
REFRESH-INTERVAL;VALUE=DURATION:PT1H
X-Robots-Tag:noindex
X-PUBLISHED-TTL:PT1H
BEGIN:VTIMEZONE
TZID:America/New_York
BEGIN:DAYLIGHT
TZOFFSETFROM:-0500
TZOFFSETTO:-0400
TZNAME:EDT
DTSTART:20250309T070000
END:DAYLIGHT
BEGIN:STANDARD
TZOFFSETFROM:-0400
TZOFFSETTO:-0500
TZNAME:EST
DTSTART:20251102T060000
END:STANDARD
BEGIN:DAYLIGHT
TZOFFSETFROM:-0500
TZOFFSETTO:-0400
TZNAME:EDT
DTSTART:20260308T070000
END:DAYLIGHT
BEGIN:STANDARD
TZOFFSETFROM:-0400
TZOFFSETTO:-0500
TZNAME:EST
DTSTART:20261101T060000
END:STANDARD
BEGIN:DAYLIGHT
TZOFFSETFROM:-0500
TZOFFSETTO:-0400
TZNAME:EDT
DTSTART:20270314T070000
END:DAYLIGHT
BEGIN:STANDARD
TZOFFSETFROM:-0400
TZOFFSETTO:-0500
TZNAME:EST
DTSTART:20271107T060000
END:STANDARD
END:VTIMEZONE
BEGIN:VEVENT
DTSTART;TZID=America/New_York:20260323T130000
DTEND;TZID=America/New_York:20260323T160000
DTSTAMP:20260422T001231
CREATED:20260205T150919Z
LAST-MODIFIED:20260319T162313Z
UID:10003688-1774270800-1774281600@www.su.edu
SUMMARY:Passing The Torch: Women in Leadership Panel
DESCRIPTION:Home » Clubs & Organizations\n\n\n\nAmerican Sign Language Club Movie Night\n\n\n\n\nJoin The Not Just Women’s Center for a high-impact panel featuring women who are redefining what it means to lead in 2026. Move past the “polite” advice to receive the raw truth about navigating professional spaces\, overcoming bias\, and claiming your power. Whether you’re looking to build your network or looking for the blueprint to your own future success\, this is your chance to learn from the titans who have already broken the glass. Come for the insights\, stay for the connections. For more information\, contact the [Not Just] Women’s Center at thenjwc@su.edu.
URL:https://www.su.edu/event/women-in-leadership-panel/
LOCATION:Borden Student Associations Center\, Brandt Student Center Room 123\, 703 UNIVERSITY DR.\, Winchester\, VA\, 22601\, United States
CATEGORIES:Clubs & Organizations,Diversity,Student Life
GEO:39.1673507;-78.1572448
X-APPLE-STRUCTURED-LOCATION;VALUE=URI;X-ADDRESS=Borden Student Associations Center Brandt Student Center Room 123 703 UNIVERSITY DR. Winchester VA 22601 United States;X-APPLE-RADIUS=500;X-TITLE=703 UNIVERSITY DR.:geo:-78.1572448,39.1673507
END:VEVENT
BEGIN:VEVENT
DTSTART;TZID=America/New_York:20260323T173000
DTEND;TZID=America/New_York:20260323T190000
DTSTAMP:20260422T001231
CREATED:20260113T162416Z
LAST-MODIFIED:20260319T174219Z
UID:10003892-1774287000-1774292400@www.su.edu
SUMMARY:Transfer Connection
DESCRIPTION:Home » Clubs & Organizations\n\n\n\nAmerican Sign Language Club Movie Night\n\n\n\n\nTransfer Connection\, held on Wednesday\, Feb. 18\, from 5:30-7 p.m. in the Brandt Student Center\, Room 118\, is a welcoming opportunity for transfer students to come together. This event provides a relaxed space for transfer students to learn more about life at Shenandoah\, ask questions\, and build connections with fellow transfer students. Transfer Connection will continue throughout the semester on March 23\, and April 22\, at the same time and location. For more information\, contact Sam Nicholson at vif83@su.edu or transferconnection@su.edu.
URL:https://www.su.edu/event/transfer-connection/2026-03-23/
LOCATION:Brandt Student Center\, 1460 University Drive\, Winchester\, VA\, 22601\, United States
CATEGORIES:Clubs & Organizations,Student Life
GEO:39.1673226;-78.1573107
X-APPLE-STRUCTURED-LOCATION;VALUE=URI;X-ADDRESS=Brandt Student Center 1460 University Drive Winchester VA 22601 United States;X-APPLE-RADIUS=500;X-TITLE=1460 University Drive:geo:-78.1573107,39.1673226
END:VEVENT
BEGIN:VEVENT
DTSTART;TZID=America/New_York:20260323T180000
DTEND;TZID=America/New_York:20260323T190000
DTSTAMP:20260422T001231
CREATED:20260113T155827Z
LAST-MODIFIED:20260113T160259Z
UID:10003404-1774288800-1774292400@www.su.edu
SUMMARY:Tai Yoga w/ Amanda
DESCRIPTION:Home » Clubs & Organizations\n\n\n\nAmerican Sign Language Club Movie Night\n\n\n\n\nTai Yoga w/ Amanda is on Mondays from 6-7 p.m. in the Brandt Student Center\, Room 123 (Borden Student Associations Center\, aka B-SAC). This class blends martial and healing arts by combining Yoga and Tai Chi\, offering a balance of flowing Chi Kung exercises\, grounding Tai Chi movements\, and breath-focused restorative yoga poses. Designed for all experience levels\, the class features gentle stretches\, smooth transitions\, and concludes with a guided meditation. A limited number of yoga mats will be available; participants are encouraged to bring a yoga mat or blanket and water. Registration is required through IMLeagues. This class is free and hosted by Campus Recreation & Wellness. For more information\, contact recsports@su.edu. 
URL:https://www.su.edu/event/tai-yoga-w-amanda/2026-03-23/
LOCATION:Borden Student Associations Center\, Brandt Student Center Room 123\, 703 UNIVERSITY DR.\, Winchester\, VA\, 22601\, United States
CATEGORIES:Clubs & Organizations,Student Life
GEO:39.1673507;-78.1572448
X-APPLE-STRUCTURED-LOCATION;VALUE=URI;X-ADDRESS=Borden Student Associations Center Brandt Student Center Room 123 703 UNIVERSITY DR. Winchester VA 22601 United States;X-APPLE-RADIUS=500;X-TITLE=703 UNIVERSITY DR.:geo:-78.1572448,39.1673507
END:VEVENT
END:VCALENDAR