BEGIN:VCALENDAR
VERSION:2.0
PRODID:-//Shenandoah University - ECPv6.15.18//NONSGML v1.0//EN
CALSCALE:GREGORIAN
METHOD:PUBLISH
X-WR-CALNAME:Shenandoah University
X-ORIGINAL-URL:https://www.su.edu
X-WR-CALDESC:Events for Shenandoah University
REFRESH-INTERVAL;VALUE=DURATION:PT1H
X-Robots-Tag:noindex
X-PUBLISHED-TTL:PT1H
BEGIN:VTIMEZONE
TZID:America/New_York
BEGIN:DAYLIGHT
TZOFFSETFROM:-0500
TZOFFSETTO:-0400
TZNAME:EDT
DTSTART:20250309T070000
END:DAYLIGHT
BEGIN:STANDARD
TZOFFSETFROM:-0400
TZOFFSETTO:-0500
TZNAME:EST
DTSTART:20251102T060000
END:STANDARD
BEGIN:DAYLIGHT
TZOFFSETFROM:-0500
TZOFFSETTO:-0400
TZNAME:EDT
DTSTART:20260308T070000
END:DAYLIGHT
BEGIN:STANDARD
TZOFFSETFROM:-0400
TZOFFSETTO:-0500
TZNAME:EST
DTSTART:20261101T060000
END:STANDARD
BEGIN:DAYLIGHT
TZOFFSETFROM:-0500
TZOFFSETTO:-0400
TZNAME:EDT
DTSTART:20270314T070000
END:DAYLIGHT
BEGIN:STANDARD
TZOFFSETFROM:-0400
TZOFFSETTO:-0500
TZNAME:EST
DTSTART:20271107T060000
END:STANDARD
END:VTIMEZONE
BEGIN:VEVENT
DTSTART;TZID=America/New_York:20260327T190000
DTEND;TZID=America/New_York:20260327T213000
DTSTAMP:20260422T000928
CREATED:20260303T162146Z
LAST-MODIFIED:20260303T162148Z
UID:10003855-1774638000-1774647000@www.su.edu
SUMMARY:‘Jeopardy!’ with CAN
DESCRIPTION:Home » Clubs & Organizations\n\n\n\nAmerican Sign Language Club Movie Night\n\n\n\n\nCampus Activities Network invites students to test their knowledge during a “Jeopardy!”-inspired trivia night on Friday\, March 27\, in the Brandt Student Center\, Game Room\, from 7-9:30 p.m. Participants can compete solo or form teams to answer questions across various challenging categories. Attendees can win prizes and enjoy a lively evening of friendly competition. For more information\, contact can@su.edu.
URL:https://www.su.edu/event/jeopardy-with-can/
LOCATION:Game Room\, Brandt Student Center\, 703 UNIVERSITY DR.\, Winchester\, VA\, 22601
CATEGORIES:Clubs & Organizations,Student Life
GEO:39.1673226;-78.1573107
X-APPLE-STRUCTURED-LOCATION;VALUE=URI;X-ADDRESS=Game Room Brandt Student Center 703 UNIVERSITY DR. Winchester VA 22601;X-APPLE-RADIUS=500;X-TITLE=703 UNIVERSITY DR.:geo:-78.1573107,39.1673226
END:VEVENT
END:VCALENDAR