BEGIN:VCALENDAR
VERSION:2.0
PRODID:-//Shenandoah University - ECPv6.15.18//NONSGML v1.0//EN
CALSCALE:GREGORIAN
METHOD:PUBLISH
X-ORIGINAL-URL:https://www.su.edu
X-WR-CALDESC:Events for Shenandoah University
REFRESH-INTERVAL;VALUE=DURATION:PT1H
X-Robots-Tag:noindex
X-PUBLISHED-TTL:PT1H
BEGIN:VTIMEZONE
TZID:America/New_York
BEGIN:DAYLIGHT
TZOFFSETFROM:-0500
TZOFFSETTO:-0400
TZNAME:EDT
DTSTART:20250309T070000
END:DAYLIGHT
BEGIN:STANDARD
TZOFFSETFROM:-0400
TZOFFSETTO:-0500
TZNAME:EST
DTSTART:20251102T060000
END:STANDARD
BEGIN:DAYLIGHT
TZOFFSETFROM:-0500
TZOFFSETTO:-0400
TZNAME:EDT
DTSTART:20260308T070000
END:DAYLIGHT
BEGIN:STANDARD
TZOFFSETFROM:-0400
TZOFFSETTO:-0500
TZNAME:EST
DTSTART:20261101T060000
END:STANDARD
BEGIN:DAYLIGHT
TZOFFSETFROM:-0500
TZOFFSETTO:-0400
TZNAME:EDT
DTSTART:20270314T070000
END:DAYLIGHT
BEGIN:STANDARD
TZOFFSETFROM:-0400
TZOFFSETTO:-0500
TZNAME:EST
DTSTART:20271107T060000
END:STANDARD
END:VTIMEZONE
BEGIN:VEVENT
DTSTART;TZID=America/New_York:20260329T170000
DTEND;TZID=America/New_York:20260329T170000
DTSTAMP:20260421T223641
CREATED:20260325T163402Z
LAST-MODIFIED:20260325T163405Z
UID:10003920-1774803600-1774803600@www.su.edu
SUMMARY:Palm Sunday Catholic Mass
DESCRIPTION:Home » Clubs & Organizations\n\n\n\nAmerican Sign Language Club Movie Night\n\n\n\n\nThe Catholic Campus Ministry invites the university community to observe Palm Sunday on Sunday\, March 29\, at 5 p.m. in Goodson Chapel–Recital Hall. This mass offers an opportunity to prepare for the upcoming Holy Week and Easter season. Confessions will be available at 4:30 p.m.\, and a dinner fellowship will follow the mass at 6 p.m. in the chapel lobby. All students\, faculty and staff are welcome to attend\, regardless of religious background. For additional information\, please contact Mike Filamor at michael.filamor@su.edu. 
URL:https://www.su.edu/event/palm-sunday-catholic-mass/
LOCATION:Goodson Chapel / Recital Hall\, 1400 L. P. HILL DR.\, Winchester\, VA\, 22601\, United States
CATEGORIES:Clubs & Organizations,Spiritual Life,Student Life
GEO:39.1667245;-78.1562205
X-APPLE-STRUCTURED-LOCATION;VALUE=URI;X-ADDRESS=Goodson Chapel / Recital Hall 1400 L. P. HILL DR. Winchester VA 22601 United States;X-APPLE-RADIUS=500;X-TITLE=1400 L. P. HILL DR.:geo:-78.1562205,39.1667245
END:VEVENT
END:VCALENDAR