BEGIN:VCALENDAR
VERSION:2.0
PRODID:-//Shenandoah University - ECPv6.15.18//NONSGML v1.0//EN
CALSCALE:GREGORIAN
METHOD:PUBLISH
X-ORIGINAL-URL:https://www.su.edu
X-WR-CALDESC:Events for Shenandoah University
REFRESH-INTERVAL;VALUE=DURATION:PT1H
X-Robots-Tag:noindex
X-PUBLISHED-TTL:PT1H
BEGIN:VTIMEZONE
TZID:America/New_York
BEGIN:DAYLIGHT
TZOFFSETFROM:-0500
TZOFFSETTO:-0400
TZNAME:EDT
DTSTART:20250309T070000
END:DAYLIGHT
BEGIN:STANDARD
TZOFFSETFROM:-0400
TZOFFSETTO:-0500
TZNAME:EST
DTSTART:20251102T060000
END:STANDARD
BEGIN:DAYLIGHT
TZOFFSETFROM:-0500
TZOFFSETTO:-0400
TZNAME:EDT
DTSTART:20260308T070000
END:DAYLIGHT
BEGIN:STANDARD
TZOFFSETFROM:-0400
TZOFFSETTO:-0500
TZNAME:EST
DTSTART:20261101T060000
END:STANDARD
BEGIN:DAYLIGHT
TZOFFSETFROM:-0500
TZOFFSETTO:-0400
TZNAME:EDT
DTSTART:20270314T070000
END:DAYLIGHT
BEGIN:STANDARD
TZOFFSETFROM:-0400
TZOFFSETTO:-0500
TZNAME:EST
DTSTART:20271107T060000
END:STANDARD
END:VTIMEZONE
BEGIN:VEVENT
DTSTART;TZID=America/New_York:20260411T090000
DTEND;TZID=America/New_York:20260411T090000
DTSTAMP:20260421T223552
CREATED:20260227T192748Z
LAST-MODIFIED:20260227T192751Z
UID:10003847-1775898000-1775898000@www.su.edu
SUMMARY:Shenandoah University's Out of the Darkness Suicide Prevention Walk
DESCRIPTION:Home » Clubs & Organizations\n\n\n\nAmerican Sign Language Club Movie Night\n\n\n\n\nThe Shenandoah University Psychology Club and the American Foundation for Suicide Prevention (AFSP) host the annual Out of the Darkness campus walk on Saturday\, April 11\, in Sarah’s Glen. This community event aims to support mental health\, connect participants with resources and raise funds for suicide prevention research and training. In-person registration opens at 9 a.m.\, followed by an opening ceremony at 10 a.m. and the walk immediately after. The event is open to the public and is family-friendly; however\, only official service animals are permitted. Those interested in participating as individuals or teams can register and donate at afsp.org/su. For more information\, contact Kimberly Newberry at knewberr@su.edu. 
URL:https://www.su.edu/event/shenandoah-universitys-out-of-the-darkness-suicide-prevention-walk/
LOCATION:Sarah’s Glen\, 39.166521\, -78.158844\, Winchester\, VA\, 22601\, United States
CATEGORIES:Clubs & Organizations,Student Life
GEO:39.166521;-78.158844
X-APPLE-STRUCTURED-LOCATION;VALUE=URI;X-ADDRESS=Sarah’s Glen 39.166521 -78.158844 Winchester VA 22601 United States;X-APPLE-RADIUS=500;X-TITLE=39.166521\, -78.158844:geo:-78.158844,39.166521
END:VEVENT
BEGIN:VEVENT
DTSTART;TZID=America/New_York:20260411T120000
DTEND;TZID=America/New_York:20260411T140000
DTSTAMP:20260421T223552
CREATED:20260410T134416Z
LAST-MODIFIED:20260410T134420Z
UID:10003952-1775908800-1775916000@www.su.edu
SUMMARY:Volunteer at the Winchester Area SPCA
DESCRIPTION:Home » Clubs & Organizations\n\n\n\nAmerican Sign Language Club Movie Night\n\n\n\n\nSupport local animal welfare on Saturday\, April 11\, from noon-2 p.m. by volunteering with the Center for Civic Engagement at the Winchester Area SPCA (111 Featherbed Ln\, Winchester\, VA 22601). Participants will assist the shelter with various tasks\, including managing inventory and providing socialization for the animals through reading to dogs and spending time with cats. This hands-on opportunity allows students to give back to the community while supporting the well-being of shelter pets. Please register to participate via Helper Helper or contact Ines Guiton-Moreno at hom08@su.edu for more information.
URL:https://www.su.edu/event/volunteer-at-the-winchester-area-spca/
LOCATION:VA
CATEGORIES:Clubs & Organizations,Student Life
END:VEVENT
END:VCALENDAR