BEGIN:VCALENDAR
VERSION:2.0
PRODID:-//Shenandoah University - ECPv6.15.18//NONSGML v1.0//EN
CALSCALE:GREGORIAN
METHOD:PUBLISH
X-WR-CALNAME:Shenandoah University
X-ORIGINAL-URL:https://www.su.edu
X-WR-CALDESC:Events for Shenandoah University
REFRESH-INTERVAL;VALUE=DURATION:PT1H
X-Robots-Tag:noindex
X-PUBLISHED-TTL:PT1H
BEGIN:VTIMEZONE
TZID:America/New_York
BEGIN:DAYLIGHT
TZOFFSETFROM:-0500
TZOFFSETTO:-0400
TZNAME:EDT
DTSTART:20250309T070000
END:DAYLIGHT
BEGIN:STANDARD
TZOFFSETFROM:-0400
TZOFFSETTO:-0500
TZNAME:EST
DTSTART:20251102T060000
END:STANDARD
BEGIN:DAYLIGHT
TZOFFSETFROM:-0500
TZOFFSETTO:-0400
TZNAME:EDT
DTSTART:20260308T070000
END:DAYLIGHT
BEGIN:STANDARD
TZOFFSETFROM:-0400
TZOFFSETTO:-0500
TZNAME:EST
DTSTART:20261101T060000
END:STANDARD
BEGIN:DAYLIGHT
TZOFFSETFROM:-0500
TZOFFSETTO:-0400
TZNAME:EDT
DTSTART:20270314T070000
END:DAYLIGHT
BEGIN:STANDARD
TZOFFSETFROM:-0400
TZOFFSETTO:-0500
TZNAME:EST
DTSTART:20271107T060000
END:STANDARD
END:VTIMEZONE
BEGIN:VEVENT
DTSTART;TZID=America/New_York:20260413T180000
DTEND;TZID=America/New_York:20260413T190000
DTSTAMP:20260421T223539
CREATED:20260113T155827Z
LAST-MODIFIED:20260113T160259Z
UID:10003407-1776103200-1776106800@www.su.edu
SUMMARY:Tai Yoga w/ Amanda
DESCRIPTION:Home » Clubs & Organizations\n\n\n\nAmerican Sign Language Club Movie Night\n\n\n\n\nTai Yoga w/ Amanda is on Mondays from 6-7 p.m. in the Brandt Student Center\, Room 123 (Borden Student Associations Center\, aka B-SAC). This class blends martial and healing arts by combining Yoga and Tai Chi\, offering a balance of flowing Chi Kung exercises\, grounding Tai Chi movements\, and breath-focused restorative yoga poses. Designed for all experience levels\, the class features gentle stretches\, smooth transitions\, and concludes with a guided meditation. A limited number of yoga mats will be available; participants are encouraged to bring a yoga mat or blanket and water. Registration is required through IMLeagues. This class is free and hosted by Campus Recreation & Wellness. For more information\, contact recsports@su.edu. 
URL:https://www.su.edu/event/tai-yoga-w-amanda/2026-04-13/
LOCATION:Borden Student Associations Center\, Brandt Student Center Room 123\, 703 UNIVERSITY DR.\, Winchester\, VA\, 22601\, United States
CATEGORIES:Clubs & Organizations,Student Life
GEO:39.1673507;-78.1572448
X-APPLE-STRUCTURED-LOCATION;VALUE=URI;X-ADDRESS=Borden Student Associations Center Brandt Student Center Room 123 703 UNIVERSITY DR. Winchester VA 22601 United States;X-APPLE-RADIUS=500;X-TITLE=703 UNIVERSITY DR.:geo:-78.1572448,39.1673507
END:VEVENT
END:VCALENDAR