BEGIN:VCALENDAR
VERSION:2.0
PRODID:-//Shenandoah University - ECPv6.15.18//NONSGML v1.0//EN
CALSCALE:GREGORIAN
METHOD:PUBLISH
X-ORIGINAL-URL:https://www.su.edu
X-WR-CALDESC:Events for Shenandoah University
REFRESH-INTERVAL;VALUE=DURATION:PT1H
X-Robots-Tag:noindex
X-PUBLISHED-TTL:PT1H
BEGIN:VTIMEZONE
TZID:America/New_York
BEGIN:DAYLIGHT
TZOFFSETFROM:-0500
TZOFFSETTO:-0400
TZNAME:EDT
DTSTART:20250309T070000
END:DAYLIGHT
BEGIN:STANDARD
TZOFFSETFROM:-0400
TZOFFSETTO:-0500
TZNAME:EST
DTSTART:20251102T060000
END:STANDARD
BEGIN:DAYLIGHT
TZOFFSETFROM:-0500
TZOFFSETTO:-0400
TZNAME:EDT
DTSTART:20260308T070000
END:DAYLIGHT
BEGIN:STANDARD
TZOFFSETFROM:-0400
TZOFFSETTO:-0500
TZNAME:EST
DTSTART:20261101T060000
END:STANDARD
BEGIN:DAYLIGHT
TZOFFSETFROM:-0500
TZOFFSETTO:-0400
TZNAME:EDT
DTSTART:20270314T070000
END:DAYLIGHT
BEGIN:STANDARD
TZOFFSETFROM:-0400
TZOFFSETTO:-0500
TZNAME:EST
DTSTART:20271107T060000
END:STANDARD
END:VTIMEZONE
BEGIN:VEVENT
DTSTART;TZID=America/New_York:20260420T183000
DTEND;TZID=America/New_York:20260420T200000
DTSTAMP:20260421T193853
CREATED:20260416T154705Z
LAST-MODIFIED:20260416T154710Z
UID:10003982-1776709800-1776715200@www.su.edu
SUMMARY:Morgan's Message x The Hidden Opponent S'mores Night
DESCRIPTION:Home » Clubs & Organizations\n\n\n\nAmerican Sign Language Club Movie Night\n\n\n\n\nConnect with the campus community on Monday\, April 20\, from 6:30-8 p.m. at The Village fire pit for a S’mores Night hosted by Morgan’s Message and The Hidden Opponent. This free event provides all the necessary supplies for roasting marshmallows and crafting the perfect s’more. Students and student-athletes are encouraged to bring friends and teammates to relax and socialize as the sun sets on the academic year. It is a great opportunity to enjoy a cozy evening outdoors while supporting mental health awareness on campus. For more information\, please contact aoleksy21@su.edu. 
URL:https://www.su.edu/event/morgans-message-x-the-hidden-opponent-smores-night/
LOCATION:The Village\, 1460 University Drive\, Winchester\, VA\, 22601\, United States
CATEGORIES:Clubs & Organizations,Student Life
GEO:39.1660132;-78.1583626
X-APPLE-STRUCTURED-LOCATION;VALUE=URI;X-ADDRESS=The Village 1460 University Drive Winchester VA 22601 United States;X-APPLE-RADIUS=500;X-TITLE=1460 University Drive:geo:-78.1583626,39.1660132
END:VEVENT
END:VCALENDAR