BEGIN:VCALENDAR
VERSION:2.0
PRODID:-//Shenandoah University - ECPv6.15.18//NONSGML v1.0//EN
CALSCALE:GREGORIAN
METHOD:PUBLISH
X-WR-CALNAME:Shenandoah University
X-ORIGINAL-URL:https://www.su.edu
X-WR-CALDESC:Events for Shenandoah University
REFRESH-INTERVAL;VALUE=DURATION:PT1H
X-Robots-Tag:noindex
X-PUBLISHED-TTL:PT1H
BEGIN:VTIMEZONE
TZID:America/New_York
BEGIN:DAYLIGHT
TZOFFSETFROM:-0500
TZOFFSETTO:-0400
TZNAME:EDT
DTSTART:20250309T070000
END:DAYLIGHT
BEGIN:STANDARD
TZOFFSETFROM:-0400
TZOFFSETTO:-0500
TZNAME:EST
DTSTART:20251102T060000
END:STANDARD
BEGIN:DAYLIGHT
TZOFFSETFROM:-0500
TZOFFSETTO:-0400
TZNAME:EDT
DTSTART:20260308T070000
END:DAYLIGHT
BEGIN:STANDARD
TZOFFSETFROM:-0400
TZOFFSETTO:-0500
TZNAME:EST
DTSTART:20261101T060000
END:STANDARD
BEGIN:DAYLIGHT
TZOFFSETFROM:-0500
TZOFFSETTO:-0400
TZNAME:EDT
DTSTART:20270314T070000
END:DAYLIGHT
BEGIN:STANDARD
TZOFFSETFROM:-0400
TZOFFSETTO:-0500
TZNAME:EST
DTSTART:20271107T060000
END:STANDARD
END:VTIMEZONE
BEGIN:VEVENT
DTSTART;TZID=America/New_York:20260428T180000
DTEND;TZID=America/New_York:20260428T180000
DTSTAMP:20260421T223400
CREATED:20260407T134911Z
LAST-MODIFIED:20260407T134917Z
UID:10003947-1777399200-1777399200@www.su.edu
SUMMARY:Lavender Recognition Ceremony
DESCRIPTION:Home » Clubs & Organizations\n\n\n\nAmerican Sign Language Club Movie Night\n\n\n\n\nCelebrate the achievements and resilience of LGBTQ+ graduates on Tuesday\, April 28\, at 6 p.m. in the Pruitt Health and Life Sciences Building\, Halpin Rotunda as the university community gathers for the 3rd Annual Lavender Recognition Ceremony to honor student contributions and present commemorative Lavender Cords. This joyful tradition features a keynote speaker and light refreshments\, providing a dedicated space for graduating LGBTQ+ students and allies of all academic levels to mark this significant milestone. Graduates wishing to be recognized during the ceremony must submit their registration form by Friday\, April 24. This event is hosted by the Lavender Lounge. For more information or to ask specific questions\, please contact lavenderlounge@su.edu. 
URL:https://www.su.edu/event/lavender-recognition-ceremony/
LOCATION:Cecil Pruitt\, Jr. Health & Life Sciences Building\, WADE MILLER DR.\, Winchester\, VA\, United States
CATEGORIES:Clubs & Organizations,Diversity,Student Life
GEO:39.1645514;-78.1585658
X-APPLE-STRUCTURED-LOCATION;VALUE=URI;X-ADDRESS=Cecil Pruitt Jr. Health & Life Sciences Building WADE MILLER DR. Winchester VA United States;X-APPLE-RADIUS=500;X-TITLE=WADE MILLER DR.:geo:-78.1585658,39.1645514
END:VEVENT
BEGIN:VEVENT
DTSTART;TZID=America/New_York:20260428T180000
DTEND;TZID=America/New_York:20260428T190000
DTSTAMP:20260421T223400
CREATED:20260114T172252Z
LAST-MODIFIED:20260324T133657Z
UID:10003463-1777399200-1777402800@www.su.edu
SUMMARY:Sculpt w/ Leah
DESCRIPTION:Home » Clubs & Organizations\n\n\n\nAmerican Sign Language Club Movie Night\n\n\n\n\nSculpt w/ Leah is held Tuesdays from 6–7 p.m. in the Brandt Student Center\, Room 123 (Borden Student Associations Center\, aka B-SAC)\, beginning Jan. 20\, and continuing weekly through April 28. This yoga–Pilates fusion class focuses on mindful movement\, core strengthening and full-body sculpting and is open to all skill levels. Participants are encouraged to bring a yoga mat and water bottle; a limited number of mats will be available. The class is free\, and registration is required through IMLeagues. Sculpt w/ Leah is hosted by Campus Recreation & Wellness. For more information\, contact recsports@su.edu. 
URL:https://www.su.edu/event/sculpt-w-leah/2026-04-28/
LOCATION:Borden Student Associations Center\, Brandt Student Center Room 123\, 703 UNIVERSITY DR.\, Winchester\, VA\, 22601\, United States
CATEGORIES:Clubs & Organizations,Recreational & Intramural Sports,Student Life
GEO:39.1673507;-78.1572448
X-APPLE-STRUCTURED-LOCATION;VALUE=URI;X-ADDRESS=Borden Student Associations Center Brandt Student Center Room 123 703 UNIVERSITY DR. Winchester VA 22601 United States;X-APPLE-RADIUS=500;X-TITLE=703 UNIVERSITY DR.:geo:-78.1572448,39.1673507
END:VEVENT
BEGIN:VEVENT
DTSTART;TZID=America/New_York:20260428T190000
DTEND;TZID=America/New_York:20260428T194500
DTSTAMP:20260421T223400
CREATED:20260414T152226Z
LAST-MODIFIED:20260414T152229Z
UID:10003972-1777402800-1777405500@www.su.edu
SUMMARY:Apple Blossom Safety Talks with Residence Life
DESCRIPTION:Home » Clubs & Organizations\n\n\n\nAmerican Sign Language Club Movie Night\n\n\n\n\nPrepare for a safe and successful bloom weekend on Tuesday\, April 28\, or Wednesday\, April 29\, by attending an Apple Blossom Safety Talk at 7 p.m. or 7:45 p.m. in the Brandt Student Center\, Ferrari Room. These brief sessions offer practical tips on making smart choices and looking out for friends during the upcoming festivities. This event is hosted by Residence Life. For more information\, please contact reslife@su.edu. 
URL:https://www.su.edu/event/apple-blossom-safety-talks-with-residence-life/2026-04-28/
LOCATION:Ferrari Room\, Brandt Student Center\, 703 UNIVERSITY DR.\, Winchester\, VA\, 22601\, United States
CATEGORIES:Clubs & Organizations,Student Life
GEO:39.1673507;-78.1572448
X-APPLE-STRUCTURED-LOCATION;VALUE=URI;X-ADDRESS=Ferrari Room Brandt Student Center 703 UNIVERSITY DR. Winchester VA 22601 United States;X-APPLE-RADIUS=500;X-TITLE=703 UNIVERSITY DR.:geo:-78.1572448,39.1673507
END:VEVENT
END:VCALENDAR