BEGIN:VCALENDAR
VERSION:2.0
PRODID:-//Shenandoah University - ECPv6.15.18//NONSGML v1.0//EN
CALSCALE:GREGORIAN
METHOD:PUBLISH
X-WR-CALNAME:Shenandoah University
X-ORIGINAL-URL:https://www.su.edu
X-WR-CALDESC:Events for Shenandoah University
REFRESH-INTERVAL;VALUE=DURATION:PT1H
X-Robots-Tag:noindex
X-PUBLISHED-TTL:PT1H
BEGIN:VTIMEZONE
TZID:America/New_York
BEGIN:DAYLIGHT
TZOFFSETFROM:-0500
TZOFFSETTO:-0400
TZNAME:EDT
DTSTART:20250309T070000
END:DAYLIGHT
BEGIN:STANDARD
TZOFFSETFROM:-0400
TZOFFSETTO:-0500
TZNAME:EST
DTSTART:20251102T060000
END:STANDARD
BEGIN:DAYLIGHT
TZOFFSETFROM:-0500
TZOFFSETTO:-0400
TZNAME:EDT
DTSTART:20260308T070000
END:DAYLIGHT
BEGIN:STANDARD
TZOFFSETFROM:-0400
TZOFFSETTO:-0500
TZNAME:EST
DTSTART:20261101T060000
END:STANDARD
BEGIN:DAYLIGHT
TZOFFSETFROM:-0500
TZOFFSETTO:-0400
TZNAME:EDT
DTSTART:20270314T070000
END:DAYLIGHT
BEGIN:STANDARD
TZOFFSETFROM:-0400
TZOFFSETTO:-0500
TZNAME:EST
DTSTART:20271107T060000
END:STANDARD
END:VTIMEZONE
BEGIN:VEVENT
DTSTART;TZID=America/New_York:20260430T170000
DTEND;TZID=America/New_York:20260430T170000
DTSTAMP:20260421T223434
CREATED:20260414T152352Z
LAST-MODIFIED:20260414T152355Z
UID:10003974-1777568400-1777568400@www.su.edu
SUMMARY:CAN’s Blossom Bash Tie Dye & Bites of Bloom
DESCRIPTION:Home » Clubs & Organizations\n\n\n\nAmerican Sign Language Club Movie Night\n\n\n\n\nKick off the weekend festivities on Thursday\, April 30\, at 5 p.m. at the Allen Dining Hall and Quad by joining the Blossom Bash to enjoy some local snacks and customize a free\, limited-edition T-shirt at the tie-dye station. Gather and celebrate the spring season with some creative flair before the bloom weekend begins. Supplies are limited and available on a first-come\, first-served basis. This event is hosted by the Campus Activities Network and Shenandoah Home. For more information\, please contact can@su.edu.
URL:https://www.su.edu/event/cans-blossom-bash-tie-dye-bites-of-bloom/
LOCATION:Allen Dining Hall\, 730 WADE MILLER DR.\, Winchester\, VA\, 22601\, United States
CATEGORIES:Clubs & Organizations,Student Life
GEO:39.1644933;-78.1580011
X-APPLE-STRUCTURED-LOCATION;VALUE=URI;X-ADDRESS=Allen Dining Hall 730 WADE MILLER DR. Winchester VA 22601 United States;X-APPLE-RADIUS=500;X-TITLE=730 WADE MILLER DR.:geo:-78.1580011,39.1644933
END:VEVENT
END:VCALENDAR