BEGIN:VCALENDAR
VERSION:2.0
PRODID:-//Shenandoah University - ECPv6.15.18//NONSGML v1.0//EN
CALSCALE:GREGORIAN
METHOD:PUBLISH
X-WR-CALNAME:Shenandoah University
X-ORIGINAL-URL:https://www.su.edu
X-WR-CALDESC:Events for Shenandoah University
REFRESH-INTERVAL;VALUE=DURATION:PT1H
X-Robots-Tag:noindex
X-PUBLISHED-TTL:PT1H
BEGIN:VTIMEZONE
TZID:America/New_York
BEGIN:DAYLIGHT
TZOFFSETFROM:-0500
TZOFFSETTO:-0400
TZNAME:EDT
DTSTART:20250309T070000
END:DAYLIGHT
BEGIN:STANDARD
TZOFFSETFROM:-0400
TZOFFSETTO:-0500
TZNAME:EST
DTSTART:20251102T060000
END:STANDARD
BEGIN:DAYLIGHT
TZOFFSETFROM:-0500
TZOFFSETTO:-0400
TZNAME:EDT
DTSTART:20260308T070000
END:DAYLIGHT
BEGIN:STANDARD
TZOFFSETFROM:-0400
TZOFFSETTO:-0500
TZNAME:EST
DTSTART:20261101T060000
END:STANDARD
BEGIN:DAYLIGHT
TZOFFSETFROM:-0500
TZOFFSETTO:-0400
TZNAME:EDT
DTSTART:20270314T070000
END:DAYLIGHT
BEGIN:STANDARD
TZOFFSETFROM:-0400
TZOFFSETTO:-0500
TZNAME:EST
DTSTART:20271107T060000
END:STANDARD
END:VTIMEZONE
BEGIN:VEVENT
DTSTART;TZID=America/New_York:20260421T153000
DTEND;TZID=America/New_York:20260421T173000
DTSTAMP:20260421T175825
CREATED:20260416T153521Z
LAST-MODIFIED:20260416T153524Z
UID:10003979-1776785400-1776792600@www.su.edu
SUMMARY:Virginia Special Election Table
DESCRIPTION:Home » Clubs & Organizations\n\n\n\nAmerican Sign Language Club Movie Night\n\n\n\n\nStay informed about local democracy on Tuesday\, April 21\, by visiting the Center for Civic Engagement’s information table in the Brandt Student Center. Throughout the day\, representatives will be available to discuss the redistricting constitutional amendment featured on Virginia’s special election ballot. This proposed amendment addresses whether the General Assembly should be granted temporary authority to adopt new congressional districts prior to the 2030 census. To ensure all eligible students can cast their votes\, the center is providing free transportation to the Jim Barnett Park polling place from 3:30-5:30 p.m. Those interested in catching a ride must sign up in advance via the online registration form. For more information\, please contact vote@su.edu. 
URL:https://www.su.edu/event/virginia-special-election-table/
LOCATION:Brandt Student Center\, 1460 University Drive\, Winchester\, VA\, 22601\, United States
CATEGORIES:Clubs & Organizations,Student Life
GEO:39.1673226;-78.1573107
X-APPLE-STRUCTURED-LOCATION;VALUE=URI;X-ADDRESS=Brandt Student Center 1460 University Drive Winchester VA 22601 United States;X-APPLE-RADIUS=500;X-TITLE=1460 University Drive:geo:-78.1573107,39.1673226
END:VEVENT
BEGIN:VEVENT
DTSTART;TZID=America/New_York:20260421T180000
DTEND;TZID=America/New_York:20260421T190000
DTSTAMP:20260421T175825
CREATED:20260114T172252Z
LAST-MODIFIED:20260324T133657Z
UID:10003462-1776794400-1776798000@www.su.edu
SUMMARY:Sculpt w/ Leah
DESCRIPTION:Home » Clubs & Organizations\n\n\n\nAmerican Sign Language Club Movie Night\n\n\n\n\nSculpt w/ Leah is held Tuesdays from 6–7 p.m. in the Brandt Student Center\, Room 123 (Borden Student Associations Center\, aka B-SAC)\, beginning Jan. 20\, and continuing weekly through April 28. This yoga–Pilates fusion class focuses on mindful movement\, core strengthening and full-body sculpting and is open to all skill levels. Participants are encouraged to bring a yoga mat and water bottle; a limited number of mats will be available. The class is free\, and registration is required through IMLeagues. Sculpt w/ Leah is hosted by Campus Recreation & Wellness. For more information\, contact recsports@su.edu. 
URL:https://www.su.edu/event/sculpt-w-leah/2026-04-21/
LOCATION:Borden Student Associations Center\, Brandt Student Center Room 123\, 703 UNIVERSITY DR.\, Winchester\, VA\, 22601\, United States
CATEGORIES:Clubs & Organizations,Recreational & Intramural Sports,Student Life
GEO:39.1673507;-78.1572448
X-APPLE-STRUCTURED-LOCATION;VALUE=URI;X-ADDRESS=Borden Student Associations Center Brandt Student Center Room 123 703 UNIVERSITY DR. Winchester VA 22601 United States;X-APPLE-RADIUS=500;X-TITLE=703 UNIVERSITY DR.:geo:-78.1572448,39.1673507
END:VEVENT
END:VCALENDAR