BEGIN:VCALENDAR
VERSION:2.0
PRODID:-//Shenandoah University - ECPv6.15.18//NONSGML v1.0//EN
CALSCALE:GREGORIAN
METHOD:PUBLISH
X-ORIGINAL-URL:https://www.su.edu
X-WR-CALDESC:Events for Shenandoah University
REFRESH-INTERVAL;VALUE=DURATION:PT1H
X-Robots-Tag:noindex
X-PUBLISHED-TTL:PT1H
BEGIN:VTIMEZONE
TZID:America/New_York
BEGIN:DAYLIGHT
TZOFFSETFROM:-0500
TZOFFSETTO:-0400
TZNAME:EDT
DTSTART:20250309T070000
END:DAYLIGHT
BEGIN:STANDARD
TZOFFSETFROM:-0400
TZOFFSETTO:-0500
TZNAME:EST
DTSTART:20251102T060000
END:STANDARD
BEGIN:DAYLIGHT
TZOFFSETFROM:-0500
TZOFFSETTO:-0400
TZNAME:EDT
DTSTART:20260308T070000
END:DAYLIGHT
BEGIN:STANDARD
TZOFFSETFROM:-0400
TZOFFSETTO:-0500
TZNAME:EST
DTSTART:20261101T060000
END:STANDARD
BEGIN:DAYLIGHT
TZOFFSETFROM:-0500
TZOFFSETTO:-0400
TZNAME:EDT
DTSTART:20270314T070000
END:DAYLIGHT
BEGIN:STANDARD
TZOFFSETFROM:-0400
TZOFFSETTO:-0500
TZNAME:EST
DTSTART:20271107T060000
END:STANDARD
END:VTIMEZONE
BEGIN:VEVENT
DTSTART;TZID=America/New_York:20260322T170000
DTEND;TZID=America/New_York:20260322T183000
DTSTAMP:20260422T042646
CREATED:20260305T201638Z
LAST-MODIFIED:20260305T201641Z
UID:10003864-1774198800-1774204200@www.su.edu
SUMMARY:Ostara: The Spring Equinox
DESCRIPTION:Home » Spiritual Life\n\n\n\n\n\n\n\n\nThe Sacred Grove and the Office of Spiritual Life invite the university community to celebrate Ostara: The Spring Equinox on Sunday\, March 22. Taking place from 5-6:30 p.m. in the Village common room\, this gathering marks the beginning of spring and the return of longer days. Participants can enjoy fresh baked treats while painting rocks to symbolize eggs and crafting origami flowers. For more information\, contact Clint Keller at clinton.keller@su.edu or Ashley Simmons at ashley.simmons@su.edu. 
URL:https://www.su.edu/event/ostara-the-spring-equinox-2/
LOCATION:The Village\, 1460 University Drive\, Winchester\, VA\, 22601\, United States
CATEGORIES:Spiritual Life,Student Life
GEO:39.1660132;-78.1583626
X-APPLE-STRUCTURED-LOCATION;VALUE=URI;X-ADDRESS=The Village 1460 University Drive Winchester VA 22601 United States;X-APPLE-RADIUS=500;X-TITLE=1460 University Drive:geo:-78.1583626,39.1660132
END:VEVENT
BEGIN:VEVENT
DTSTART;TZID=America/New_York:20260322T200000
DTEND;TZID=America/New_York:20260322T210000
DTSTAMP:20260422T042646
CREATED:20260115T211524Z
LAST-MODIFIED:20260115T211526Z
UID:10003492-1774209600-1774213200@www.su.edu
SUMMARY:Sunday Night: Live
DESCRIPTION:Home » Spiritual Life\n\n\n\n\n\n\n\n\nThe Office of Spiritual Life invites students and staff to attend Sunday Night: Live\, a weekly ecumenical Christian worship service held on Sundays from 8-9 p.m. in Goodson Chapel-Recital Hall. All Shenandoah University students and staff are welcome to participate in worship and community each week throughout the semester. For more information\, contact DeLyn Celec at delyn.celec@su.edu. 
URL:https://www.su.edu/event/sunday-night-live/2026-03-22/
LOCATION:Goodson Chapel / Recital Hall\, 1400 L. P. HILL DR.\, Winchester\, VA\, 22601\, United States
CATEGORIES:Spiritual Life,Student Life
GEO:39.1667245;-78.1562205
X-APPLE-STRUCTURED-LOCATION;VALUE=URI;X-ADDRESS=Goodson Chapel / Recital Hall 1400 L. P. HILL DR. Winchester VA 22601 United States;X-APPLE-RADIUS=500;X-TITLE=1400 L. P. HILL DR.:geo:-78.1562205,39.1667245
END:VEVENT
END:VCALENDAR