BEGIN:VCALENDAR
VERSION:2.0
PRODID:-//Shenandoah University - ECPv6.15.18//NONSGML v1.0//EN
CALSCALE:GREGORIAN
METHOD:PUBLISH
X-WR-CALNAME:Shenandoah University
X-ORIGINAL-URL:https://www.su.edu
X-WR-CALDESC:Events for Shenandoah University
REFRESH-INTERVAL;VALUE=DURATION:PT1H
X-Robots-Tag:noindex
X-PUBLISHED-TTL:PT1H
BEGIN:VTIMEZONE
TZID:America/New_York
BEGIN:DAYLIGHT
TZOFFSETFROM:-0500
TZOFFSETTO:-0400
TZNAME:EDT
DTSTART:20250309T070000
END:DAYLIGHT
BEGIN:STANDARD
TZOFFSETFROM:-0400
TZOFFSETTO:-0500
TZNAME:EST
DTSTART:20251102T060000
END:STANDARD
BEGIN:DAYLIGHT
TZOFFSETFROM:-0500
TZOFFSETTO:-0400
TZNAME:EDT
DTSTART:20260308T070000
END:DAYLIGHT
BEGIN:STANDARD
TZOFFSETFROM:-0400
TZOFFSETTO:-0500
TZNAME:EST
DTSTART:20261101T060000
END:STANDARD
BEGIN:DAYLIGHT
TZOFFSETFROM:-0500
TZOFFSETTO:-0400
TZNAME:EDT
DTSTART:20270314T070000
END:DAYLIGHT
BEGIN:STANDARD
TZOFFSETFROM:-0400
TZOFFSETTO:-0500
TZNAME:EST
DTSTART:20271107T060000
END:STANDARD
END:VTIMEZONE
BEGIN:VEVENT
DTSTART;TZID=America/New_York:20260326T190000
DTEND;TZID=America/New_York:20260326T210000
DTSTAMP:20260422T041715
CREATED:20260325T163255Z
LAST-MODIFIED:20260325T163258Z
UID:10003919-1774551600-1774558800@www.su.edu
SUMMARY:Bowling with Catholic Campus Ministry
DESCRIPTION:Home » Spiritual Life\n\n\n\n\n\n\n\n\nJoin Catholic Campus Ministry for a fun night of bowling on Thursday\, March 26\, from 7-9 p.m. at Northside Lanes (6 Richards Ave\, Winchester\, VA 22601). All students are invited to participate\, with free games and shoe rentals provided. While transportation is not officially provided\, carpooling is available. Interested participants should register using this Google Form to assist with lane reservations and carpooling coordination. For questions\, contact Mike Filamor at michael.filamor@su.edu or the Catholic Campus Ministry at shenandoahccm@gmail.com. 
URL:https://www.su.edu/event/bowling-with-catholic-campus-ministry/
LOCATION:VA
CATEGORIES:Clubs & Organizations,Spiritual Life,Student Life
END:VEVENT
END:VCALENDAR