BEGIN:VCALENDAR
VERSION:2.0
PRODID:-//Shenandoah University - ECPv6.15.18//NONSGML v1.0//EN
CALSCALE:GREGORIAN
METHOD:PUBLISH
X-WR-CALNAME:Shenandoah University
X-ORIGINAL-URL:https://www.su.edu
X-WR-CALDESC:Events for Shenandoah University
REFRESH-INTERVAL;VALUE=DURATION:PT1H
X-Robots-Tag:noindex
X-PUBLISHED-TTL:PT1H
BEGIN:VTIMEZONE
TZID:America/New_York
BEGIN:DAYLIGHT
TZOFFSETFROM:-0500
TZOFFSETTO:-0400
TZNAME:EDT
DTSTART:20250309T070000
END:DAYLIGHT
BEGIN:STANDARD
TZOFFSETFROM:-0400
TZOFFSETTO:-0500
TZNAME:EST
DTSTART:20251102T060000
END:STANDARD
BEGIN:DAYLIGHT
TZOFFSETFROM:-0500
TZOFFSETTO:-0400
TZNAME:EDT
DTSTART:20260308T070000
END:DAYLIGHT
BEGIN:STANDARD
TZOFFSETFROM:-0400
TZOFFSETTO:-0500
TZNAME:EST
DTSTART:20261101T060000
END:STANDARD
BEGIN:DAYLIGHT
TZOFFSETFROM:-0500
TZOFFSETTO:-0400
TZNAME:EDT
DTSTART:20270314T070000
END:DAYLIGHT
BEGIN:STANDARD
TZOFFSETFROM:-0400
TZOFFSETTO:-0500
TZNAME:EST
DTSTART:20271107T060000
END:STANDARD
END:VTIMEZONE
BEGIN:VEVENT
DTSTART;TZID=America/New_York:20260407T181500
DTEND;TZID=America/New_York:20260407T191500
DTSTAMP:20260422T060034
CREATED:20260115T212847Z
LAST-MODIFIED:20260115T212850Z
UID:10003525-1775585700-1775589300@www.su.edu
SUMMARY:Tuesday Eucharistic Adoration
DESCRIPTION:Home » Spiritual Life » Page 2\n\n\n\nSU Men’s Ministry Meeting\n\n\n\n\nCatholic Campus Ministry invites students to join Tuesday Eucharistic Adoration from 6:15–7:15 p.m. in The Village\, Common Room\, for a time of quiet prayer and worship. Eucharistic Adoration is an opportunity to pray in the presence of Jesus in the consecrated host\, displayed in the monstrance. All faiths are welcome to attend and spend time in reflection\, prayer or silence. Questions may be directed to Mike Filamor at shenandoahccm@gmail.com. 
URL:https://www.su.edu/event/tuesday-eucharistic-adoration-4/2026-04-07/
LOCATION:The Village\, 1460 University Drive\, Winchester\, VA\, 22601\, United States
CATEGORIES:Spiritual Life,Student Life
GEO:39.1660132;-78.1583626
X-APPLE-STRUCTURED-LOCATION;VALUE=URI;X-ADDRESS=The Village 1460 University Drive Winchester VA 22601 United States;X-APPLE-RADIUS=500;X-TITLE=1460 University Drive:geo:-78.1583626,39.1660132
END:VEVENT
BEGIN:VEVENT
DTSTART;TZID=America/New_York:20260407T200000
DTEND;TZID=America/New_York:20260407T210000
DTSTAMP:20260422T060034
CREATED:20260121T145240Z
LAST-MODIFIED:20260330T145928Z
UID:10003569-1775592000-1775595600@www.su.edu
SUMMARY:SU Men's Ministry Meeting
DESCRIPTION:Home » Spiritual Life » Page 2\n\n\n\nSU Men’s Ministry Meeting\n\n\n\n\nThe SU Men’s Ministry hosts weekly meetings for any man at the university on Tuesdays from 8-9 p.m. in Halpin-Harrison Hall\, Room 146. Meetings include Bible study\, prayer\, and fellowship\, and will not meet during spring break (March 10). The last meeting of the semester is April 28. For more information\, contact Brodie Meyers at kxo65@su.edu. 
URL:https://www.su.edu/event/su-mens-ministry-meeting/2026-04-07/
LOCATION:Halpin-Harrison Hall\, 600 MILLWOOD AVE.\, Winchester\, VA\, 22601\, United States
CATEGORIES:Spiritual Life,Student Life
GEO:39.1678627;-78.1622328
X-APPLE-STRUCTURED-LOCATION;VALUE=URI;X-ADDRESS=Halpin-Harrison Hall 600 MILLWOOD AVE. Winchester VA 22601 United States;X-APPLE-RADIUS=500;X-TITLE=600 MILLWOOD AVE.:geo:-78.1622328,39.1678627
END:VEVENT
BEGIN:VEVENT
DTSTART;TZID=America/New_York:20260412T200000
DTEND;TZID=America/New_York:20260412T210000
DTSTAMP:20260422T060034
CREATED:20260115T211524Z
LAST-MODIFIED:20260115T211526Z
UID:10003495-1776024000-1776027600@www.su.edu
SUMMARY:Sunday Night: Live
DESCRIPTION:Home » Spiritual Life » Page 2\n\n\n\nSU Men’s Ministry Meeting\n\n\n\n\nThe Office of Spiritual Life invites students and staff to attend Sunday Night: Live\, a weekly ecumenical Christian worship service held on Sundays from 8-9 p.m. in Goodson Chapel-Recital Hall. All Shenandoah University students and staff are welcome to participate in worship and community each week throughout the semester. For more information\, contact DeLyn Celec at delyn.celec@su.edu. 
URL:https://www.su.edu/event/sunday-night-live/2026-04-12/
LOCATION:Goodson Chapel / Recital Hall\, 1400 L. P. HILL DR.\, Winchester\, VA\, 22601\, United States
CATEGORIES:Spiritual Life,Student Life
GEO:39.1667245;-78.1562205
X-APPLE-STRUCTURED-LOCATION;VALUE=URI;X-ADDRESS=Goodson Chapel / Recital Hall 1400 L. P. HILL DR. Winchester VA 22601 United States;X-APPLE-RADIUS=500;X-TITLE=1400 L. P. HILL DR.:geo:-78.1562205,39.1667245
END:VEVENT
BEGIN:VEVENT
DTSTART;TZID=America/New_York:20260414T200000
DTEND;TZID=America/New_York:20260414T210000
DTSTAMP:20260422T060034
CREATED:20260121T145240Z
LAST-MODIFIED:20260330T145928Z
UID:10003570-1776196800-1776200400@www.su.edu
SUMMARY:SU Men's Ministry Meeting
DESCRIPTION:Home » Spiritual Life » Page 2\n\n\n\nSU Men’s Ministry Meeting\n\n\n\n\nThe SU Men’s Ministry hosts weekly meetings for any man at the university on Tuesdays from 8-9 p.m. in Halpin-Harrison Hall\, Room 146. Meetings include Bible study\, prayer\, and fellowship\, and will not meet during spring break (March 10). The last meeting of the semester is April 28. For more information\, contact Brodie Meyers at kxo65@su.edu. 
URL:https://www.su.edu/event/su-mens-ministry-meeting/2026-04-14/
LOCATION:Halpin-Harrison Hall\, 600 MILLWOOD AVE.\, Winchester\, VA\, 22601\, United States
CATEGORIES:Spiritual Life,Student Life
GEO:39.1678627;-78.1622328
X-APPLE-STRUCTURED-LOCATION;VALUE=URI;X-ADDRESS=Halpin-Harrison Hall 600 MILLWOOD AVE. Winchester VA 22601 United States;X-APPLE-RADIUS=500;X-TITLE=600 MILLWOOD AVE.:geo:-78.1622328,39.1678627
END:VEVENT
BEGIN:VEVENT
DTSTART;TZID=America/New_York:20260419T181500
DTEND;TZID=America/New_York:20260419T194500
DTSTAMP:20260422T060034
CREATED:20260416T153401Z
LAST-MODIFIED:20260416T153405Z
UID:10003978-1776622500-1776627900@www.su.edu
SUMMARY:
DESCRIPTION:Home » Spiritual Life » Page 2\n\n\n\n\nBishop’s Mass & Catholic Campus Ministry Banquet \n\n\n\n\n\nExperience a milestone for the university on Sunday\, April 19\, as Bishop Michael Burbidge of the Catholic Diocese of Arlington visits campus\, marking the first visit by a bishop of the diocese in Shenandoah University’s history. The evening begins at 5 p.m. in Goodson Chapel-Recital Hall with a celebrated Mass\, followed by the Catholic Campus Ministry (CCM) End-of-Year Banquet held outdoors in front of the chapel from 6:15-7:45 p.m. All students\, faculty\, and staff\, regardless of faith background are warmly invited to attend and meet the bishop\, who has expressed a particular interest in connecting with the young people of SU. The banquet will feature dinner catered by Mission BBQ. The preferred dress code is dressy casual. While RSVPs are not required\, they are strongly encouraged to assist with catering and logistics; please register via Evite and indicate if you plan to attend the Mass\, the banquet\, or both. This event is hosted by Catholic Campus Ministry (CCM). For questions\, please contact Mike Filamor at shenandoahccm@gmail.com. 
URL:https://www.su.edu/event/45969/
LOCATION:Goodson Chapel / Recital Hall\, 1400 L. P. HILL DR.\, Winchester\, VA\, 22601\, United States
CATEGORIES:Spiritual Life,Student Life
GEO:39.1667245;-78.1562205
X-APPLE-STRUCTURED-LOCATION;VALUE=URI;X-ADDRESS=Goodson Chapel / Recital Hall 1400 L. P. HILL DR. Winchester VA 22601 United States;X-APPLE-RADIUS=500;X-TITLE=1400 L. P. HILL DR.:geo:-78.1562205,39.1667245
END:VEVENT
BEGIN:VEVENT
DTSTART;TZID=America/New_York:20260419T183000
DTEND;TZID=America/New_York:20260419T210000
DTSTAMP:20260422T060034
CREATED:20260408T203903Z
LAST-MODIFIED:20260408T203906Z
UID:10003949-1776623400-1776632400@www.su.edu
SUMMARY:Beltane Celebration
DESCRIPTION:Home » Spiritual Life » Page 2\n\n\n\nSU Men’s Ministry Meeting\n\n\n\n\nEnjoy a cozy spring evening on Sunday\, April 19\, from 6:30- 9 p.m. at The Village firepit during the Beltane “bright fire” gathering. This seasonal celebration invites the campus community to enjoy s’mores by the fire\, wildflower crown crafting\, and music. Participants can also take part in the traditional dancing around a mini maypole to mark the changing of the seasons. It is a unique opportunity to connect with nature and fellow students in a relaxed\, outdoor setting. This event is hosted by The Sacred Grove and the Office of Spiritual Life. For more information\, please contact Clint Keller at clinton.keller@su.edu or Ashley Simmons at ashley.simmons@su.edu.
URL:https://www.su.edu/event/beltane-celebration/
LOCATION:The Village\, 1460 University Drive\, Winchester\, VA\, 22601\, United States
CATEGORIES:Clubs & Organizations,Spiritual Life,Student Life
GEO:39.1660132;-78.1583626
X-APPLE-STRUCTURED-LOCATION;VALUE=URI;X-ADDRESS=The Village 1460 University Drive Winchester VA 22601 United States;X-APPLE-RADIUS=500;X-TITLE=1460 University Drive:geo:-78.1583626,39.1660132
END:VEVENT
BEGIN:VEVENT
DTSTART;TZID=America/New_York:20260419T200000
DTEND;TZID=America/New_York:20260419T210000
DTSTAMP:20260422T060034
CREATED:20260115T211524Z
LAST-MODIFIED:20260115T211526Z
UID:10003496-1776628800-1776632400@www.su.edu
SUMMARY:Sunday Night: Live
DESCRIPTION:Home » Spiritual Life » Page 2\n\n\n\nSU Men’s Ministry Meeting\n\n\n\n\nThe Office of Spiritual Life invites students and staff to attend Sunday Night: Live\, a weekly ecumenical Christian worship service held on Sundays from 8-9 p.m. in Goodson Chapel-Recital Hall. All Shenandoah University students and staff are welcome to participate in worship and community each week throughout the semester. For more information\, contact DeLyn Celec at delyn.celec@su.edu. 
URL:https://www.su.edu/event/sunday-night-live/2026-04-19/
LOCATION:Goodson Chapel / Recital Hall\, 1400 L. P. HILL DR.\, Winchester\, VA\, 22601\, United States
CATEGORIES:Spiritual Life,Student Life
GEO:39.1667245;-78.1562205
X-APPLE-STRUCTURED-LOCATION;VALUE=URI;X-ADDRESS=Goodson Chapel / Recital Hall 1400 L. P. HILL DR. Winchester VA 22601 United States;X-APPLE-RADIUS=500;X-TITLE=1400 L. P. HILL DR.:geo:-78.1562205,39.1667245
END:VEVENT
BEGIN:VEVENT
DTSTART;TZID=America/New_York:20260421T181500
DTEND;TZID=America/New_York:20260421T191500
DTSTAMP:20260422T060034
CREATED:20260115T212847Z
LAST-MODIFIED:20260115T212850Z
UID:10003526-1776795300-1776798900@www.su.edu
SUMMARY:Tuesday Eucharistic Adoration
DESCRIPTION:Home » Spiritual Life » Page 2\n\n\n\nSU Men’s Ministry Meeting\n\n\n\n\nCatholic Campus Ministry invites students to join Tuesday Eucharistic Adoration from 6:15–7:15 p.m. in The Village\, Common Room\, for a time of quiet prayer and worship. Eucharistic Adoration is an opportunity to pray in the presence of Jesus in the consecrated host\, displayed in the monstrance. All faiths are welcome to attend and spend time in reflection\, prayer or silence. Questions may be directed to Mike Filamor at shenandoahccm@gmail.com. 
URL:https://www.su.edu/event/tuesday-eucharistic-adoration-4/2026-04-21/
LOCATION:The Village\, 1460 University Drive\, Winchester\, VA\, 22601\, United States
CATEGORIES:Spiritual Life,Student Life
GEO:39.1660132;-78.1583626
X-APPLE-STRUCTURED-LOCATION;VALUE=URI;X-ADDRESS=The Village 1460 University Drive Winchester VA 22601 United States;X-APPLE-RADIUS=500;X-TITLE=1460 University Drive:geo:-78.1583626,39.1660132
END:VEVENT
BEGIN:VEVENT
DTSTART;TZID=America/New_York:20260421T200000
DTEND;TZID=America/New_York:20260421T210000
DTSTAMP:20260422T060034
CREATED:20260121T145240Z
LAST-MODIFIED:20260330T145928Z
UID:10003571-1776801600-1776805200@www.su.edu
SUMMARY:SU Men's Ministry Meeting
DESCRIPTION:Home » Spiritual Life » Page 2\n\n\n\nSU Men’s Ministry Meeting\n\n\n\n\nThe SU Men’s Ministry hosts weekly meetings for any man at the university on Tuesdays from 8-9 p.m. in Halpin-Harrison Hall\, Room 146. Meetings include Bible study\, prayer\, and fellowship\, and will not meet during spring break (March 10). The last meeting of the semester is April 28. For more information\, contact Brodie Meyers at kxo65@su.edu. 
URL:https://www.su.edu/event/su-mens-ministry-meeting/2026-04-21/
LOCATION:Halpin-Harrison Hall\, 600 MILLWOOD AVE.\, Winchester\, VA\, 22601\, United States
CATEGORIES:Spiritual Life,Student Life
GEO:39.1678627;-78.1622328
X-APPLE-STRUCTURED-LOCATION;VALUE=URI;X-ADDRESS=Halpin-Harrison Hall 600 MILLWOOD AVE. Winchester VA 22601 United States;X-APPLE-RADIUS=500;X-TITLE=600 MILLWOOD AVE.:geo:-78.1622328,39.1678627
END:VEVENT
BEGIN:VEVENT
DTSTART;TZID=America/New_York:20260426T200000
DTEND;TZID=America/New_York:20260426T210000
DTSTAMP:20260422T060034
CREATED:20260115T211524Z
LAST-MODIFIED:20260115T211526Z
UID:10003497-1777233600-1777237200@www.su.edu
SUMMARY:Sunday Night: Live
DESCRIPTION:Home » Spiritual Life » Page 2\n\n\n\nSU Men’s Ministry Meeting\n\n\n\n\nThe Office of Spiritual Life invites students and staff to attend Sunday Night: Live\, a weekly ecumenical Christian worship service held on Sundays from 8-9 p.m. in Goodson Chapel-Recital Hall. All Shenandoah University students and staff are welcome to participate in worship and community each week throughout the semester. For more information\, contact DeLyn Celec at delyn.celec@su.edu. 
URL:https://www.su.edu/event/sunday-night-live/2026-04-26/
LOCATION:Goodson Chapel / Recital Hall\, 1400 L. P. HILL DR.\, Winchester\, VA\, 22601\, United States
CATEGORIES:Spiritual Life,Student Life
GEO:39.1667245;-78.1562205
X-APPLE-STRUCTURED-LOCATION;VALUE=URI;X-ADDRESS=Goodson Chapel / Recital Hall 1400 L. P. HILL DR. Winchester VA 22601 United States;X-APPLE-RADIUS=500;X-TITLE=1400 L. P. HILL DR.:geo:-78.1562205,39.1667245
END:VEVENT
BEGIN:VEVENT
DTSTART;TZID=America/New_York:20260428T181500
DTEND;TZID=America/New_York:20260428T191500
DTSTAMP:20260422T060034
CREATED:20260115T212847Z
LAST-MODIFIED:20260115T212850Z
UID:10003527-1777400100-1777403700@www.su.edu
SUMMARY:Tuesday Eucharistic Adoration
DESCRIPTION:Home » Spiritual Life » Page 2\n\n\n\nSU Men’s Ministry Meeting\n\n\n\n\nCatholic Campus Ministry invites students to join Tuesday Eucharistic Adoration from 6:15–7:15 p.m. in The Village\, Common Room\, for a time of quiet prayer and worship. Eucharistic Adoration is an opportunity to pray in the presence of Jesus in the consecrated host\, displayed in the monstrance. All faiths are welcome to attend and spend time in reflection\, prayer or silence. Questions may be directed to Mike Filamor at shenandoahccm@gmail.com. 
URL:https://www.su.edu/event/tuesday-eucharistic-adoration-4/2026-04-28/
LOCATION:The Village\, 1460 University Drive\, Winchester\, VA\, 22601\, United States
CATEGORIES:Spiritual Life,Student Life
GEO:39.1660132;-78.1583626
X-APPLE-STRUCTURED-LOCATION;VALUE=URI;X-ADDRESS=The Village 1460 University Drive Winchester VA 22601 United States;X-APPLE-RADIUS=500;X-TITLE=1460 University Drive:geo:-78.1583626,39.1660132
END:VEVENT
BEGIN:VEVENT
DTSTART;TZID=America/New_York:20260428T200000
DTEND;TZID=America/New_York:20260428T210000
DTSTAMP:20260422T060034
CREATED:20260121T145240Z
LAST-MODIFIED:20260330T145928Z
UID:10003572-1777406400-1777410000@www.su.edu
SUMMARY:SU Men's Ministry Meeting
DESCRIPTION:Home » Spiritual Life » Page 2\n\n\n\nSU Men’s Ministry Meeting\n\n\n\n\nThe SU Men’s Ministry hosts weekly meetings for any man at the university on Tuesdays from 8-9 p.m. in Halpin-Harrison Hall\, Room 146. Meetings include Bible study\, prayer\, and fellowship\, and will not meet during spring break (March 10). The last meeting of the semester is April 28. For more information\, contact Brodie Meyers at kxo65@su.edu. 
URL:https://www.su.edu/event/su-mens-ministry-meeting/2026-04-28/
LOCATION:Halpin-Harrison Hall\, 600 MILLWOOD AVE.\, Winchester\, VA\, 22601\, United States
CATEGORIES:Spiritual Life,Student Life
GEO:39.1678627;-78.1622328
X-APPLE-STRUCTURED-LOCATION;VALUE=URI;X-ADDRESS=Halpin-Harrison Hall 600 MILLWOOD AVE. Winchester VA 22601 United States;X-APPLE-RADIUS=500;X-TITLE=600 MILLWOOD AVE.:geo:-78.1622328,39.1678627
END:VEVENT
BEGIN:VEVENT
DTSTART;TZID=America/New_York:20260503T200000
DTEND;TZID=America/New_York:20260503T210000
DTSTAMP:20260422T060034
CREATED:20260324T151504Z
LAST-MODIFIED:20260324T151504Z
UID:10003498-1777838400-1777842000@www.su.edu
SUMMARY:Sunday Night: Live
DESCRIPTION:Home » Spiritual Life » Page 2\n\n\n\nSU Men’s Ministry Meeting\n\n\n\n\nThe Office of Spiritual Life invites students and staff to attend Sunday Night: Live\, a weekly ecumenical Christian worship service held on Sundays from 8-9 p.m. in Goodson Chapel-Recital Hall. All Shenandoah University students and staff are welcome to participate in worship and community each week throughout the semester. For more information\, contact DeLyn Celec at delyn.celec@su.edu. 
URL:https://www.su.edu/event/sunday-night-live-3/
LOCATION:Goodson Chapel / Recital Hall\, 1400 L. P. HILL DR.\, Winchester\, VA\, 22601\, United States
CATEGORIES:Spiritual Life,Student Life
GEO:39.1667245;-78.1562205
X-APPLE-STRUCTURED-LOCATION;VALUE=URI;X-ADDRESS=Goodson Chapel / Recital Hall 1400 L. P. HILL DR. Winchester VA 22601 United States;X-APPLE-RADIUS=500;X-TITLE=1400 L. P. HILL DR.:geo:-78.1562205,39.1667245
END:VEVENT
END:VCALENDAR