BEGIN:VCALENDAR
VERSION:2.0
PRODID:-//Shenandoah University - ECPv6.15.20//NONSGML v1.0//EN
CALSCALE:GREGORIAN
METHOD:PUBLISH
X-WR-CALNAME:Shenandoah University
X-ORIGINAL-URL:https://www.su.edu
X-WR-CALDESC:Events for Shenandoah University
REFRESH-INTERVAL;VALUE=DURATION:PT1H
X-Robots-Tag:noindex
X-PUBLISHED-TTL:PT1H
BEGIN:VTIMEZONE
TZID:America/New_York
BEGIN:DAYLIGHT
TZOFFSETFROM:-0500
TZOFFSETTO:-0400
TZNAME:EDT
DTSTART:20250309T070000
END:DAYLIGHT
BEGIN:STANDARD
TZOFFSETFROM:-0400
TZOFFSETTO:-0500
TZNAME:EST
DTSTART:20251102T060000
END:STANDARD
BEGIN:DAYLIGHT
TZOFFSETFROM:-0500
TZOFFSETTO:-0400
TZNAME:EDT
DTSTART:20260308T070000
END:DAYLIGHT
BEGIN:STANDARD
TZOFFSETFROM:-0400
TZOFFSETTO:-0500
TZNAME:EST
DTSTART:20261101T060000
END:STANDARD
BEGIN:DAYLIGHT
TZOFFSETFROM:-0500
TZOFFSETTO:-0400
TZNAME:EDT
DTSTART:20270314T070000
END:DAYLIGHT
BEGIN:STANDARD
TZOFFSETFROM:-0400
TZOFFSETTO:-0500
TZNAME:EST
DTSTART:20271107T060000
END:STANDARD
END:VTIMEZONE
BEGIN:VEVENT
DTSTART;TZID=America/New_York:20260328T000000
DTEND;TZID=America/New_York:20260328T235959
DTSTAMP:20260424T122253
CREATED:20260122T183329Z
LAST-MODIFIED:20260122T183332Z
UID:10003616-1774656000-1774742399@www.su.edu
SUMMARY:Horseback Riding - SOAR
DESCRIPTION:Home » Student Life\n\n\n\nLast Bowling Night with Catholic Campus Ministry\n\n\n\n\nJoin Shenandoah Outdoor and Adventure Recreation (SOAR) for horseback riding on Saturday\, March 28\, at Graves Mountain Resort & Stables\, Syria\, VA. 
URL:https://shenandoah.shopsite.com/main/product117.html
CATEGORIES:Outdoor Activities,Student Life
END:VEVENT
BEGIN:VEVENT
DTSTART;TZID=America/New_York:20260328T083000
DTEND;TZID=America/New_York:20260328T160000
DTSTAMP:20260424T122253
CREATED:20260324T150011Z
LAST-MODIFIED:20260324T150018Z
UID:10003908-1774686600-1774713600@www.su.edu
SUMMARY:CAN Trip to Level99
DESCRIPTION:Home » Student Life\n\n\n\nLast Bowling Night with Catholic Campus Ministry\n\n\n\n\nTest your strategy\, speed\, and creativity during an action-packed excursion to Level99 at Tysons Corner on Saturday\, March 28. Hosted by the Campus Activities Network\, this trip offers access to over 50 unique challenge rooms featuring physical puzzles\, mental riddles and immersive team experiences. The group departs at 8:30 a.m. and returns by 4 p.m. Tickets are $10 and include entry to the venue\, where you can compete to unlock levels and earn points. Space is limited\, and students must register and pay online to secure a seat on the shuttle. For more information\, contact can@su.edu or follow @shenandoah.can on Instagram.
URL:https://www.su.edu/event/can-trip-to-level99/
CATEGORIES:Clubs & Organizations,Student Life
END:VEVENT
BEGIN:VEVENT
DTSTART;TZID=America/New_York:20260328T110000
DTEND;TZID=America/New_York:20260328T120000
DTSTAMP:20260424T122253
CREATED:20260218T175305Z
LAST-MODIFIED:20260218T191605Z
UID:10003739-1774695600-1774699200@www.su.edu
SUMMARY:Move U! Adaptive Soccer
DESCRIPTION:Home » Student Life\n\n\n\nLast Bowling Night with Catholic Campus Ministry\n\n\n\n\nThe Shenandoah University Physical Therapy program and Move U! will host a series of free adaptive soccer clinics beginning Saturday\, March 21\, from 11 a.m.-noon on the recreation field behind the Brandt Student Center. Designed for children ages 5 and older who are ambulatory but have physical limitations due to muscular or neurological conditions\, these sessions require no prior soccer experience. The clinic provides a supportive environment for physical activity and will continue with additional sessions on March 28\, and April 12\, April 18\, and April 25. Registration is required and can be completed through the Google Form. For more information\, contact Conner Brown at cbrown212@su.edu. 
URL:https://www.su.edu/event/move-u-adaptive-soccer/2026-03-28/
LOCATION:Brandt Student Center\, 1460 University Drive\, Winchester\, VA\, 22601\, United States
CATEGORIES:Student Life
GEO:39.1673226;-78.1573107
X-APPLE-STRUCTURED-LOCATION;VALUE=URI;X-ADDRESS=Brandt Student Center 1460 University Drive Winchester VA 22601 United States;X-APPLE-RADIUS=500;X-TITLE=1460 University Drive:geo:-78.1573107,39.1673226
END:VEVENT
END:VCALENDAR