BEGIN:VCALENDAR
VERSION:2.0
PRODID:-//Shenandoah University - ECPv6.15.20//NONSGML v1.0//EN
CALSCALE:GREGORIAN
METHOD:PUBLISH
X-WR-CALNAME:Shenandoah University
X-ORIGINAL-URL:https://www.su.edu
X-WR-CALDESC:Events for Shenandoah University
REFRESH-INTERVAL;VALUE=DURATION:PT1H
X-Robots-Tag:noindex
X-PUBLISHED-TTL:PT1H
BEGIN:VTIMEZONE
TZID:America/New_York
BEGIN:DAYLIGHT
TZOFFSETFROM:-0500
TZOFFSETTO:-0400
TZNAME:EDT
DTSTART:20250309T070000
END:DAYLIGHT
BEGIN:STANDARD
TZOFFSETFROM:-0400
TZOFFSETTO:-0500
TZNAME:EST
DTSTART:20251102T060000
END:STANDARD
BEGIN:DAYLIGHT
TZOFFSETFROM:-0500
TZOFFSETTO:-0400
TZNAME:EDT
DTSTART:20260308T070000
END:DAYLIGHT
BEGIN:STANDARD
TZOFFSETFROM:-0400
TZOFFSETTO:-0500
TZNAME:EST
DTSTART:20261101T060000
END:STANDARD
BEGIN:DAYLIGHT
TZOFFSETFROM:-0500
TZOFFSETTO:-0400
TZNAME:EDT
DTSTART:20270314T070000
END:DAYLIGHT
BEGIN:STANDARD
TZOFFSETFROM:-0400
TZOFFSETTO:-0500
TZNAME:EST
DTSTART:20271107T060000
END:STANDARD
END:VTIMEZONE
BEGIN:VEVENT
DTSTART;TZID=America/New_York:20260401T140000
DTEND;TZID=America/New_York:20260401T140000
DTSTAMP:20260424T104319
CREATED:20260325T163156Z
LAST-MODIFIED:20260325T163201Z
UID:10003918-1775052000-1775052000@www.su.edu
SUMMARY:8th Annual Conservatory Duck Race
DESCRIPTION:Home » Student Life\n\n\n\nLast Bowling Night with Catholic Campus Ministry\n\n\n\n\nThe Shenandoah Conservatory Student Council hosts the 8th Annual Conservatory Duck Race on Wednesday\, April 1\, at Sarah’s Glen. Registration and student organization tables begin at 2 p.m.\, with live music and the main race starting at 3:30 p.m. at the Abrams Creek waterfall. Student costs are $2 for the first duck and $1 for each additional duck. Faculty and staff costs are $3 for the first duck and $2 for each additional duck. Prizes will be awarded to winners in both the student and faculty/staff categories. Free kazoos and other duck themed items will be provided. All proceeds benefit the Shenandoah Conservatory Student Council. For more information\, contact Jeff Marlatt at jmarlatt@su.edu. 
URL:https://www.su.edu/event/8th-annual-conservatory-duck-race/
LOCATION:Sarah’s Glen\, 39.166521\, -78.158844\, Winchester\, VA\, 22601\, United States
CATEGORIES:Student Life
GEO:39.166521;-78.158844
X-APPLE-STRUCTURED-LOCATION;VALUE=URI;X-ADDRESS=Sarah’s Glen 39.166521 -78.158844 Winchester VA 22601 United States;X-APPLE-RADIUS=500;X-TITLE=39.166521\, -78.158844:geo:-78.158844,39.166521
END:VEVENT
BEGIN:VEVENT
DTSTART;TZID=America/New_York:20260401T170000
DTEND;TZID=America/New_York:20260401T170000
DTSTAMP:20260424T104319
CREATED:20260115T150300Z
LAST-MODIFIED:20260115T150302Z
UID:10003473-1775062800-1775062800@www.su.edu
SUMMARY:Intramural Outdoor Soccer Registration Deadline
DESCRIPTION:Home » Student Life\n\n\n\nLast Bowling Night with Catholic Campus Ministry\n\n\n\n\nThe registration deadline for Intramural Outdoor Soccer (8-on-8) is Wednesday\, April 1\, at 5 p.m. Teams may register at IMLeagues. The regular season begins April 6\, with games held Sunday through Thursday at Aikens Stadium behind Parker Hall. Games typically start after 7 p.m.\, except Sunday\, on which they may begin earlier. All players are required to wear shin guards. Participation is free as long as teams do not forfeit\, and SU ID cards are required at all intramural events. For more information\, email recsports@su.edu. 
URL:https://www.su.edu/event/intramural-outdoor-soccer-registration-deadline/
LOCATION:Online
CATEGORIES:Recreational & Intramural Sports,Student Life
END:VEVENT
BEGIN:VEVENT
DTSTART;TZID=America/New_York:20260401T190000
DTEND;TZID=America/New_York:20260401T200000
DTSTAMP:20260424T104319
CREATED:20260114T171829Z
LAST-MODIFIED:20260114T171832Z
UID:10003445-1775070000-1775073600@www.su.edu
SUMMARY:Core & More Fitness Class w/ SK
DESCRIPTION:Home » Student Life\n\n\n\nLast Bowling Night with Catholic Campus Ministry\n\n\n\n\nCore & More Fitness Class w/ SK is held Wednesdays from 7–8 p.m. in the Brandt Student Center\, Room 123 (Borden Student Associations Center\, aka B-SAC)\, beginning Jan. 21\, and continuing weekly through April 29. This fitness class focuses on strengthening the abdominal and core muscles while also incorporating major muscle groups\, including the quadriceps\, hamstrings\, calves\, glutes\, biceps and triceps\, for a full-body workout. Participants are encouraged to bring a yoga mat; a limited number of mats will be available. The class is free\, and registration is required through IMLeagues. Core & More Fitness Class w/ SK is hosted by Campus Recreation & Wellness. For more information or questions\, contact recsports@su.edu. 
URL:https://www.su.edu/event/core-more-fitness-class-w-sk/2026-04-01/
LOCATION:Borden Student Associations Center\, Brandt Student Center Room 123\, 703 UNIVERSITY DR.\, Winchester\, VA\, 22601\, United States
CATEGORIES:Clubs & Organizations,Recreational & Intramural Sports,Student Life
GEO:39.1673507;-78.1572448
X-APPLE-STRUCTURED-LOCATION;VALUE=URI;X-ADDRESS=Borden Student Associations Center Brandt Student Center Room 123 703 UNIVERSITY DR. Winchester VA 22601 United States;X-APPLE-RADIUS=500;X-TITLE=703 UNIVERSITY DR.:geo:-78.1572448,39.1673507
END:VEVENT
END:VCALENDAR