BEGIN:VCALENDAR
VERSION:2.0
PRODID:-//Shenandoah University - ECPv6.15.20//NONSGML v1.0//EN
CALSCALE:GREGORIAN
METHOD:PUBLISH
X-WR-CALNAME:Shenandoah University
X-ORIGINAL-URL:https://www.su.edu
X-WR-CALDESC:Events for Shenandoah University
REFRESH-INTERVAL;VALUE=DURATION:PT1H
X-Robots-Tag:noindex
X-PUBLISHED-TTL:PT1H
BEGIN:VTIMEZONE
TZID:America/New_York
BEGIN:DAYLIGHT
TZOFFSETFROM:-0500
TZOFFSETTO:-0400
TZNAME:EDT
DTSTART:20250309T070000
END:DAYLIGHT
BEGIN:STANDARD
TZOFFSETFROM:-0400
TZOFFSETTO:-0500
TZNAME:EST
DTSTART:20251102T060000
END:STANDARD
BEGIN:DAYLIGHT
TZOFFSETFROM:-0500
TZOFFSETTO:-0400
TZNAME:EDT
DTSTART:20260308T070000
END:DAYLIGHT
BEGIN:STANDARD
TZOFFSETFROM:-0400
TZOFFSETTO:-0500
TZNAME:EST
DTSTART:20261101T060000
END:STANDARD
BEGIN:DAYLIGHT
TZOFFSETFROM:-0500
TZOFFSETTO:-0400
TZNAME:EDT
DTSTART:20270314T070000
END:DAYLIGHT
BEGIN:STANDARD
TZOFFSETFROM:-0400
TZOFFSETTO:-0500
TZNAME:EST
DTSTART:20271107T060000
END:STANDARD
END:VTIMEZONE
BEGIN:VEVENT
DTSTART;TZID=America/New_York:20260418T080000
DTEND;TZID=America/New_York:20260418T123000
DTSTAMP:20260424T104323
CREATED:20260402T145611Z
LAST-MODIFIED:20260402T145614Z
UID:10003937-1776499200-1776515400@www.su.edu
SUMMARY:Volunteer for the Girls On The Run 5K
DESCRIPTION:Home » Student Life\n\n\n\nLast Bowling Night with Catholic Campus Ministry\n\n\n\n\nSupport the local chapter of Girls on the Run by volunteering for the celebratory end-of-season 5K on Saturday\, April 18\, at Admiral Byrd Middle School (134 Rosa Ln\, Winchester\, VA 22602). This high-energy event provides program participants of all abilities with a tangible sense of accomplishment\, fostering confidence and joy at the finish line. Volunteer roles are available between 8 a.m. and 12:30 p.m.\, with specific opportunities including serving as running buddies\, managing water tables\, and distributing finish-line refreshments. No prior experience is necessary to help create a memorable experience for these young runners. Interested individuals can sign up for specific shifts through the official registration link. For more information\, please contact Annoica Ingram at annoica.ingram@girlsontherun.org. 
URL:https://www.su.edu/event/volunteer-for-the-girls-on-the-run-5k/
CATEGORIES:Student Life
END:VEVENT
BEGIN:VEVENT
DTSTART;TZID=America/New_York:20260418T080000
DTEND;TZID=America/New_York:20260418T150000
DTSTAMP:20260424T104323
CREATED:20260324T145659Z
LAST-MODIFIED:20260324T145702Z
UID:10003906-1776499200-1776524400@www.su.edu
SUMMARY:Tuscarora Trail Maintenance
DESCRIPTION:Home » Student Life\n\n\n\nLast Bowling Night with Catholic Campus Ministry\n\n\n\n\nLeave a lasting impact on the local landscape by joining Shenandoah Outdoor and Adventure Recreation and the National Parks Trust Ambassadors for a Tuscarora Trail maintenance day on Saturday\, April 18. Participants will partner with the Devil’s Nose Trail Crew to engage in outdoor stewardship and trail restoration from 8 a.m. to 3 p.m. This free event includes a complimentary lunch and a National Parks Trust water bottle for every volunteer. The group will meet in the Brandt Student Center parking lot before heading to the trail site. Interested students should register online to secure their spot and lunch. For more information\, contact dmc85@su.edu. 
URL:https://www.su.edu/event/tuscarora-trail-maintenance/
LOCATION:Brandt Student Center\, 1460 University Drive\, Winchester\, VA\, 22601\, United States
CATEGORIES:Student Life
GEO:39.1673226;-78.1573107
X-APPLE-STRUCTURED-LOCATION;VALUE=URI;X-ADDRESS=Brandt Student Center 1460 University Drive Winchester VA 22601 United States;X-APPLE-RADIUS=500;X-TITLE=1460 University Drive:geo:-78.1573107,39.1673226
END:VEVENT
BEGIN:VEVENT
DTSTART;TZID=America/New_York:20260418T100000
DTEND;TZID=America/New_York:20260418T160000
DTSTAMP:20260424T104323
CREATED:20260122T184432Z
LAST-MODIFIED:20260122T184434Z
UID:10003623-1776506400-1776528000@www.su.edu
SUMMARY:Outdoor Rock Climbing - SOAR
DESCRIPTION:Home » Student Life\n\n\n\nLast Bowling Night with Catholic Campus Ministry\n\n\n\n\nJoin Shenandoah Outdoor and Adventure Recreation (SOAR) for outdoor rock climbing on Saturday\, April 18\, from 10 a.m.-4 p.m. at Elizabeth’s Furnace\, Fort Valley\, VA. 
URL:https://shenandoah.shopsite.com/main/product124.html
CATEGORIES:Outdoor Activities,Student Life
END:VEVENT
BEGIN:VEVENT
DTSTART;TZID=America/New_York:20260418T110000
DTEND;TZID=America/New_York:20260418T120000
DTSTAMP:20260424T104323
CREATED:20260218T175305Z
LAST-MODIFIED:20260218T191605Z
UID:10003741-1776510000-1776513600@www.su.edu
SUMMARY:Move U! Adaptive Soccer
DESCRIPTION:Home » Student Life\n\n\n\nLast Bowling Night with Catholic Campus Ministry\n\n\n\n\nThe Shenandoah University Physical Therapy program and Move U! will host a series of free adaptive soccer clinics beginning Saturday\, March 21\, from 11 a.m.-noon on the recreation field behind the Brandt Student Center. Designed for children ages 5 and older who are ambulatory but have physical limitations due to muscular or neurological conditions\, these sessions require no prior soccer experience. The clinic provides a supportive environment for physical activity and will continue with additional sessions on March 28\, and April 12\, April 18\, and April 25. Registration is required and can be completed through the Google Form. For more information\, contact Conner Brown at cbrown212@su.edu. 
URL:https://www.su.edu/event/move-u-adaptive-soccer/2026-04-18/
LOCATION:Brandt Student Center\, 1460 University Drive\, Winchester\, VA\, 22601\, United States
CATEGORIES:Student Life
GEO:39.1673226;-78.1573107
X-APPLE-STRUCTURED-LOCATION;VALUE=URI;X-ADDRESS=Brandt Student Center 1460 University Drive Winchester VA 22601 United States;X-APPLE-RADIUS=500;X-TITLE=1460 University Drive:geo:-78.1573107,39.1673226
END:VEVENT
BEGIN:VEVENT
DTSTART;TZID=America/New_York:20260418T183000
DTEND;TZID=America/New_York:20260418T230000
DTSTAMP:20260424T104323
CREATED:20260122T184226Z
LAST-MODIFIED:20260122T184229Z
UID:10003622-1776537000-1776553200@www.su.edu
SUMMARY:Astronomy Night - SOAR
DESCRIPTION:Home » Student Life\n\n\n\nLast Bowling Night with Catholic Campus Ministry\n\n\n\n\nJoin Shenandoah Outdoor and Adventure Recreation (SOAR) for stargazing on Saturday\, April 18\, from 6:30-11 p.m. at Sky Meadows State Park\, Delaplane\, VA. 
URL:https://shenandoah.shopsite.com/main/product125.html
CATEGORIES:Outdoor Activities,Student Life
END:VEVENT
BEGIN:VEVENT
DTSTART;TZID=America/New_York:20260418T200000
DTEND;TZID=America/New_York:20260418T230000
DTSTAMP:20260424T104323
CREATED:20260219T165947Z
LAST-MODIFIED:20260323T133735Z
UID:10003743-1776542400-1776553200@www.su.edu
SUMMARY:Spring Formal - “Head in the Clouds”
DESCRIPTION:Home » Student Life\n\n\n\nLast Bowling Night with Catholic Campus Ministry\n\n\n\n\nStep into an unforgettable evening of dreaming and dancing at the “Head in the Clouds” Spring Formal on Saturday\, April 18. Hosted by the Campus Activities Network (CAN) and the Student Government Association (SGA)\, the celebration runs from 8-11 p.m. at the Wilkins Athletics & Events Center. This magical night features continuous entertainment\, an open buffet and a vibrant atmosphere. Attendees are encouraged to dress in their best formal attire to make lasting memories with the campus community. Guest tickets for non-students are available for $5\, and all participants should register online to secure their spots. Please note that no refunds will be issued. For more information\, contact can@su.edu.
URL:https://www.su.edu/event/head-in-the-clouds-spring-formal/
LOCATION:James R. Wilkins\, Jr. Athletics & Events Center\, 1188 Ralph Shockey Dr\, Winchester\, VA\, 22602\, United States
CATEGORIES:Clubs & Organizations,Student Life
GEO:39.1660132;-78.1583626
X-APPLE-STRUCTURED-LOCATION;VALUE=URI;X-ADDRESS=James R. Wilkins Jr. Athletics & Events Center 1188 Ralph Shockey Dr Winchester VA 22602 United States;X-APPLE-RADIUS=500;X-TITLE=1188 Ralph Shockey Dr:geo:-78.1583626,39.1660132
END:VEVENT
END:VCALENDAR