BEGIN:VCALENDAR
VERSION:2.0
PRODID:-//Shenandoah University - ECPv6.15.20//NONSGML v1.0//EN
CALSCALE:GREGORIAN
METHOD:PUBLISH
X-ORIGINAL-URL:https://www.su.edu
X-WR-CALDESC:Events for Shenandoah University
REFRESH-INTERVAL;VALUE=DURATION:PT1H
X-Robots-Tag:noindex
X-PUBLISHED-TTL:PT1H
BEGIN:VTIMEZONE
TZID:America/New_York
BEGIN:DAYLIGHT
TZOFFSETFROM:-0500
TZOFFSETTO:-0400
TZNAME:EDT
DTSTART:20250309T070000
END:DAYLIGHT
BEGIN:STANDARD
TZOFFSETFROM:-0400
TZOFFSETTO:-0500
TZNAME:EST
DTSTART:20251102T060000
END:STANDARD
BEGIN:DAYLIGHT
TZOFFSETFROM:-0500
TZOFFSETTO:-0400
TZNAME:EDT
DTSTART:20260308T070000
END:DAYLIGHT
BEGIN:STANDARD
TZOFFSETFROM:-0400
TZOFFSETTO:-0500
TZNAME:EST
DTSTART:20261101T060000
END:STANDARD
BEGIN:DAYLIGHT
TZOFFSETFROM:-0500
TZOFFSETTO:-0400
TZNAME:EDT
DTSTART:20270314T070000
END:DAYLIGHT
BEGIN:STANDARD
TZOFFSETFROM:-0400
TZOFFSETTO:-0500
TZNAME:EST
DTSTART:20271107T060000
END:STANDARD
END:VTIMEZONE
BEGIN:VEVENT
DTSTART;TZID=America/New_York:20260423T100000
DTEND;TZID=America/New_York:20260423T140000
DTSTAMP:20260424T104444
CREATED:20260401T161157Z
LAST-MODIFIED:20260401T161159Z
UID:10003934-1776938400-1776952800@www.su.edu
SUMMARY:Native Plant & Herb Sale
DESCRIPTION:Home » Student Life\n\n\n\nLast Bowling Night with Catholic Campus Ministry\n\n\n\n\nCelebrate Earth Week by visiting the annual Native Plant and Herb Sale hosted by the Environmental and Sustainability Club on the SU Quad. From Wednesday\, April 22\, through Friday\, April 24\, students and staff can stop by between 10 a.m. and 2 p.m. to purchase a variety of plants. With prices ranging from $1 to $5\, all proceeds directly support the club’s future environmental initiatives. For more information\, please contact the Environmental and Sustainability Club at suenviroclub@gmail.com. 
URL:https://www.su.edu/event/native-plant-herb-sale/2026-04-23/
LOCATION:SU Quad\, 1460 University Drive\, Winchester\, VA\, 22601
CATEGORIES:Clubs & Organizations,Student Life
GEO:39.165466;-78.1587425
X-APPLE-STRUCTURED-LOCATION;VALUE=URI;X-ADDRESS=SU Quad 1460 University Drive Winchester VA 22601;X-APPLE-RADIUS=500;X-TITLE=1460 University Drive:geo:-78.1587425,39.165466
END:VEVENT
BEGIN:VEVENT
DTSTART;TZID=America/New_York:20260423T153000
DTEND;TZID=America/New_York:20260423T173000
DTSTAMP:20260424T104444
CREATED:20260417T201542Z
LAST-MODIFIED:20260417T201546Z
UID:10003986-1776958200-1776965400@www.su.edu
SUMMARY:Volunteer Appreciation
DESCRIPTION:Home » Student Life\n\n\n\nLast Bowling Night with Catholic Campus Ministry\n\n\n\n\nTo cap off National Volunteer Week with a gesture of gratitude\, the Center for Civic Engagement is celebrating every student\, faculty\, and staff member who gave back this year. Volunteers are invited to drop by the Brandt Student Center on Thursday\, April 23\, from 3:30-5 p.m. or Friday\, April 24\, from 1-3 p.m. to pick up a treat as a token of appreciation For more information t\, contact Jenni O’Hara at wni51@su.edu. 
URL:https://www.su.edu/event/volunteer-appreciation/2026-04-23/
LOCATION:Brandt Student Center\, 1460 University Drive\, Winchester\, VA\, 22601\, United States
CATEGORIES:Clubs & Organizations,Student Life
GEO:39.1673226;-78.1573107
X-APPLE-STRUCTURED-LOCATION;VALUE=URI;X-ADDRESS=Brandt Student Center 1460 University Drive Winchester VA 22601 United States;X-APPLE-RADIUS=500;X-TITLE=1460 University Drive:geo:-78.1573107,39.1673226
END:VEVENT
BEGIN:VEVENT
DTSTART;TZID=America/New_York:20260423T160000
DTEND;TZID=America/New_York:20260423T173000
DTSTAMP:20260424T104444
CREATED:20260422T151932Z
LAST-MODIFIED:20260422T151935Z
UID:10004007-1776960000-1776965400@www.su.edu
SUMMARY:Wish Wall Table
DESCRIPTION:Home » Student Life\n\n\n\nLast Bowling Night with Catholic Campus Ministry\n\n\n\n\nContribute to the celebration of the nation’s 250th anniversary\, by adding to the Wish Wall. This initiative from the Center for Civic Engagement is part of a nationwide project by Made By Us to capture a living archive of aspirations for the future. Participants can stop by the table on Clement Patio at Allen Dining Hall from 4-5:30 p.m. on Thursday\, April 23\, to share their personal vision for the country and join a collective conversation involving hundreds of organizations across the U.S. For more information\, please contact zls80@su.edu. 
URL:https://www.su.edu/event/wish-wall-table/
LOCATION:Clement Patio\, Allen Dining Hall\, 730 WADE MILLER DR.\, Winchester\, VA\, 22601\, United States
CATEGORIES:Clubs & Organizations,Student Life
GEO:39.1644933;-78.1580011
X-APPLE-STRUCTURED-LOCATION;VALUE=URI;X-ADDRESS=Clement Patio Allen Dining Hall 730 WADE MILLER DR. Winchester VA 22601 United States;X-APPLE-RADIUS=500;X-TITLE=730 WADE MILLER DR.:geo:-78.1580011,39.1644933
END:VEVENT
BEGIN:VEVENT
DTSTART;TZID=America/New_York:20260423T180000
DTEND;TZID=America/New_York:20260423T190000
DTSTAMP:20260424T104444
CREATED:20260114T170916Z
LAST-MODIFIED:20260114T170919Z
UID:10003435-1776967200-1776970800@www.su.edu
SUMMARY:Cardio Choreo Fitness Class w/ SK
DESCRIPTION:Home » Student Life\n\n\n\nLast Bowling Night with Catholic Campus Ministry\n\n\n\n\nCardio Choreo Fitness Class w/ SK is held Thursdays from 6-7 p.m. in Shingleton Gym\, from Jan. 22- April 23. Cardio Choreo is a dance-based cardio fitness class featuring upbeat music and rotating routines designed to provide a fun\, high-energy workout. Participants may follow the choreography or move freely with the music at their own pace. The class is free\, and registration is required through IMLeagues. Cardio Choreo Fitness Class w/ SK is hosted by Campus Recreation & Wellness. For more information or questions regarding registration or participation\, contact recsports@su.edu 
URL:https://www.su.edu/event/cardio-choreo-fitness-class-w-sk/2026-04-23/
LOCATION:Shingleton Gym\, Shingleton Hall\, 707 UNIVERSITY DR.\, Winchester\, VA\, 22601\, United States
CATEGORIES:Clubs & Organizations,Recreational & Intramural Sports,Student Life
GEO:39.1671161;-78.1572001
X-APPLE-STRUCTURED-LOCATION;VALUE=URI;X-ADDRESS=Shingleton Gym Shingleton Hall 707 UNIVERSITY DR. Winchester VA 22601 United States;X-APPLE-RADIUS=500;X-TITLE=707 UNIVERSITY DR.:geo:-78.1572001,39.1671161
END:VEVENT
BEGIN:VEVENT
DTSTART;TZID=America/New_York:20260423T183000
DTEND;TZID=America/New_York:20260423T203000
DTSTAMP:20260424T104444
CREATED:20260422T150332Z
LAST-MODIFIED:20260422T150335Z
UID:10003991-1776969000-1776976200@www.su.edu
SUMMARY:Murder Mystery Game Night
DESCRIPTION:Home » Student Life\n\n\n\nLast Bowling Night with Catholic Campus Ministry\n\n\n\n\nPut your investigative skills to the test at Murder Mystery Game Night on Thursday\, April 23\, from 6:30-8:30 p.m. in Brandt Student Center\, Room 118. Hosted by Alpha Phi Sigma (the Criminal Justice Honor Society)\, this event invites all students to step into the role of a detective to solve a high-stakes mystery. Along with the thrill of the investigation\, attendees can enjoy snacks and a “dirty soda” bar throughout the evening. No prior experience or equipment is necessary — just bring yourself and a partner to help crack the case. For more information\, please contact Amy Oleksy at aoleksy21@su.edu. 
URL:https://www.su.edu/event/murder-mystery-game-night/
LOCATION:Brandt Student Center\, 1460 University Drive\, Winchester\, VA\, 22601\, United States
CATEGORIES:Clubs & Organizations,Student Life
GEO:39.1673226;-78.1573107
X-APPLE-STRUCTURED-LOCATION;VALUE=URI;X-ADDRESS=Brandt Student Center 1460 University Drive Winchester VA 22601 United States;X-APPLE-RADIUS=500;X-TITLE=1460 University Drive:geo:-78.1573107,39.1673226
END:VEVENT
BEGIN:VEVENT
DTSTART;TZID=America/New_York:20260423T190000
DTEND;TZID=America/New_York:20260423T210000
DTSTAMP:20260424T104444
CREATED:20260108T145729Z
LAST-MODIFIED:20260108T145732Z
UID:10003374-1776970800-1776978000@www.su.edu
SUMMARY:Swing Dance Lessons and Social Dancing
DESCRIPTION:Home » Student Life\n\n\n\nLast Bowling Night with Catholic Campus Ministry\n\n\n\n\nWinchester Swing Dance will host swing dance lessons and social dancing on Thursday\, Jan. 22\, from 7-9 p.m. in the Hazel-Pruitt Armory\, Collaboratory. Additional sessions will take place Feb. 12\, Feb. 26\, April 9\, and April 23. The event is free for SU students\, staff and faculty and open to the public ages 18 and older for $10. For more information\, contact winchesterswingdance@gmail.com.
URL:https://www.su.edu/event/swing-dance-lessons-and-social-dancing-2/2026-04-23/
LOCATION:Hazel-Pruitt Armory\, 608 Millwood Ave\, Winchester\, 22601\, United States
CATEGORIES:Clubs & Organizations,Student Life
END:VEVENT
BEGIN:VEVENT
DTSTART;TZID=America/New_York:20260423T190000
DTEND;TZID=America/New_York:20260423T210000
DTSTAMP:20260424T104444
CREATED:20260423T143847Z
LAST-MODIFIED:20260423T143850Z
UID:10004020-1776970800-1776978000@www.su.edu
SUMMARY:Last Bowling Night with Catholic Campus Ministry
DESCRIPTION:Home » Student Life\n\n\n\nLast Bowling Night with Catholic Campus Ministry\n\n\n\n\nWrap up the semester with Catholic Campus Ministry for the final Thursday Night Bowling session of the year. Join the fun at Northside Lanes (6 Richards Ave\, Winchester\, VA 22601) on Thursday\, April 23\, from 7 p.m. to 9 p.m. All students are welcome to enjoy free games and shoe rentals. While official transportation isn’t provided\, the team is organizing carpools to help everyone get there. To ensure a spot on the lanes or to coordinate a ride\, please register via the Google Form. If you have any questions\, reach out to Mike Filamor at shenandoahccm@gmail.com. 
URL:https://www.su.edu/event/last-bowling-night-with-catholic-campus-ministry/
CATEGORIES:Clubs & Organizations,Spiritual Life,Student Life
END:VEVENT
END:VCALENDAR