BEGIN:VCALENDAR
VERSION:2.0
PRODID:-//Shenandoah University - ECPv6.15.20//NONSGML v1.0//EN
CALSCALE:GREGORIAN
METHOD:PUBLISH
X-WR-CALNAME:Shenandoah University
X-ORIGINAL-URL:https://www.su.edu
X-WR-CALDESC:Events for Shenandoah University
REFRESH-INTERVAL;VALUE=DURATION:PT1H
X-Robots-Tag:noindex
X-PUBLISHED-TTL:PT1H
BEGIN:VTIMEZONE
TZID:America/New_York
BEGIN:DAYLIGHT
TZOFFSETFROM:-0500
TZOFFSETTO:-0400
TZNAME:EDT
DTSTART:20250309T070000
END:DAYLIGHT
BEGIN:STANDARD
TZOFFSETFROM:-0400
TZOFFSETTO:-0500
TZNAME:EST
DTSTART:20251102T060000
END:STANDARD
BEGIN:DAYLIGHT
TZOFFSETFROM:-0500
TZOFFSETTO:-0400
TZNAME:EDT
DTSTART:20260308T070000
END:DAYLIGHT
BEGIN:STANDARD
TZOFFSETFROM:-0400
TZOFFSETTO:-0500
TZNAME:EST
DTSTART:20261101T060000
END:STANDARD
BEGIN:DAYLIGHT
TZOFFSETFROM:-0500
TZOFFSETTO:-0400
TZNAME:EDT
DTSTART:20270314T070000
END:DAYLIGHT
BEGIN:STANDARD
TZOFFSETFROM:-0400
TZOFFSETTO:-0500
TZNAME:EST
DTSTART:20271107T060000
END:STANDARD
END:VTIMEZONE
BEGIN:VEVENT
DTSTART;TZID=America/New_York:20260426T090000
DTEND;TZID=America/New_York:20260426T193000
DTSTAMP:20260424T104321
CREATED:20260122T185145Z
LAST-MODIFIED:20260122T185148Z
UID:10003628-1777194000-1777231800@www.su.edu
SUMMARY:Hike Old Rag - SOAR
DESCRIPTION:Home » Student Life\n\n\n\nLast Bowling Night with Catholic Campus Ministry\n\n\n\n\nJoin Shenandoah Outdoor and Adventure Recreation (SOAR) for hiking on Sunday\, April 26\, from 9 a.m.-7:30 p.m. in the Shenandoah National Park. 
URL:https://shenandoah.shopsite.com/main/product141.html
CATEGORIES:Outdoor Activities,Student Life
END:VEVENT
BEGIN:VEVENT
DTSTART;TZID=America/New_York:20260426T110000
DTEND;TZID=America/New_York:20260426T160000
DTSTAMP:20260424T104322
CREATED:20260416T161714Z
LAST-MODIFIED:20260416T161718Z
UID:10003985-1777201200-1777219200@www.su.edu
SUMMARY:Apple Blossom Volunteer Opportunity
DESCRIPTION:Home » Student Life\n\n\n\nLast Bowling Night with Catholic Campus Ministry\n\n\n\n\nSupport local traditions and celebrate Hispanic culture by volunteering for Fiesta Latina on Sunday\, April 26\, from 11 a.m. to 4 p.m. at the Sportsplex\, 221 Commonwealth Blvd. in Winchester. This family-friendly event\, held during the Shenandoah Apple Blossom Festival\, features local cuisine\, arts\, and entertainment. Volunteers are needed to fill various roles throughout the day. To participate\, please complete the volunteer application on the Eventeny website by creating an account. The deadline to sign up is Friday\, April 24\, at 11:59 p.m. For more information or if you have any questions\, please contact Shalini Mikos at (540) 869-1843 or shalinimikos@gmail.com. 
URL:https://www.su.edu/event/apple-blossom-volunteer-opportunity/
CATEGORIES:Student Life
END:VEVENT
BEGIN:VEVENT
DTSTART;TZID=America/New_York:20260426T150000
DTEND;TZID=America/New_York:20260426T180000
DTSTAMP:20260424T104322
CREATED:20260316T184243Z
LAST-MODIFIED:20260319T154744Z
UID:10003898-1777215600-1777226400@www.su.edu
SUMMARY:The Sunday Reset: Level Up Your Semester
DESCRIPTION:Home » Student Life\n\n\n\nLast Bowling Night with Catholic Campus Ministry\n\n\n\n\nReset yourself with student support/academic coaching in the Smith Library every Sunday for “The Sunday Reset: Level Up Your Semester.” Held from 3-6 p.m. on the library’s third floor\, these weekly sessions help students manage the “Sunday scaries” through proactive organization and stress reduction. Participants can learn practical scheduling hacks\, strategies to outsmart procrastination and systems for managing multiple deadlines. Attendees may also partner one-on-one with a Thrive Guide to build a personalized weekly game plan or check in for academic support. For more information\, contact Kristy Fedyk at kristy.fedyk@su.edu. 
URL:https://www.su.edu/event/the-sunday-reset-level-up-your-semester/2026-04-26/
LOCATION:Smith Library\, 718 WADE MILLER DR.\, Winchester\, VA\, 22601\, United States
CATEGORIES:Student Life
GEO:39.1655287;-78.1586254
X-APPLE-STRUCTURED-LOCATION;VALUE=URI;X-ADDRESS=Smith Library 718 WADE MILLER DR. Winchester VA 22601 United States;X-APPLE-RADIUS=500;X-TITLE=718 WADE MILLER DR.:geo:-78.1586254,39.1655287
END:VEVENT
BEGIN:VEVENT
DTSTART;TZID=America/New_York:20260426T190000
DTEND;TZID=America/New_York:20260426T213000
DTSTAMP:20260424T104322
CREATED:20260305T201013Z
LAST-MODIFIED:20260417T155749Z
UID:10003863-1777230000-1777239000@www.su.edu
SUMMARY:Shenandoah Series of Poker - Final Table
DESCRIPTION:Home » Student Life\n\n\n\nLast Bowling Night with Catholic Campus Ministry\n\n\n\n\nThe Shenandoah Series of Poker Final Table for qualifiers is on Sunday\, April 26\, from 7-9:30 p.m. in the Brandt Student Center\, Game Room. For more information\, contact Matt Levy at mlevy@su.edu. 
URL:https://www.su.edu/event/shenandoah-series-of-poker-final-table/
LOCATION:Game Room\, Brandt Student Center\, 703 UNIVERSITY DR.\, Winchester\, VA\, 22601
CATEGORIES:Clubs & Organizations,Student Life
GEO:39.1673226;-78.1573107
X-APPLE-STRUCTURED-LOCATION;VALUE=URI;X-ADDRESS=Game Room Brandt Student Center 703 UNIVERSITY DR. Winchester VA 22601;X-APPLE-RADIUS=500;X-TITLE=703 UNIVERSITY DR.:geo:-78.1573107,39.1673226
END:VEVENT
BEGIN:VEVENT
DTSTART;TZID=America/New_York:20260426T200000
DTEND;TZID=America/New_York:20260426T210000
DTSTAMP:20260424T104322
CREATED:20260115T211524Z
LAST-MODIFIED:20260115T211526Z
UID:10003497-1777233600-1777237200@www.su.edu
SUMMARY:Sunday Night: Live
DESCRIPTION:Home » Student Life\n\n\n\nLast Bowling Night with Catholic Campus Ministry\n\n\n\n\nThe Office of Spiritual Life invites students and staff to attend Sunday Night: Live\, a weekly ecumenical Christian worship service held on Sundays from 8-9 p.m. in Goodson Chapel-Recital Hall. All Shenandoah University students and staff are welcome to participate in worship and community each week throughout the semester. For more information\, contact DeLyn Celec at delyn.celec@su.edu. 
URL:https://www.su.edu/event/sunday-night-live/2026-04-26/
LOCATION:Goodson Chapel / Recital Hall\, 1400 L. P. HILL DR.\, Winchester\, VA\, 22601\, United States
CATEGORIES:Spiritual Life,Student Life
GEO:39.1667245;-78.1562205
X-APPLE-STRUCTURED-LOCATION;VALUE=URI;X-ADDRESS=Goodson Chapel / Recital Hall 1400 L. P. HILL DR. Winchester VA 22601 United States;X-APPLE-RADIUS=500;X-TITLE=1400 L. P. HILL DR.:geo:-78.1562205,39.1667245
END:VEVENT
END:VCALENDAR