BEGIN:VCALENDAR
VERSION:2.0
PRODID:-//Shenandoah University - ECPv6.15.20//NONSGML v1.0//EN
CALSCALE:GREGORIAN
METHOD:PUBLISH
X-WR-CALNAME:Shenandoah University
X-ORIGINAL-URL:https://www.su.edu
X-WR-CALDESC:Events for Shenandoah University
REFRESH-INTERVAL;VALUE=DURATION:PT1H
X-Robots-Tag:noindex
X-PUBLISHED-TTL:PT1H
BEGIN:VTIMEZONE
TZID:America/New_York
BEGIN:DAYLIGHT
TZOFFSETFROM:-0500
TZOFFSETTO:-0400
TZNAME:EDT
DTSTART:20250309T070000
END:DAYLIGHT
BEGIN:STANDARD
TZOFFSETFROM:-0400
TZOFFSETTO:-0500
TZNAME:EST
DTSTART:20251102T060000
END:STANDARD
BEGIN:DAYLIGHT
TZOFFSETFROM:-0500
TZOFFSETTO:-0400
TZNAME:EDT
DTSTART:20260308T070000
END:DAYLIGHT
BEGIN:STANDARD
TZOFFSETFROM:-0400
TZOFFSETTO:-0500
TZNAME:EST
DTSTART:20261101T060000
END:STANDARD
BEGIN:DAYLIGHT
TZOFFSETFROM:-0500
TZOFFSETTO:-0400
TZNAME:EDT
DTSTART:20270314T070000
END:DAYLIGHT
BEGIN:STANDARD
TZOFFSETFROM:-0400
TZOFFSETTO:-0500
TZNAME:EST
DTSTART:20271107T060000
END:STANDARD
END:VTIMEZONE
BEGIN:VEVENT
DTSTART;TZID=America/New_York:20260427T000000
DTEND;TZID=America/New_York:20260427T235959
DTSTAMP:20260424T081936
CREATED:20260414T134328Z
LAST-MODIFIED:20260414T134330Z
UID:10003969-1777248000-1777334399@www.su.edu
SUMMARY:SGA’s Blossom Bus
DESCRIPTION:Home » Student Life\n\n\n\nLast Bowling Night with Catholic Campus Ministry\n\n\n\n\nTake a break and enjoy the spring scenery from Monday\, April 27\, to Wednesday\, April 29\, as the Blossom Bus travels across the Winchester Main Campus to provide students and staff with a festive ride and a chance to celebrate the season. This multi-day event offers a unique way to navigate campus and connect with peers during the final weeks of the semester. This event is hosted by the Student Government Association. For more information\, please contact sga@su.edu. 
URL:https://www.su.edu/event/sgas-blossom-bus/2026-04-27/
LOCATION:Main Campus\, 1460 University Drive\, Winchester\, VA\, 22601\, United States
CATEGORIES:Student Life
GEO:39.1660132;-78.1583626
X-APPLE-STRUCTURED-LOCATION;VALUE=URI;X-ADDRESS=Main Campus 1460 University Drive Winchester VA 22601 United States;X-APPLE-RADIUS=500;X-TITLE=1460 University Drive:geo:-78.1583626,39.1660132
END:VEVENT
BEGIN:VEVENT
DTSTART;TZID=America/New_York:20260427T000000
DTEND;TZID=America/New_York:20260427T235959
DTSTAMP:20260424T081936
CREATED:20260423T143531Z
LAST-MODIFIED:20260423T143535Z
UID:10004008-1777248000-1777334399@www.su.edu
SUMMARY:Pick-me-up Snacks for Finals at Buzzy’s Food Pantry
DESCRIPTION:Home » Student Life\n\n\n\nLast Bowling Night with Catholic Campus Ministry\n\n\n\n\nFuel your study sessions with a visit to Buzzy’s Food Pantry for its Finals Pick-Me-Up Snacks\, available from Monday\, April 27\, through the end of the semester. Located on the first floor of the Brandt Student Center\, the pantry will be stocked with special snacks designed to keep you energized and focused as you power through your exams. All students are welcome to stop by and grab what they need. For questions\, please reach out to buzzysfoodpantry@su.edu. 
URL:https://www.su.edu/event/pick-me-up-snacks-for-finals-at-buzzys-food-pantry/2026-04-27/
LOCATION:Brandt Student Center\, 1460 University Drive\, Winchester\, VA\, 22601\, United States
CATEGORIES:Clubs & Organizations,Student Life
GEO:39.1673226;-78.1573107
X-APPLE-STRUCTURED-LOCATION;VALUE=URI;X-ADDRESS=Brandt Student Center 1460 University Drive Winchester VA 22601 United States;X-APPLE-RADIUS=500;X-TITLE=1460 University Drive:geo:-78.1573107,39.1673226
END:VEVENT
BEGIN:VEVENT
DTSTART;TZID=America/New_York:20260427T080000
DTEND;TZID=America/New_York:20260427T170000
DTSTAMP:20260424T081936
CREATED:20260422T151406Z
LAST-MODIFIED:20260422T151409Z
UID:10003994-1777276800-1777309200@www.su.edu
SUMMARY:Graduation Cap Decoration Station
DESCRIPTION:Home » Student Life\n\n\n\nLast Bowling Night with Catholic Campus Ministry\n\n\n\n\nGet creative at the Graduation Cap Decoration Station\, hosted by Student Support Services on the third floor of Smith Library. Open daily from 9 a.m.-5 p.m. through Friday\, May 8\, this station provides a spacious area and free supplies to help graduates personalize their commencement regalia. Students do not even need to bring their caps to participate\, as decorative placards are available to design and attach later. While general supplies are laid out for self-service\, glue guns and scissors may be requested from the staff. For additional details\, contact Kristy Fedyk at kristy.fedyk@su.edu. 
URL:https://www.su.edu/event/graduation-cap-decoration-station/2026-04-27/
LOCATION:Smith Library\, 718 WADE MILLER DR.\, Winchester\, VA\, 22601\, United States
CATEGORIES:Clubs & Organizations,Commencement,Student Life
GEO:39.1655287;-78.1586254
X-APPLE-STRUCTURED-LOCATION;VALUE=URI;X-ADDRESS=Smith Library 718 WADE MILLER DR. Winchester VA 22601 United States;X-APPLE-RADIUS=500;X-TITLE=718 WADE MILLER DR.:geo:-78.1586254,39.1655287
END:VEVENT
BEGIN:VEVENT
DTSTART;TZID=America/New_York:20260427T100000
DTEND;TZID=America/New_York:20260427T123000
DTSTAMP:20260424T081936
CREATED:20260325T162840Z
LAST-MODIFIED:20260325T162843Z
UID:10003915-1777284000-1777293000@www.su.edu
SUMMARY:HIVE Campuswide Pitch Competition
DESCRIPTION:Home » Student Life\n\n\n\nLast Bowling Night with Catholic Campus Ministry\n\n\n\n\nWitness the future of entrepreneurship at the HIVE Shenandoah University Campuswide Pitch Competition on Monday\, April 27\, from 10 a.m.-12:30 p.m. in Halpin-Harrison Hall\, Stimpson Auditorium. Five student finalists will take the stage to present bold ideas\, innovative solutions and business ventures. The top three presenters will earn cash prizes to help move their concepts forward. This competition celebrates the vision and bravery required to turn an idea into a professional pitch. The university community is encouraged to attend\, cheer on the competitors and support the next generation of innovators. For more information\, please contact Yshields@su.edu. 
URL:https://www.su.edu/event/hive-campuswide-pitch-competition/
LOCATION:Stimpson Auditorium\, Halpin-Harrison Hall\, 600 MILLWOOD AVE.\, Winchester\, VA\, 22601\, United States
CATEGORIES:Student Life
GEO:39.1677936;-78.1622065
X-APPLE-STRUCTURED-LOCATION;VALUE=URI;X-ADDRESS=Stimpson Auditorium Halpin-Harrison Hall 600 MILLWOOD AVE. Winchester VA 22601 United States;X-APPLE-RADIUS=500;X-TITLE=600 MILLWOOD AVE.:geo:-78.1622065,39.1677936
END:VEVENT
BEGIN:VEVENT
DTSTART;TZID=America/New_York:20260427T110000
DTEND;TZID=America/New_York:20260427T130000
DTSTAMP:20260424T081936
CREATED:20260422T150645Z
LAST-MODIFIED:20260422T150647Z
UID:10003993-1777287600-1777294800@www.su.edu
SUMMARY:Flex Dollar Donation
DESCRIPTION:Home » Student Life\n\n\n\nLast Bowling Night with Catholic Campus Ministry\n\n\n\n\nTurn your leftover balance into a resource for others during the Flex Dollar Donation drive. From Monday\, April 27\, through Thursday\, April 30\, the Center for Civic Engagement\, Buzzy’s Food Pantry\, and Aramark will host a donation table in the Brandt Student Center from 11 a.m.-1 p.m. Rather than loading up on retail items\, students can visit the table to “purchase” essential food items using their Flex Dollars for direct donation to Buzzy’s Food Pantry. This collaboration provides a simple way to assist the Buzzy’s Food Pantry community before the end of the semester. For more information\, please contact Katelyn Young at yii64@su.edu. 
URL:https://www.su.edu/event/flex-dollar-donation/
LOCATION:Brandt Student Center\, 1460 University Drive\, Winchester\, VA\, 22601\, United States
CATEGORIES:Clubs & Organizations,Student Life
GEO:39.1673226;-78.1573107
X-APPLE-STRUCTURED-LOCATION;VALUE=URI;X-ADDRESS=Brandt Student Center 1460 University Drive Winchester VA 22601 United States;X-APPLE-RADIUS=500;X-TITLE=1460 University Drive:geo:-78.1573107,39.1673226
END:VEVENT
BEGIN:VEVENT
DTSTART;TZID=America/New_York:20260427T120000
DTEND;TZID=America/New_York:20260427T120000
DTSTAMP:20260424T081936
CREATED:20260223T140359Z
LAST-MODIFIED:20260223T140402Z
UID:10003765-1777291200-1777291200@www.su.edu
SUMMARY:Fresh Produce at Buzzy’s Food Pantry
DESCRIPTION:Home » Student Life\n\n\n\nLast Bowling Night with Catholic Campus Ministry\n\n\n\n\nBuzzy’s Food Pantry now offers fresh produce to students every Monday at noon. To ensure convenience and safety\, pantry team members will package items into individual serving sizes for easy pickup. Buzzy’s Food Pantry is located on the first floor of the Brandt Student Center\, near the fitness center. Students are encouraged to stop by and pick up what they need. Additionally\, the pantry is seeking student feedback; please complete this Google Form to suggest specific produce items you would like to see available. For more information\, contact Lucy Greenstein at buzzysfoodpantry@su.edu. 
URL:https://www.su.edu/event/fresh-produce-at-buzzys-food-pantry-2/2026-04-27/
LOCATION:Brandt Student Center\, 1460 University Drive\, Winchester\, VA\, 22601\, United States
CATEGORIES:Student Life
GEO:39.1673226;-78.1573107
X-APPLE-STRUCTURED-LOCATION;VALUE=URI;X-ADDRESS=Brandt Student Center 1460 University Drive Winchester VA 22601 United States;X-APPLE-RADIUS=500;X-TITLE=1460 University Drive:geo:-78.1573107,39.1673226
END:VEVENT
END:VCALENDAR