BEGIN:VCALENDAR
VERSION:2.0
PRODID:-//Shenandoah University - ECPv6.15.18//NONSGML v1.0//EN
CALSCALE:GREGORIAN
METHOD:PUBLISH
X-WR-CALNAME:Shenandoah University
X-ORIGINAL-URL:https://www.su.edu
X-WR-CALDESC:Events for Shenandoah University
REFRESH-INTERVAL;VALUE=DURATION:PT1H
X-Robots-Tag:noindex
X-PUBLISHED-TTL:PT1H
BEGIN:VTIMEZONE
TZID:America/New_York
BEGIN:DAYLIGHT
TZOFFSETFROM:-0500
TZOFFSETTO:-0400
TZNAME:EDT
DTSTART:20250309T070000
END:DAYLIGHT
BEGIN:STANDARD
TZOFFSETFROM:-0400
TZOFFSETTO:-0500
TZNAME:EST
DTSTART:20251102T060000
END:STANDARD
BEGIN:DAYLIGHT
TZOFFSETFROM:-0500
TZOFFSETTO:-0400
TZNAME:EDT
DTSTART:20260308T070000
END:DAYLIGHT
BEGIN:STANDARD
TZOFFSETFROM:-0400
TZOFFSETTO:-0500
TZNAME:EST
DTSTART:20261101T060000
END:STANDARD
BEGIN:DAYLIGHT
TZOFFSETFROM:-0500
TZOFFSETTO:-0400
TZNAME:EDT
DTSTART:20270314T070000
END:DAYLIGHT
BEGIN:STANDARD
TZOFFSETFROM:-0400
TZOFFSETTO:-0500
TZNAME:EST
DTSTART:20271107T060000
END:STANDARD
END:VTIMEZONE
BEGIN:VEVENT
DTSTART;TZID=America/New_York:20260319T160000
DTEND;TZID=America/New_York:20260319T160000
DTSTAMP:20260419T195158
CREATED:20260205T150810Z
LAST-MODIFIED:20260205T150813Z
UID:10003687-1773936000-1773936000@www.su.edu
SUMMARY:The Women Who Have Redefined Leadership
DESCRIPTION:Home » Events » Page 26\n\n\n\nFaculty Recital: Zoeter & Friends Faculty Chamber Music Concert\n\n\n\n\n History is more than just dates and names — it is a tapestry of courage\, resilience\, and vision. Join The Not Just Women’s Center (NJWC) and Shenandoah Veterans and Supporters (SVS) for an evening of storytelling celebrating five extraordinary women from history who redefined leadership. From glass-shattering pioneers to trailblazing trans icons\, this event explores the lives of women who led with conviction when the world told them to stay silent. But their stories are only half the narrative. After looking at the past\, participants will turn the lens toward the present to reflect on the impactful women in their own lives. Come ready to learn\, share\, and honor the leaders who have shaped our world and our hearts. Contact the NJWC at thenjwc@su.edu with any questions.
URL:https://www.su.edu/event/the-women-who-have-redefined-leadership/
LOCATION:Brandt Student Center\, 1460 University Drive\, Winchester\, VA\, 22601\, United States
CATEGORIES:Clubs & Organizations,Diversity,Student Life
GEO:39.1673226;-78.1573107
X-APPLE-STRUCTURED-LOCATION;VALUE=URI;X-ADDRESS=Brandt Student Center 1460 University Drive Winchester VA 22601 United States;X-APPLE-RADIUS=500;X-TITLE=1460 University Drive:geo:-78.1573107,39.1673226
END:VEVENT
END:VCALENDAR