BEGIN:VCALENDAR
VERSION:2.0
PRODID:-//Shenandoah University - ECPv6.15.18//NONSGML v1.0//EN
CALSCALE:GREGORIAN
METHOD:PUBLISH
X-WR-CALNAME:Shenandoah University
X-ORIGINAL-URL:https://www.su.edu
X-WR-CALDESC:Events for Shenandoah University
REFRESH-INTERVAL;VALUE=DURATION:PT1H
X-Robots-Tag:noindex
X-PUBLISHED-TTL:PT1H
BEGIN:VTIMEZONE
TZID:America/New_York
BEGIN:DAYLIGHT
TZOFFSETFROM:-0500
TZOFFSETTO:-0400
TZNAME:EDT
DTSTART:20250309T070000
END:DAYLIGHT
BEGIN:STANDARD
TZOFFSETFROM:-0400
TZOFFSETTO:-0500
TZNAME:EST
DTSTART:20251102T060000
END:STANDARD
BEGIN:DAYLIGHT
TZOFFSETFROM:-0500
TZOFFSETTO:-0400
TZNAME:EDT
DTSTART:20260308T070000
END:DAYLIGHT
BEGIN:STANDARD
TZOFFSETFROM:-0400
TZOFFSETTO:-0500
TZNAME:EST
DTSTART:20261101T060000
END:STANDARD
BEGIN:DAYLIGHT
TZOFFSETFROM:-0500
TZOFFSETTO:-0400
TZNAME:EDT
DTSTART:20270314T070000
END:DAYLIGHT
BEGIN:STANDARD
TZOFFSETFROM:-0400
TZOFFSETTO:-0500
TZNAME:EST
DTSTART:20271107T060000
END:STANDARD
END:VTIMEZONE
BEGIN:VEVENT
DTSTART;TZID=America/New_York:20260320T110000
DTEND;TZID=America/New_York:20260320T150000
DTSTAMP:20260420T134434
CREATED:20260317T150538Z
LAST-MODIFIED:20260317T150541Z
UID:10003887-1774004400-1774018800@www.su.edu
SUMMARY:Spring Formal (Head in the Clouds) Ticket Info and More
DESCRIPTION:Home » Events » Page 28\n\n\n\nCore & More Fitness Class w/ SK\n\n\n\n\nSecure your spot for the most magical night of the semester by visiting the “Head in the Clouds” Spring Formal registration table on Friday\, March 20. The Campus Activities Network and the Student Government Association will be in the Brandt Student Center from 11 a.m.-3 p.m. to provide event details and assist with registration. Whether you are looking for ticket information or specific formal logistics\, representatives will be available to help you prepare for the upcoming celebration. For more information\, contact Caroline Evans at fuj83@su.edu. 
URL:https://www.su.edu/event/spring-formal-head-in-the-clouds-ticket-info-and-more/
LOCATION:Brandt Student Center\, 1460 University Drive\, Winchester\, VA\, 22601\, United States
CATEGORIES:Student Life
GEO:39.1673226;-78.1573107
X-APPLE-STRUCTURED-LOCATION;VALUE=URI;X-ADDRESS=Brandt Student Center 1460 University Drive Winchester VA 22601 United States;X-APPLE-RADIUS=500;X-TITLE=1460 University Drive:geo:-78.1573107,39.1673226
END:VEVENT
BEGIN:VEVENT
DTSTART;TZID=America/New_York:20260320T080000
DTEND;TZID=America/New_York:20260321T170000
DTSTAMP:20260420T134434
CREATED:20260310T134841Z
LAST-MODIFIED:20260310T183204Z
UID:10003870-1773993600-1774112400@www.su.edu
SUMMARY:Virginia Forum
DESCRIPTION:Home » Events » Page 28\n\n\n\nCore & More Fitness Class w/ SK\n\n\n\n\nIf you have any questions about registration\, please contact Prof. Jonathan A. Noyalas (Hugh & Virginia McCormick Chair in Civil War History at Shenandoah University)\, chair of the local arrangements committee for the 2026 Virginia Forum\, at jnoyalas01@su.edu.
URL:https://www.su.edu/academics/virginia-forum/
LOCATION:Main Campus\, 1460 University Drive\, Winchester\, VA\, 22601\, United States
GEO:39.1660132;-78.1583626
X-APPLE-STRUCTURED-LOCATION;VALUE=URI;X-ADDRESS=Main Campus 1460 University Drive Winchester VA 22601 United States;X-APPLE-RADIUS=500;X-TITLE=1460 University Drive:geo:-78.1583626,39.1660132
END:VEVENT
BEGIN:VEVENT
DTSTART;TZID=America/New_York:20260320T000000
DTEND;TZID=America/New_York:20260320T235959
DTSTAMP:20260420T134434
CREATED:20260318T202735Z
LAST-MODIFIED:20260318T202738Z
UID:10003889-1773964800-1774051199@www.su.edu
SUMMARY:Frozen Fish Friday
DESCRIPTION:Home » Events » Page 28\n\n\n\nCore & More Fitness Class w/ SK\n\n\n\n\nStock your freezer with high-quality protein during “Frozen Fish Friday” at Buzzy’s Food Pantry on March 20. Thanks to a generous donation from the Blue Ridge Area Food Bank\, the pantry is offering two-pound packages of frozen\, uncooked fish fillets while supplies last. Distribution begins at noon at the pantry\, located on the first floor of the Brandt Student Center. To help with meal preparation\, students can access a collection of simple fish recipes online that require only a few ingredients. For more information\, contact Rebecca Gibson at rgibson@su.edu. 
URL:https://www.su.edu/event/frozen-fish-friday/
LOCATION:Brandt Student Center\, 1460 University Drive\, Winchester\, VA\, 22601\, United States
CATEGORIES:Student Life
GEO:39.1673226;-78.1573107
X-APPLE-STRUCTURED-LOCATION;VALUE=URI;X-ADDRESS=Brandt Student Center 1460 University Drive Winchester VA 22601 United States;X-APPLE-RADIUS=500;X-TITLE=1460 University Drive:geo:-78.1573107,39.1673226
END:VEVENT
END:VCALENDAR