BEGIN:VCALENDAR
VERSION:2.0
PRODID:-//Shenandoah University - ECPv6.15.20//NONSGML v1.0//EN
CALSCALE:GREGORIAN
METHOD:PUBLISH
X-WR-CALNAME:Shenandoah University
X-ORIGINAL-URL:https://www.su.edu
X-WR-CALDESC:Events for Shenandoah University
REFRESH-INTERVAL;VALUE=DURATION:PT1H
X-Robots-Tag:noindex
X-PUBLISHED-TTL:PT1H
BEGIN:VTIMEZONE
TZID:America/New_York
BEGIN:DAYLIGHT
TZOFFSETFROM:-0500
TZOFFSETTO:-0400
TZNAME:EDT
DTSTART:20250309T070000
END:DAYLIGHT
BEGIN:STANDARD
TZOFFSETFROM:-0400
TZOFFSETTO:-0500
TZNAME:EST
DTSTART:20251102T060000
END:STANDARD
BEGIN:DAYLIGHT
TZOFFSETFROM:-0500
TZOFFSETTO:-0400
TZNAME:EDT
DTSTART:20260308T070000
END:DAYLIGHT
BEGIN:STANDARD
TZOFFSETFROM:-0400
TZOFFSETTO:-0500
TZNAME:EST
DTSTART:20261101T060000
END:STANDARD
BEGIN:DAYLIGHT
TZOFFSETFROM:-0500
TZOFFSETTO:-0400
TZNAME:EDT
DTSTART:20270314T070000
END:DAYLIGHT
BEGIN:STANDARD
TZOFFSETFROM:-0400
TZOFFSETTO:-0500
TZNAME:EST
DTSTART:20271107T060000
END:STANDARD
END:VTIMEZONE
BEGIN:VEVENT
DTSTART;TZID=America/New_York:20260427T000000
DTEND;TZID=America/New_York:20260427T235959
DTSTAMP:20260424T103702
CREATED:20260423T143531Z
LAST-MODIFIED:20260423T143535Z
UID:10004008-1777248000-1777334399@www.su.edu
SUMMARY:Pick-me-up Snacks for Finals at Buzzy’s Food Pantry
DESCRIPTION:Home » Events\n\n\n\nPick-me-up Snacks for Finals at Buzzy’s Food Pantry\n\n\n\n\nFuel your study sessions with a visit to Buzzy’s Food Pantry for its Finals Pick-Me-Up Snacks\, available from Monday\, April 27\, through the end of the semester. Located on the first floor of the Brandt Student Center\, the pantry will be stocked with special snacks designed to keep you energized and focused as you power through your exams. All students are welcome to stop by and grab what they need. For questions\, please reach out to buzzysfoodpantry@su.edu. 
URL:https://www.su.edu/event/pick-me-up-snacks-for-finals-at-buzzys-food-pantry/2026-04-27/
LOCATION:Brandt Student Center\, 1460 University Drive\, Winchester\, VA\, 22601\, United States
CATEGORIES:Clubs & Organizations,Student Life
GEO:39.1673226;-78.1573107
X-APPLE-STRUCTURED-LOCATION;VALUE=URI;X-ADDRESS=Brandt Student Center 1460 University Drive Winchester VA 22601 United States;X-APPLE-RADIUS=500;X-TITLE=1460 University Drive:geo:-78.1573107,39.1673226
END:VEVENT
BEGIN:VEVENT
DTSTART;TZID=America/New_York:20260428T000000
DTEND;TZID=America/New_York:20260428T235959
DTSTAMP:20260424T103702
CREATED:20260423T143531Z
LAST-MODIFIED:20260423T143535Z
UID:10004009-1777334400-1777420799@www.su.edu
SUMMARY:Pick-me-up Snacks for Finals at Buzzy’s Food Pantry
DESCRIPTION:Home » Events\n\n\n\nPick-me-up Snacks for Finals at Buzzy’s Food Pantry\n\n\n\n\nFuel your study sessions with a visit to Buzzy’s Food Pantry for its Finals Pick-Me-Up Snacks\, available from Monday\, April 27\, through the end of the semester. Located on the first floor of the Brandt Student Center\, the pantry will be stocked with special snacks designed to keep you energized and focused as you power through your exams. All students are welcome to stop by and grab what they need. For questions\, please reach out to buzzysfoodpantry@su.edu. 
URL:https://www.su.edu/event/pick-me-up-snacks-for-finals-at-buzzys-food-pantry/2026-04-28/
LOCATION:Brandt Student Center\, 1460 University Drive\, Winchester\, VA\, 22601\, United States
CATEGORIES:Clubs & Organizations,Student Life
GEO:39.1673226;-78.1573107
X-APPLE-STRUCTURED-LOCATION;VALUE=URI;X-ADDRESS=Brandt Student Center 1460 University Drive Winchester VA 22601 United States;X-APPLE-RADIUS=500;X-TITLE=1460 University Drive:geo:-78.1573107,39.1673226
END:VEVENT
BEGIN:VEVENT
DTSTART;TZID=America/New_York:20260429T000000
DTEND;TZID=America/New_York:20260429T235959
DTSTAMP:20260424T103702
CREATED:20260423T143531Z
LAST-MODIFIED:20260423T143535Z
UID:10004010-1777420800-1777507199@www.su.edu
SUMMARY:Pick-me-up Snacks for Finals at Buzzy’s Food Pantry
DESCRIPTION:Home » Events\n\n\n\nPick-me-up Snacks for Finals at Buzzy’s Food Pantry\n\n\n\n\nFuel your study sessions with a visit to Buzzy’s Food Pantry for its Finals Pick-Me-Up Snacks\, available from Monday\, April 27\, through the end of the semester. Located on the first floor of the Brandt Student Center\, the pantry will be stocked with special snacks designed to keep you energized and focused as you power through your exams. All students are welcome to stop by and grab what they need. For questions\, please reach out to buzzysfoodpantry@su.edu. 
URL:https://www.su.edu/event/pick-me-up-snacks-for-finals-at-buzzys-food-pantry/2026-04-29/
LOCATION:Brandt Student Center\, 1460 University Drive\, Winchester\, VA\, 22601\, United States
CATEGORIES:Clubs & Organizations,Student Life
GEO:39.1673226;-78.1573107
X-APPLE-STRUCTURED-LOCATION;VALUE=URI;X-ADDRESS=Brandt Student Center 1460 University Drive Winchester VA 22601 United States;X-APPLE-RADIUS=500;X-TITLE=1460 University Drive:geo:-78.1573107,39.1673226
END:VEVENT
BEGIN:VEVENT
DTSTART;TZID=America/New_York:20260430T000000
DTEND;TZID=America/New_York:20260430T235959
DTSTAMP:20260424T103702
CREATED:20260423T143531Z
LAST-MODIFIED:20260423T143535Z
UID:10004011-1777507200-1777593599@www.su.edu
SUMMARY:Pick-me-up Snacks for Finals at Buzzy’s Food Pantry
DESCRIPTION:Home » Events\n\n\n\nPick-me-up Snacks for Finals at Buzzy’s Food Pantry\n\n\n\n\nFuel your study sessions with a visit to Buzzy’s Food Pantry for its Finals Pick-Me-Up Snacks\, available from Monday\, April 27\, through the end of the semester. Located on the first floor of the Brandt Student Center\, the pantry will be stocked with special snacks designed to keep you energized and focused as you power through your exams. All students are welcome to stop by and grab what they need. For questions\, please reach out to buzzysfoodpantry@su.edu. 
URL:https://www.su.edu/event/pick-me-up-snacks-for-finals-at-buzzys-food-pantry/2026-04-30/
LOCATION:Brandt Student Center\, 1460 University Drive\, Winchester\, VA\, 22601\, United States
CATEGORIES:Clubs & Organizations,Student Life
GEO:39.1673226;-78.1573107
X-APPLE-STRUCTURED-LOCATION;VALUE=URI;X-ADDRESS=Brandt Student Center 1460 University Drive Winchester VA 22601 United States;X-APPLE-RADIUS=500;X-TITLE=1460 University Drive:geo:-78.1573107,39.1673226
END:VEVENT
BEGIN:VEVENT
DTSTART;TZID=America/New_York:20260501T000000
DTEND;TZID=America/New_York:20260501T235959
DTSTAMP:20260424T103702
CREATED:20260423T143531Z
LAST-MODIFIED:20260423T143535Z
UID:10004012-1777593600-1777679999@www.su.edu
SUMMARY:Pick-me-up Snacks for Finals at Buzzy’s Food Pantry
DESCRIPTION:Home » Events\n\n\n\nPick-me-up Snacks for Finals at Buzzy’s Food Pantry\n\n\n\n\nFuel your study sessions with a visit to Buzzy’s Food Pantry for its Finals Pick-Me-Up Snacks\, available from Monday\, April 27\, through the end of the semester. Located on the first floor of the Brandt Student Center\, the pantry will be stocked with special snacks designed to keep you energized and focused as you power through your exams. All students are welcome to stop by and grab what they need. For questions\, please reach out to buzzysfoodpantry@su.edu. 
URL:https://www.su.edu/event/pick-me-up-snacks-for-finals-at-buzzys-food-pantry/2026-05-01/
LOCATION:Brandt Student Center\, 1460 University Drive\, Winchester\, VA\, 22601\, United States
CATEGORIES:Clubs & Organizations,Student Life
GEO:39.1673226;-78.1573107
X-APPLE-STRUCTURED-LOCATION;VALUE=URI;X-ADDRESS=Brandt Student Center 1460 University Drive Winchester VA 22601 United States;X-APPLE-RADIUS=500;X-TITLE=1460 University Drive:geo:-78.1573107,39.1673226
END:VEVENT
BEGIN:VEVENT
DTSTART;TZID=America/New_York:20260502T000000
DTEND;TZID=America/New_York:20260502T235959
DTSTAMP:20260424T103702
CREATED:20260423T143531Z
LAST-MODIFIED:20260423T143535Z
UID:10004013-1777680000-1777766399@www.su.edu
SUMMARY:Pick-me-up Snacks for Finals at Buzzy’s Food Pantry
DESCRIPTION:Home » Events\n\n\n\nPick-me-up Snacks for Finals at Buzzy’s Food Pantry\n\n\n\n\nFuel your study sessions with a visit to Buzzy’s Food Pantry for its Finals Pick-Me-Up Snacks\, available from Monday\, April 27\, through the end of the semester. Located on the first floor of the Brandt Student Center\, the pantry will be stocked with special snacks designed to keep you energized and focused as you power through your exams. All students are welcome to stop by and grab what they need. For questions\, please reach out to buzzysfoodpantry@su.edu. 
URL:https://www.su.edu/event/pick-me-up-snacks-for-finals-at-buzzys-food-pantry/2026-05-02/
LOCATION:Brandt Student Center\, 1460 University Drive\, Winchester\, VA\, 22601\, United States
CATEGORIES:Clubs & Organizations,Student Life
GEO:39.1673226;-78.1573107
X-APPLE-STRUCTURED-LOCATION;VALUE=URI;X-ADDRESS=Brandt Student Center 1460 University Drive Winchester VA 22601 United States;X-APPLE-RADIUS=500;X-TITLE=1460 University Drive:geo:-78.1573107,39.1673226
END:VEVENT
BEGIN:VEVENT
DTSTART;TZID=America/New_York:20260503T000000
DTEND;TZID=America/New_York:20260503T235959
DTSTAMP:20260424T103702
CREATED:20260423T143531Z
LAST-MODIFIED:20260423T143535Z
UID:10004014-1777766400-1777852799@www.su.edu
SUMMARY:Pick-me-up Snacks for Finals at Buzzy’s Food Pantry
DESCRIPTION:Home » Events\n\n\n\nPick-me-up Snacks for Finals at Buzzy’s Food Pantry\n\n\n\n\nFuel your study sessions with a visit to Buzzy’s Food Pantry for its Finals Pick-Me-Up Snacks\, available from Monday\, April 27\, through the end of the semester. Located on the first floor of the Brandt Student Center\, the pantry will be stocked with special snacks designed to keep you energized and focused as you power through your exams. All students are welcome to stop by and grab what they need. For questions\, please reach out to buzzysfoodpantry@su.edu. 
URL:https://www.su.edu/event/pick-me-up-snacks-for-finals-at-buzzys-food-pantry/2026-05-03/
LOCATION:Brandt Student Center\, 1460 University Drive\, Winchester\, VA\, 22601\, United States
CATEGORIES:Clubs & Organizations,Student Life
GEO:39.1673226;-78.1573107
X-APPLE-STRUCTURED-LOCATION;VALUE=URI;X-ADDRESS=Brandt Student Center 1460 University Drive Winchester VA 22601 United States;X-APPLE-RADIUS=500;X-TITLE=1460 University Drive:geo:-78.1573107,39.1673226
END:VEVENT
BEGIN:VEVENT
DTSTART;TZID=America/New_York:20260504T000000
DTEND;TZID=America/New_York:20260504T235959
DTSTAMP:20260424T103702
CREATED:20260423T143531Z
LAST-MODIFIED:20260423T143535Z
UID:10004015-1777852800-1777939199@www.su.edu
SUMMARY:Pick-me-up Snacks for Finals at Buzzy’s Food Pantry
DESCRIPTION:Home » Events\n\n\n\nPick-me-up Snacks for Finals at Buzzy’s Food Pantry\n\n\n\n\nFuel your study sessions with a visit to Buzzy’s Food Pantry for its Finals Pick-Me-Up Snacks\, available from Monday\, April 27\, through the end of the semester. Located on the first floor of the Brandt Student Center\, the pantry will be stocked with special snacks designed to keep you energized and focused as you power through your exams. All students are welcome to stop by and grab what they need. For questions\, please reach out to buzzysfoodpantry@su.edu. 
URL:https://www.su.edu/event/pick-me-up-snacks-for-finals-at-buzzys-food-pantry/2026-05-04/
LOCATION:Brandt Student Center\, 1460 University Drive\, Winchester\, VA\, 22601\, United States
CATEGORIES:Clubs & Organizations,Student Life
GEO:39.1673226;-78.1573107
X-APPLE-STRUCTURED-LOCATION;VALUE=URI;X-ADDRESS=Brandt Student Center 1460 University Drive Winchester VA 22601 United States;X-APPLE-RADIUS=500;X-TITLE=1460 University Drive:geo:-78.1573107,39.1673226
END:VEVENT
BEGIN:VEVENT
DTSTART;TZID=America/New_York:20260505T000000
DTEND;TZID=America/New_York:20260505T235959
DTSTAMP:20260424T103702
CREATED:20260423T143531Z
LAST-MODIFIED:20260423T143535Z
UID:10004016-1777939200-1778025599@www.su.edu
SUMMARY:Pick-me-up Snacks for Finals at Buzzy’s Food Pantry
DESCRIPTION:Home » Events\n\n\n\nPick-me-up Snacks for Finals at Buzzy’s Food Pantry\n\n\n\n\nFuel your study sessions with a visit to Buzzy’s Food Pantry for its Finals Pick-Me-Up Snacks\, available from Monday\, April 27\, through the end of the semester. Located on the first floor of the Brandt Student Center\, the pantry will be stocked with special snacks designed to keep you energized and focused as you power through your exams. All students are welcome to stop by and grab what they need. For questions\, please reach out to buzzysfoodpantry@su.edu. 
URL:https://www.su.edu/event/pick-me-up-snacks-for-finals-at-buzzys-food-pantry/2026-05-05/
LOCATION:Brandt Student Center\, 1460 University Drive\, Winchester\, VA\, 22601\, United States
CATEGORIES:Clubs & Organizations,Student Life
GEO:39.1673226;-78.1573107
X-APPLE-STRUCTURED-LOCATION;VALUE=URI;X-ADDRESS=Brandt Student Center 1460 University Drive Winchester VA 22601 United States;X-APPLE-RADIUS=500;X-TITLE=1460 University Drive:geo:-78.1573107,39.1673226
END:VEVENT
BEGIN:VEVENT
DTSTART;TZID=America/New_York:20260506T000000
DTEND;TZID=America/New_York:20260506T235959
DTSTAMP:20260424T103702
CREATED:20260423T143531Z
LAST-MODIFIED:20260423T143535Z
UID:10004017-1778025600-1778111999@www.su.edu
SUMMARY:Pick-me-up Snacks for Finals at Buzzy’s Food Pantry
DESCRIPTION:Home » Events\n\n\n\nPick-me-up Snacks for Finals at Buzzy’s Food Pantry\n\n\n\n\nFuel your study sessions with a visit to Buzzy’s Food Pantry for its Finals Pick-Me-Up Snacks\, available from Monday\, April 27\, through the end of the semester. Located on the first floor of the Brandt Student Center\, the pantry will be stocked with special snacks designed to keep you energized and focused as you power through your exams. All students are welcome to stop by and grab what they need. For questions\, please reach out to buzzysfoodpantry@su.edu. 
URL:https://www.su.edu/event/pick-me-up-snacks-for-finals-at-buzzys-food-pantry/2026-05-06/
LOCATION:Brandt Student Center\, 1460 University Drive\, Winchester\, VA\, 22601\, United States
CATEGORIES:Clubs & Organizations,Student Life
GEO:39.1673226;-78.1573107
X-APPLE-STRUCTURED-LOCATION;VALUE=URI;X-ADDRESS=Brandt Student Center 1460 University Drive Winchester VA 22601 United States;X-APPLE-RADIUS=500;X-TITLE=1460 University Drive:geo:-78.1573107,39.1673226
END:VEVENT
BEGIN:VEVENT
DTSTART;TZID=America/New_York:20260507T000000
DTEND;TZID=America/New_York:20260507T235959
DTSTAMP:20260424T103702
CREATED:20260423T143531Z
LAST-MODIFIED:20260423T143535Z
UID:10004018-1778112000-1778198399@www.su.edu
SUMMARY:Pick-me-up Snacks for Finals at Buzzy’s Food Pantry
DESCRIPTION:Home » Events\n\n\n\nPick-me-up Snacks for Finals at Buzzy’s Food Pantry\n\n\n\n\nFuel your study sessions with a visit to Buzzy’s Food Pantry for its Finals Pick-Me-Up Snacks\, available from Monday\, April 27\, through the end of the semester. Located on the first floor of the Brandt Student Center\, the pantry will be stocked with special snacks designed to keep you energized and focused as you power through your exams. All students are welcome to stop by and grab what they need. For questions\, please reach out to buzzysfoodpantry@su.edu. 
URL:https://www.su.edu/event/pick-me-up-snacks-for-finals-at-buzzys-food-pantry/2026-05-07/
LOCATION:Brandt Student Center\, 1460 University Drive\, Winchester\, VA\, 22601\, United States
CATEGORIES:Clubs & Organizations,Student Life
GEO:39.1673226;-78.1573107
X-APPLE-STRUCTURED-LOCATION;VALUE=URI;X-ADDRESS=Brandt Student Center 1460 University Drive Winchester VA 22601 United States;X-APPLE-RADIUS=500;X-TITLE=1460 University Drive:geo:-78.1573107,39.1673226
END:VEVENT
END:VCALENDAR