BEGIN:VCALENDAR
VERSION:2.0
PRODID:-//Performs - ECPv6.15.18//NONSGML v1.0//EN
CALSCALE:GREGORIAN
METHOD:PUBLISH
X-ORIGINAL-URL:https://www.su.edu/performs
X-WR-CALDESC:Events for Performs
REFRESH-INTERVAL;VALUE=DURATION:PT1H
X-Robots-Tag:noindex
X-PUBLISHED-TTL:PT1H
BEGIN:VTIMEZONE
TZID:America/New_York
BEGIN:DAYLIGHT
TZOFFSETFROM:-0500
TZOFFSETTO:-0400
TZNAME:EDT
DTSTART:20250309T070000
END:DAYLIGHT
BEGIN:STANDARD
TZOFFSETFROM:-0400
TZOFFSETTO:-0500
TZNAME:EST
DTSTART:20251102T060000
END:STANDARD
BEGIN:DAYLIGHT
TZOFFSETFROM:-0500
TZOFFSETTO:-0400
TZNAME:EDT
DTSTART:20260308T070000
END:DAYLIGHT
BEGIN:STANDARD
TZOFFSETFROM:-0400
TZOFFSETTO:-0500
TZNAME:EST
DTSTART:20261101T060000
END:STANDARD
BEGIN:DAYLIGHT
TZOFFSETFROM:-0500
TZOFFSETTO:-0400
TZNAME:EDT
DTSTART:20270314T070000
END:DAYLIGHT
BEGIN:STANDARD
TZOFFSETFROM:-0400
TZOFFSETTO:-0500
TZNAME:EST
DTSTART:20271107T060000
END:STANDARD
END:VTIMEZONE
BEGIN:VEVENT
DTSTART;TZID=America/New_York:20260416T200000
DTEND;TZID=America/New_York:20260416T200000
DTSTAMP:20260416T111446
CREATED:20250723T180745Z
LAST-MODIFIED:20251230T145609Z
UID:10000204-1776369600-1776369600@www.su.edu
SUMMARY:CONTEMPO Ensemble
DESCRIPTION:SSMT: Beautiful: The Carole King Musical\n\n\n\n\n\n\nBright Box Theater \n\n\n\n\n\n\n\n\n\n\n\n\n\n\nThe Spring Playlist\n\n\n\nGolder O’Neill\, CONTEMPO Ensemble Director \n\n\n\nUnder the direction of Golder O’Neill\, The Spring Playlist features an unforgettable evening of music curated and performed by members of the CONTEMPO Ensemble. This dynamic group of vocalists and instrumentalists — rooted in diverse musical traditions — presents a vibrant mix of pop\, indie\, soul\, rock and original songs written by the ensemble. \n\n\n\nExperience heartfelt performances\, bold creativity and music that moves and connects. \n\n\n\n\nDigital Program\n\n\n\nShenandoah Conservatory uses digital programs for all performances. In addition to their engaging and accessible design\, digital programs are cost effective\, environmentally friendly and enable us to create and update our programs more efficiently\, which means we can focus our resources on the performances you love! View our digital programs by clicking the button above\, scanning the QR code in our venue or texting PROGRAM to (540) 307-2336 at the performance. [Note: Digital programs are best viewed on your mobile or tablet device.] \n\n\n\n\nView Digital Program
URL:https://www.su.edu/performs/event/26-04-contempo-ensemble/
LOCATION:Bright Box Theater\, 15 N Loudoun Street\, Winchester\, VA\, 22601
CATEGORIES:CONTEMPO Ensemble,Music,Upcoming
ATTACH;FMTTYPE=image/jpeg:https://www.su.edu/performs/wp-content/uploads/sites/4/2025/07/250409-ConservatorySession-287-CKingMedia.jpg
GEO:39.184485;-78.1657897
X-APPLE-STRUCTURED-LOCATION;VALUE=URI;X-ADDRESS=Bright Box Theater 15 N Loudoun Street Winchester VA 22601;X-APPLE-RADIUS=500;X-TITLE=15 N Loudoun Street:geo:-78.1657897,39.184485
END:VEVENT
BEGIN:VEVENT
DTSTART;TZID=America/New_York:20260417T193000
DTEND;TZID=America/New_York:20260417T193000
DTSTAMP:20260416T111446
CREATED:20250722T211620Z
LAST-MODIFIED:20260413T182709Z
UID:10000192-1776454200-1776454200@www.su.edu
SUMMARY:Commercial Rock Ensemble
DESCRIPTION:SSMT: Beautiful: The Carole King Musical\n\n\n\n\n\n\nArmstrong Concert Hall \n\n\n\n\n\n\n\n\n\n\n\n\n\n\nJazz & Commercial Music \n\n\n\nThe Realm of Rock Music\n\n\n\nThe Commercial Rock Ensemble (Matthew Niess\, director) takes the stage for a genre-defying journey through the bold\, soulful and ever-evolving world of rock. From iconic vocal anthems and horn-driven powerhouses to boundary-pushing instrumental works\, this dynamic performance celebrates the full spectrum of rock’s legacy. Featuring music inspired by legends like Joan Jett & The Blackhearts\, Duran Duran\, Billy Joel\, Blondie and more\, The Realm of Rock Music honors the past while embracing the innovative spirit that keeps the genre alive. \n\n\n\n\nDigital Program\n\n\n\nShenandoah Conservatory uses digital programs for all performances. In addition to their engaging and accessible design\, digital programs are cost effective\, environmentally friendly and enable us to create and update our programs more efficiently\, which means we can focus our resources on the performances you love! View our digital programs by clicking the button above\, scanning the QR code in our venue or texting PROGRAM to (540) 307-2336 at the performance. [Note: Digital programs are best viewed on your mobile or tablet device.] \n\n\n\n\nView Digital Program
URL:https://www.su.edu/performs/event/26-04-commercial-rock-ensemble/
LOCATION:Armstrong Concert Hall\, 702 University Drive\, Winchester\, VA\, 22601
CATEGORIES:Jazz & Commercial Music,Music,Upcoming
ATTACH;FMTTYPE=image/jpeg:https://www.su.edu/performs/wp-content/uploads/sites/4/2025/07/241018-CommercialRockEnsemble-49-SuzetteNiess.jpg
GEO:39.1667538;-78.1582394
X-APPLE-STRUCTURED-LOCATION;VALUE=URI;X-ADDRESS=Armstrong Concert Hall 702 University Drive Winchester VA 22601;X-APPLE-RADIUS=500;X-TITLE=702 University Drive:geo:-78.1582394,39.1667538
END:VEVENT
BEGIN:VEVENT
DTSTART;TZID=America/New_York:20260419T143000
DTEND;TZID=America/New_York:20260419T143000
DTSTAMP:20260416T111446
CREATED:20250722T211858Z
LAST-MODIFIED:20251230T151415Z
UID:10000193-1776609000-1776609000@www.su.edu
SUMMARY:Big Band Workshop
DESCRIPTION:SSMT: Beautiful: The Carole King Musical\n\n\n\n\n\n\nArmstrong Concert Hall \n\n\n\n\n\n\n\n\n\n\n\n\nJazz & Commercial Music \n\n\n\nSwingin’ into Spring\n\n\n\nCelebrate the arrival of spring with Swingin’ into Spring\, a lively concert featuring the Big Band Workshop under the direction of Alphonso Young\, Jr. This vibrant program blends jazz standards and contemporary tunes that capture the season’s joy\, renewal and energy\, guaranteed to leave you feeling inspired and ready to embrace spring with a swing in your step. \n\n\n\n\nDigital Program\n\n\n\nShenandoah Conservatory uses digital programs for all performances. In addition to their engaging and accessible design\, digital programs are cost effective\, environmentally friendly and enable us to create and update our programs more efficiently\, which means we can focus our resources on the performances you love! View our digital programs by clicking the button above\, scanning the QR code in our venue or texting PROGRAM to (540) 307-2336 at the performance. [Note: Digital programs are best viewed on your mobile or tablet device.] \n\n\n\n\nView Digital Program
URL:https://www.su.edu/performs/event/26-04-big-band-workshop/
LOCATION:Armstrong Concert Hall\, 702 University Drive\, Winchester\, VA\, 22601
CATEGORIES:Free Performances,Jazz & Commercial Music,Music,Upcoming
ATTACH;FMTTYPE=image/jpeg:https://www.su.edu/performs/wp-content/uploads/sites/4/2025/07/250411-StudioBigBand-05-SuzetteNiessPhotography.jpg
GEO:39.1667538;-78.1582394
X-APPLE-STRUCTURED-LOCATION;VALUE=URI;X-ADDRESS=Armstrong Concert Hall 702 University Drive Winchester VA 22601;X-APPLE-RADIUS=500;X-TITLE=702 University Drive:geo:-78.1582394,39.1667538
END:VEVENT
BEGIN:VEVENT
DTSTART;TZID=America/New_York:20260423T000000
DTEND;TZID=America/New_York:20260426T235959
DTSTAMP:20260416T111446
CREATED:20250722T141339Z
LAST-MODIFIED:20251230T153208Z
UID:10000168-1776902400-1777247999@www.su.edu
SUMMARY:Our Lady of 121st Street
DESCRIPTION:SSMT: Beautiful: The Carole King Musical\n\n\n\n\n\n\nGlaize Studio Theatre \n\n\n\n\n\n\n\n\n\n\n\n\n\n\nThursday\, April 23 at 7:30PMFriday\, April 24 at 7:30PMSaturday\, April 25 at 2:30PMSaturday\, April 25 at 7:30PMSunday\, April 26 at 2:30PM \n\n\n\nWritten by Stephen Adly Guirgis \n\n\n\nDirected by Scott Hudson \n\n\n\nThe Ortiz Funeral Room is in chaos: the body of beloved community activist and nun Sister Rose has been stolen\, leaving a group of former neighborhood schoolmates — now hardened by life and haunted by the past — to wrestle with grief\, secrets and uncertain futures. Directed by Scott Hudson\, this darkly insightful and sharply funny comedy brings together twelve unforgettable characters each teetering on the edge of revelation — from Rooftop\, a wildly popular but chronically unfaithful LA DJ desperate to make amends with the love of his life; to Pinky and Edwin\, two brothers forever bound by tragedy; to the fiery Norca\, who expects forgiveness from her best friend Inez after having slept with Inez’s husband fifteen years earlier. \n\n\n\nAs tensions rise and truths unravel\, this irreverent yet deeply human ensemble confronts rage\, pain and the raw need to finally come clean — perhaps for the very first time. \n\n\n\nSuggested Show Rating: R \n\n\n\n\nDigital Program\n\n\n\nShenandoah Conservatory uses digital programs for all performances. In addition to their engaging and accessible design\, digital programs are cost effective\, environmentally friendly and enable us to create and update our programs more efficiently\, which means we can focus our resources on the performances you love! View our digital programs by clicking the button above\, scanning the QR code in our venue or texting PROGRAM to (540) 307-2336 at the performance. [Note: Digital programs are best viewed on your mobile or tablet device.] \n\n\n\n\nView Digital Program\n\n\n\n\n\n\n\nAccessibility\n\n\n\nAccommodations for disabilities may be arranged by contacting the Box Office at least three days prior to the performance.
URL:https://www.su.edu/performs/event/26-04-our-lady-of-121st-street/
LOCATION:Glaize Studio Theatre\, 620 Millwood Avenue\, Winchester\, VA\, 22601
CATEGORIES:Theatre,Upcoming
ATTACH;FMTTYPE=image/png:https://www.su.edu/performs/wp-content/uploads/sites/4/2025/07/OurLadyof121stStreet.png
GEO:39.166258;-78.161522
X-APPLE-STRUCTURED-LOCATION;VALUE=URI;X-ADDRESS=Glaize Studio Theatre 620 Millwood Avenue Winchester VA 22601;X-APPLE-RADIUS=500;X-TITLE=620 Millwood Avenue:geo:-78.161522,39.166258
END:VEVENT
BEGIN:VEVENT
DTSTART;TZID=America/New_York:20260424T193000
DTEND;TZID=America/New_York:20260424T193000
DTSTAMP:20260416T111446
CREATED:20250723T173318Z
LAST-MODIFIED:20260415T182735Z
UID:10000199-1777059000-1777059000@www.su.edu
SUMMARY:Hansel & Gretel
DESCRIPTION:Main Stage Opera with Symphony Orchestra\n\n\nSSMT: Beautiful: The Carole King Musical\n\n\n\n\n\n\nOhrstrom-Bryant Theatre \n\n\n\n\n\n\n\n\n\n\n\n\n\n\nFriday\, April 24 at 7:30PMSunday\, April 26 at 2:30PM \n\n\n\nMusic by Engelbert HumperdinckLibretto by Adelheid WetteTranslation by Cori Ellison \n\n\n\nEnter a magical world of wonder and whimsy with Engelbert Humperdinck’s beloved fairy tale opera\, Hansel & Gretel. Directed by Candace Evans\, this enchanting production brings to life the story of two children’s adventurous journey through the forest\, filled with charm\, mischief and unforgettable melodies. \n\n\n\nUnder the baton of Emanuele Andrizzi and the Shenandoah Conservatory Symphony Orchestra\, Humperdinck’s lush and captivating score creates a vivid musical landscape that perfectly complements the tale’s warmth and fantasy.  \n\n\n\nPrepare for an unforgettable evening where exquisite vocal performances\, enchanting set designs and vibrant costumes combine to create a magical experience. Offering a timeless operatic journey that delights and inspires\, Hansel & Gretel celebrates courage\, family and the power of imagination. \n\n\n\nBy arrangement with European American Music Distributors Company\, U.S. and Canadian agent for Schott Music\, publisher and copyright owner. \n\n\n\nSung in English with English surtitles \n\n\n\nGuest Director: Candace EvansConductor: Emanuele AndrizziChorus Master: Richard W. RobbinsMusical Preparation: Maja TremiszewskaChoreographer: Jessie LiSet Designer: R. Eric StoneCostume Designer: Jennifer Flitton AdamsLighting Designer: Andrew Carson Production Stage Manager: Amy J. LarsonProduction Mentor: John Bonanni \n\n\n\nSuggested Show Rating: PG \n\n\n\nThis production contains theatrical haze\, flashing lighting and a strobe light effect. Contact the Box Office for more information. \n\n\n\n\nDigital Program\n\n\n\nShenandoah Conservatory uses digital programs for all performances. In addition to their engaging and accessible design\, digital programs are cost effective\, environmentally friendly and enable us to create and update our programs more efficiently\, which means we can focus our resources on the performances you love! View our digital programs by clicking the button above\, scanning the QR code in our venue or texting PROGRAM to (540) 307-2336 at the performance. [Note: Digital programs are best viewed on your mobile or tablet device.] \n\n\n\n\nView Digital Program\n\n\n\n\n\n\n\nAccessibility\n\n\n\nInfrared hearing system headsets are available in Ohrstrom-Bryant Theatre only. Accommodations for disabilities may be arranged by contacting the Box Office at least three days prior to the performance.
URL:https://www.su.edu/performs/event/26-04-hansel-gretel/
LOCATION:Ohrstrom-Bryant Theatre\, 620 Millwood Avenue\, Winchester\, VA\, 22601
CATEGORIES:Music,Upcoming,Voice & Opera
ATTACH;FMTTYPE=image/jpeg:https://www.su.edu/performs/wp-content/uploads/sites/4/2025/07/Hansel-Gretel-ChatGPT.jpg
GEO:39.166258;-78.161522
X-APPLE-STRUCTURED-LOCATION;VALUE=URI;X-ADDRESS=Ohrstrom-Bryant Theatre 620 Millwood Avenue Winchester VA 22601;X-APPLE-RADIUS=500;X-TITLE=620 Millwood Avenue:geo:-78.161522,39.166258
END:VEVENT
BEGIN:VEVENT
DTSTART;TZID=America/New_York:20260426T143000
DTEND;TZID=America/New_York:20260426T173000
DTSTAMP:20260416T111446
CREATED:20250724T190213Z
LAST-MODIFIED:20260415T183136Z
UID:10000201-1777213800-1777224600@www.su.edu
SUMMARY:Hansel & Gretel
DESCRIPTION:Main Stage Opera with Symphony Orchestra\n\n\nSSMT: Beautiful: The Carole King Musical\n\n\n\n\n\n\nOhrstrom-Bryant Theatre \n\n\n\n\n\n\n\n\n\n\n\n\n\n\nFriday\, April 24 at 7:30PMSunday\, April 26 at 2:30PM \n\n\n\nMusic by Engelbert HumperdinckLibretto by Adelheid WetteTranslation by Cori Ellison \n\n\n\nEnter a magical world of wonder and whimsy with Engelbert Humperdinck’s beloved fairy tale opera\, Hansel & Gretel. Directed by Candace Evans\, this enchanting production brings to life the story of two children’s adventurous journey through the forest\, filled with charm\, mischief and unforgettable melodies. \n\n\n\nUnder the baton of Emanuele Andrizzi and the Shenandoah Conservatory Symphony Orchestra\, Humperdinck’s lush and captivating score creates a vivid musical landscape that perfectly complements the tale’s warmth and fantasy.  \n\n\n\nPrepare for an unforgettable evening where exquisite vocal performances\, enchanting set designs and vibrant costumes combine to create a magical experience. Offering a timeless operatic journey that delights and inspires\, Hansel & Gretel celebrates courage\, family and the power of imagination. \n\n\n\nBy arrangement with European American Music Distributors Company\, U.S. and Canadian agent for Schott Music\, publisher and copyright owner. \n\n\n\nSung in English with English surtitles \n\n\n\nGuest Director: Candace EvansConductor: Emanuele AndrizziChorus Master: Richard W. RobbinsMusical Preparation: Maja TremiszewskaChoreographer: Jessie LiSet Designer: R. Eric StoneCostume Designer: Jennifer Flitton AdamsLighting Designer: Andrew Carson Production Stage Manager: Amy J. LarsonProduction Mentor: John Bonanni \n\n\n\nSuggested Show Rating: PG \n\n\n\nThis production contains theatrical haze\, flashing lighting and a strobe light effect. Contact the Box Office for more information. \n\n\n\n\nDigital Program\n\n\n\nShenandoah Conservatory uses digital programs for all performances. In addition to their engaging and accessible design\, digital programs are cost effective\, environmentally friendly and enable us to create and update our programs more efficiently\, which means we can focus our resources on the performances you love! View our digital programs by clicking the button above\, scanning the QR code in our venue or texting PROGRAM to (540) 307-2336 at the performance. [Note: Digital programs are best viewed on your mobile or tablet device.] \n\n\n\n\nView Digital Program\n\n\n\n\n\n\n\nAccessibility\n\n\n\nInfrared hearing system headsets are available in Ohrstrom-Bryant Theatre only. Accommodations for disabilities may be arranged by contacting the Box Office at least three days prior to the performance.
URL:https://www.su.edu/performs/event/hansel-gretel/
LOCATION:Ohrstrom-Bryant Theatre\, 620 Millwood Avenue\, Winchester\, VA\, 22601
CATEGORIES:Music,Upcoming,Voice & Opera
ATTACH;FMTTYPE=image/jpeg:https://www.su.edu/performs/wp-content/uploads/sites/4/2025/07/Hansel-Gretel-ChatGPT.jpg
GEO:39.166258;-78.161522
X-APPLE-STRUCTURED-LOCATION;VALUE=URI;X-ADDRESS=Ohrstrom-Bryant Theatre 620 Millwood Avenue Winchester VA 22601;X-APPLE-RADIUS=500;X-TITLE=620 Millwood Avenue:geo:-78.161522,39.166258
END:VEVENT
BEGIN:VEVENT
DTSTART;TZID=America/New_York:20260430T193000
DTEND;TZID=America/New_York:20260430T193000
DTSTAMP:20260416T111446
CREATED:20250722T212506Z
LAST-MODIFIED:20251231T163003Z
UID:10000194-1777577400-1777577400@www.su.edu
SUMMARY:Essentially Ellington & International Jazz Day
DESCRIPTION:SSMT: Beautiful: The Carole King Musical\n\n\n\n\n\n\nOhrstrom-Bryant Theatre \n\n\n\n\n\n\n\n\n\n\n\n\n\n\nJazz & Commercial Music \n\n\n\nA Celebration of Duke Ellington’s Legacy\n\n\n\nThe Shenandoah Conservatory Studio Big Band\, under the direction of Matthew Niess\, joins forces with guest artists from Jazz at Lincoln Center and Shenandoah University jazz faculty for a grand concert celebrating the timeless music of Duke Ellington. This inspiring finale caps an all-day event of performances\, masterclasses and workshops\, bringing together high school jazz bands from across the region to honor the legacy of one of America’s greatest composers. Don’t miss this vibrant celebration of swing\, sophistication and jazz mastery. \n\n\n\n\nDigital Program\n\n\n\nShenandoah Conservatory uses digital programs for all performances. In addition to their engaging and accessible design\, digital programs are cost effective\, environmentally friendly and enable us to create and update our programs more efficiently\, which means we can focus our resources on the performances you love! View our digital programs by clicking the button above\, scanning the QR code in our venue or texting PROGRAM to (540) 307-2336 at the performance. [Note: Digital programs are best viewed on your mobile or tablet device.] \n\n\n\n\nView Digital Program
URL:https://www.su.edu/performs/event/26-04-essentially-ellington-international-jazz-day/
LOCATION:Ohrstrom-Bryant Theatre\, 620 Millwood Avenue\, Winchester\, VA\, 22601
CATEGORIES:Jazz & Commercial Music,Music,Upcoming
ATTACH;FMTTYPE=image/jpeg:https://www.su.edu/performs/wp-content/uploads/sites/4/2025/07/250501-StudioBigBand-EssentiallyEllington-059-SuzetteNiessPhotography.jpg
GEO:39.166258;-78.161522
X-APPLE-STRUCTURED-LOCATION;VALUE=URI;X-ADDRESS=Ohrstrom-Bryant Theatre 620 Millwood Avenue Winchester VA 22601;X-APPLE-RADIUS=500;X-TITLE=620 Millwood Avenue:geo:-78.161522,39.166258
END:VEVENT
BEGIN:VEVENT
DTSTART;TZID=America/New_York:20260619T000000
DTEND;TZID=America/New_York:20260705T235959
DTSTAMP:20260416T111446
CREATED:20251014T144817Z
LAST-MODIFIED:20251125T183130Z
UID:10000245-1781827200-1783295999@www.su.edu
SUMMARY:SSMT: Guys and Dolls
DESCRIPTION:SSMT: Beautiful: The Carole King Musical\n\n\n\n\n\n\nOhrstrom-Bryant Theatre \n\n\n\n\n\n\n\n\n\n\n\n\n\nThe dice are hot and so are the laughs in this timeless musical jackpot! Guys and Dolls is a rollicking romp through the streets of New York packed with gambling gangsters\, glamorous gals and some of Broadway’s most iconic tunes\, including “Luck Be a Lady” and “Sit Down\, You’re Rockin’ the Boat.” This show is a sure bet for the whole family! \n\n\n\nSuggested Show Rating: G
URL:https://www.ssmtva.org/2025/10/guys-dolls/#new_tab
LOCATION:Ohrstrom-Bryant Theatre\, 620 Millwood Avenue\, Winchester\, VA\, 22601
CATEGORIES:Shenandoah Summer Music Theatre,Theatre,Upcoming
ATTACH;FMTTYPE=image/jpeg:https://www.su.edu/performs/wp-content/uploads/sites/4/2025/11/SSMT-2026-GuysAndDolls.jpg
GEO:39.166258;-78.161522
X-APPLE-STRUCTURED-LOCATION;VALUE=URI;X-ADDRESS=Ohrstrom-Bryant Theatre 620 Millwood Avenue Winchester VA 22601;X-APPLE-RADIUS=500;X-TITLE=620 Millwood Avenue:geo:-78.161522,39.166258
END:VEVENT
BEGIN:VEVENT
DTSTART;TZID=America/New_York:20260710T000000
DTEND;TZID=America/New_York:20260719T235959
DTSTAMP:20260416T111446
CREATED:20251014T174728Z
LAST-MODIFIED:20251201T171316Z
UID:10000246-1783641600-1784505599@www.su.edu
SUMMARY:SSMT: She Loves Me
DESCRIPTION:SSMT: Beautiful: The Carole King Musical\n\n\n\n\n\n\nOhrstrom-Bryant Theatre \n\n\n\n\n\n\n\n\n\n\n\n\n\nShe Loves Me is one of the most charming romantic comedies ever written. From the legendary authors of Fiddler on the Roof\, this glittering jewel of a musical is based on the timeless story that inspired The Shop Around the Corner and You’ve Got Mail. Two shop clerks who can’t stand each other secretly fall in love as anonymous pen pals. With its lush score and witty humor\, this is a heart-stealing celebration of finding love where you least expect it. (Rated G) \n\n\n\nSuggested Show Rating: G
URL:https://www.ssmtva.org/2025/10/she-loves-me/#new_tab
LOCATION:Ohrstrom-Bryant Theatre\, 620 Millwood Avenue\, Winchester\, VA\, 22601
CATEGORIES:Shenandoah Summer Music Theatre,Theatre,Upcoming
ATTACH;FMTTYPE=image/jpeg:https://www.su.edu/performs/wp-content/uploads/sites/4/2025/11/SSMT-2026-SheLovesMe.jpg
GEO:39.166258;-78.161522
X-APPLE-STRUCTURED-LOCATION;VALUE=URI;X-ADDRESS=Ohrstrom-Bryant Theatre 620 Millwood Avenue Winchester VA 22601;X-APPLE-RADIUS=500;X-TITLE=620 Millwood Avenue:geo:-78.161522,39.166258
END:VEVENT
BEGIN:VEVENT
DTSTART;TZID=America/New_York:20260724T000000
DTEND;TZID=America/New_York:20260802T235959
DTSTAMP:20260416T111446
CREATED:20251014T175915Z
LAST-MODIFIED:20251125T183101Z
UID:10000247-1784851200-1785715199@www.su.edu
SUMMARY:SSMT: Beautiful: The Carole King Musical
DESCRIPTION:SSMT: Beautiful: The Carole King Musical\n\n\n\n\n\n\nOhrstrom-Bryant Theatre \n\n\n\n\n\n\n\n\n\n\n\n\n\nBefore she was a legend\, she was a girl with a dream. Follow Carole King’s remarkable rise from writing hits for others to finding her own voice as an icon. With unforgettable classics like “You’ve Got a Friend\,” “One Fine Day\,” “Natural Woman” and “I Feel the Earth Move\,” this Tony Award-winning hit captures the spirit\, sound\, and soul of an extraordinary artist. \n\n\n\nSuggested Show Rating: PG
URL:https://www.ssmtva.org/2025/10/beautiful-the-carole-king-musical/#new_tab
LOCATION:Ohrstrom-Bryant Theatre\, 620 Millwood Avenue\, Winchester\, VA\, 22601
CATEGORIES:Shenandoah Summer Music Theatre,Theatre,Upcoming
ATTACH;FMTTYPE=image/jpeg:https://www.su.edu/performs/wp-content/uploads/sites/4/2025/11/SSMT-2026-BeautifulACarolKingMusical.jpg
GEO:39.166258;-78.161522
X-APPLE-STRUCTURED-LOCATION;VALUE=URI;X-ADDRESS=Ohrstrom-Bryant Theatre 620 Millwood Avenue Winchester VA 22601;X-APPLE-RADIUS=500;X-TITLE=620 Millwood Avenue:geo:-78.161522,39.166258
END:VEVENT
END:VCALENDAR