BEGIN:VCALENDAR
VERSION:2.0
PRODID:-//Shenandoah University - ECPv6.15.20//NONSGML v1.0//EN
CALSCALE:GREGORIAN
METHOD:PUBLISH
X-WR-CALNAME:Shenandoah University
X-ORIGINAL-URL:https://www.su.edu
X-WR-CALDESC:Events for Shenandoah University
REFRESH-INTERVAL;VALUE=DURATION:PT1H
X-Robots-Tag:noindex
X-PUBLISHED-TTL:PT1H
BEGIN:VTIMEZONE
TZID:America/New_York
BEGIN:DAYLIGHT
TZOFFSETFROM:-0500
TZOFFSETTO:-0400
TZNAME:EDT
DTSTART:20250309T070000
END:DAYLIGHT
BEGIN:STANDARD
TZOFFSETFROM:-0400
TZOFFSETTO:-0500
TZNAME:EST
DTSTART:20251102T060000
END:STANDARD
BEGIN:DAYLIGHT
TZOFFSETFROM:-0500
TZOFFSETTO:-0400
TZNAME:EDT
DTSTART:20260308T070000
END:DAYLIGHT
BEGIN:STANDARD
TZOFFSETFROM:-0400
TZOFFSETTO:-0500
TZNAME:EST
DTSTART:20261101T060000
END:STANDARD
BEGIN:DAYLIGHT
TZOFFSETFROM:-0500
TZOFFSETTO:-0400
TZNAME:EDT
DTSTART:20270314T070000
END:DAYLIGHT
BEGIN:STANDARD
TZOFFSETFROM:-0400
TZOFFSETTO:-0500
TZNAME:EST
DTSTART:20271107T060000
END:STANDARD
END:VTIMEZONE
BEGIN:VEVENT
DTSTART;TZID=America/New_York:20260425T143000
DTEND;TZID=America/New_York:20260425T143000
DTSTAMP:20260425T032215
CREATED:20251212T202142Z
LAST-MODIFIED:20251212T202144Z
UID:10003292-1777127400-1777127400@www.su.edu
SUMMARY:NW Works Chimers
DESCRIPTION:Home » Armstrong Concert Hall\n\n\n\nArmstrong Concert Hall\n\n\n\n\nJoin the NW Works Chimers for a lively celebration of personal growth\, human connection and self-expression! \n\n\n\nThis event is free and open to the public; no tickets are required. Visit conservatoryperforms.org to learn more and explore the digital program.
URL:https://www.su.edu/performs/event/26-04-nw-works-chimers/#new_tab
LOCATION:Armstrong Concert Hall\, 702 UNIVERSITY DR.\, Winchester\, VA\, 22601\, United States
CATEGORIES:Music,Performances
GEO:39.1668192;-78.1583137
X-APPLE-STRUCTURED-LOCATION;VALUE=URI;X-ADDRESS=Armstrong Concert Hall 702 UNIVERSITY DR. Winchester VA 22601 United States;X-APPLE-RADIUS=500;X-TITLE=702 UNIVERSITY DR.:geo:-78.1583137,39.1668192
END:VEVENT
BEGIN:VEVENT
DTSTART;TZID=America/New_York:20260426T143000
DTEND;TZID=America/New_York:20260426T143000
DTSTAMP:20260425T032216
CREATED:20251212T202403Z
LAST-MODIFIED:20251212T202405Z
UID:10003294-1777213800-1777213800@www.su.edu
SUMMARY:Symphonic Band
DESCRIPTION:Home » Armstrong Concert Hall\n\n\n\nArmstrong Concert Hall\n\n\n\n\nThe Symphonic Band presents an afternoon of works for symphonic winds under the direction of Shaun Evans. \n\n\n\nThis event is free and open to the public; no tickets are required. Visit conservatoryperforms.org to learn more and explore the digital program.
URL:https://www.su.edu/performs/event/26-04-symphonic-band/#new_tab
LOCATION:Armstrong Concert Hall\, 702 UNIVERSITY DR.\, Winchester\, VA\, 22601\, United States
CATEGORIES:Music,Performances
GEO:39.1668192;-78.1583137
X-APPLE-STRUCTURED-LOCATION;VALUE=URI;X-ADDRESS=Armstrong Concert Hall 702 UNIVERSITY DR. Winchester VA 22601 United States;X-APPLE-RADIUS=500;X-TITLE=702 UNIVERSITY DR.:geo:-78.1583137,39.1668192
END:VEVENT
BEGIN:VEVENT
DTSTART;TZID=America/New_York:20260429T193000
DTEND;TZID=America/New_York:20260429T193000
DTSTAMP:20260425T032216
CREATED:20251212T202725Z
LAST-MODIFIED:20251212T202727Z
UID:10003297-1777491000-1777491000@www.su.edu
SUMMARY:Percussion Ensemble
DESCRIPTION:Home » Armstrong Concert Hall\n\n\n\nArmstrong Concert Hall\n\n\n\n\nUnder the direction of Assistant Professor of Percussion Karlyn Viña\, members of the Percussion Ensemble present their spring concert. \n\n\n\nThis event is free and open to the public; no tickets are required. Visit conservatoryperforms.org to learn more and explore the digital program.
URL:https://www.su.edu/performs/event/26-04-percussion-ensemble/#new_tab
LOCATION:Armstrong Concert Hall\, 702 UNIVERSITY DR.\, Winchester\, VA\, 22601\, United States
CATEGORIES:Music,Performances
GEO:39.1668192;-78.1583137
X-APPLE-STRUCTURED-LOCATION;VALUE=URI;X-ADDRESS=Armstrong Concert Hall 702 UNIVERSITY DR. Winchester VA 22601 United States;X-APPLE-RADIUS=500;X-TITLE=702 UNIVERSITY DR.:geo:-78.1583137,39.1668192
END:VEVENT
BEGIN:VEVENT
DTSTART;TZID=America/New_York:20260508T190000
DTEND;TZID=America/New_York:20260508T210000
DTSTAMP:20260425T032216
CREATED:20260218T170313Z
LAST-MODIFIED:20260218T170643Z
UID:10003732-1778266800-1778274000@www.su.edu
SUMMARY:Shenandoah Conservatory Honors Recital\, Awards Ceremony & Graduate Hooding
DESCRIPTION:Home » Armstrong Concert Hall\n\n\n\nArmstrong Concert Hall\n\n\n\n\n\n\nThe Shenandoah Conservatory Honors Recital\, Awards Ceremony and Graduate Hooding is on Friday\, May 8 at 7 p.m. in Armstrong Concert Hall. For more information\, contact epn39@su.edu.
URL:https://www.su.edu/event/shenandoah-conservatory-honors-recital-awards-ceremony-graduate-hooding/
LOCATION:Armstrong Concert Hall\, 702 UNIVERSITY DR.\, Winchester\, VA\, 22601\, United States
CATEGORIES:Commencement
GEO:39.1668192;-78.1583137
X-APPLE-STRUCTURED-LOCATION;VALUE=URI;X-ADDRESS=Armstrong Concert Hall 702 UNIVERSITY DR. Winchester VA 22601 United States;X-APPLE-RADIUS=500;X-TITLE=702 UNIVERSITY DR.:geo:-78.1583137,39.1668192
END:VEVENT
END:VCALENDAR