BEGIN:VCALENDAR
VERSION:2.0
PRODID:-//Shenandoah University - ECPv6.15.20//NONSGML v1.0//EN
CALSCALE:GREGORIAN
METHOD:PUBLISH
X-ORIGINAL-URL:https://www.su.edu
X-WR-CALDESC:Events for Shenandoah University
REFRESH-INTERVAL;VALUE=DURATION:PT1H
X-Robots-Tag:noindex
X-PUBLISHED-TTL:PT1H
BEGIN:VTIMEZONE
TZID:America/New_York
BEGIN:DAYLIGHT
TZOFFSETFROM:-0500
TZOFFSETTO:-0400
TZNAME:EDT
DTSTART:20250309T070000
END:DAYLIGHT
BEGIN:STANDARD
TZOFFSETFROM:-0400
TZOFFSETTO:-0500
TZNAME:EST
DTSTART:20251102T060000
END:STANDARD
BEGIN:DAYLIGHT
TZOFFSETFROM:-0500
TZOFFSETTO:-0400
TZNAME:EDT
DTSTART:20260308T070000
END:DAYLIGHT
BEGIN:STANDARD
TZOFFSETFROM:-0400
TZOFFSETTO:-0500
TZNAME:EST
DTSTART:20261101T060000
END:STANDARD
BEGIN:DAYLIGHT
TZOFFSETFROM:-0500
TZOFFSETTO:-0400
TZNAME:EDT
DTSTART:20270314T070000
END:DAYLIGHT
BEGIN:STANDARD
TZOFFSETFROM:-0400
TZOFFSETTO:-0500
TZNAME:EST
DTSTART:20271107T060000
END:STANDARD
END:VTIMEZONE
BEGIN:VEVENT
DTSTART;TZID=America/New_York:20260428T130000
DTEND;TZID=America/New_York:20260428T130000
DTSTAMP:20260424T120246
CREATED:20260422T150217Z
LAST-MODIFIED:20260422T150220Z
UID:10003990-1777381200-1777381200@www.su.edu
SUMMARY:Special Community Celebration
DESCRIPTION:Home » Buzzy Plaza\n\n\n\nBuzzy Plaza\n\n\n\n\nShenandoah University invites the entire community to a special community celebration on Tuesday\, April 28\, at 1 p.m. at Buzzy’s Plaza outside of the Wilkins Athletics & Events Center. The Office of Advancement will announce a transformative milestone that promises to change the game for every Hornet\, past and present. While the specific details are being kept under wraps until the event\, this announcement marks a significant moment in the university’s history. Attendees are encouraged to gather at the plaza to be among the first to hear this major news. For questions\, please contact Myles Hairston at mhairsto10@su.edu.  
URL:https://www.su.edu/event/special-community-celebration/
LOCATION:Buzzy Plaza\, United States
CATEGORIES:Admissions,Student Life
GEO:37.09024;-95.712891
END:VEVENT
END:VCALENDAR