BEGIN:VCALENDAR
VERSION:2.0
PRODID:-//Shenandoah University - ECPv6.15.18//NONSGML v1.0//EN
CALSCALE:GREGORIAN
METHOD:PUBLISH
X-ORIGINAL-URL:https://www.su.edu
X-WR-CALDESC:Events for Shenandoah University
REFRESH-INTERVAL;VALUE=DURATION:PT1H
X-Robots-Tag:noindex
X-PUBLISHED-TTL:PT1H
BEGIN:VTIMEZONE
TZID:America/New_York
BEGIN:DAYLIGHT
TZOFFSETFROM:-0500
TZOFFSETTO:-0400
TZNAME:EDT
DTSTART:20250309T070000
END:DAYLIGHT
BEGIN:STANDARD
TZOFFSETFROM:-0400
TZOFFSETTO:-0500
TZNAME:EST
DTSTART:20251102T060000
END:STANDARD
BEGIN:DAYLIGHT
TZOFFSETFROM:-0500
TZOFFSETTO:-0400
TZNAME:EDT
DTSTART:20260308T070000
END:DAYLIGHT
BEGIN:STANDARD
TZOFFSETFROM:-0400
TZOFFSETTO:-0500
TZNAME:EST
DTSTART:20261101T060000
END:STANDARD
BEGIN:DAYLIGHT
TZOFFSETFROM:-0500
TZOFFSETTO:-0400
TZNAME:EDT
DTSTART:20270314T070000
END:DAYLIGHT
BEGIN:STANDARD
TZOFFSETFROM:-0400
TZOFFSETTO:-0500
TZNAME:EST
DTSTART:20271107T060000
END:STANDARD
END:VTIMEZONE
BEGIN:VEVENT
DTSTART;TZID=America/New_York:20260419T181500
DTEND;TZID=America/New_York:20260419T194500
DTSTAMP:20260419T000349
CREATED:20260416T153401Z
LAST-MODIFIED:20260416T153405Z
UID:10003978-1776622500-1776627900@www.su.edu
SUMMARY:
DESCRIPTION:Home » Goodson Chapel / Recital Hall\n\n\n\n\nBishop’s Mass & Catholic Campus Ministry Banquet \n\n\n\n\n\nExperience a milestone for the university on Sunday\, April 19\, as Bishop Michael Burbidge of the Catholic Diocese of Arlington visits campus\, marking the first visit by a bishop of the diocese in Shenandoah University’s history. The evening begins at 5 p.m. in Goodson Chapel-Recital Hall with a celebrated Mass\, followed by the Catholic Campus Ministry (CCM) End-of-Year Banquet held outdoors in front of the chapel from 6:15-7:45 p.m. All students\, faculty\, and staff\, regardless of faith background are warmly invited to attend and meet the bishop\, who has expressed a particular interest in connecting with the young people of SU. The banquet will feature dinner catered by Mission BBQ. The preferred dress code is dressy casual. While RSVPs are not required\, they are strongly encouraged to assist with catering and logistics; please register via Evite and indicate if you plan to attend the Mass\, the banquet\, or both. This event is hosted by Catholic Campus Ministry (CCM). For questions\, please contact Mike Filamor at shenandoahccm@gmail.com. 
URL:https://www.su.edu/event/45969/
LOCATION:Goodson Chapel / Recital Hall\, 1400 L. P. HILL DR.\, Winchester\, VA\, 22601\, United States
CATEGORIES:Spiritual Life,Student Life
GEO:39.1667245;-78.1562205
X-APPLE-STRUCTURED-LOCATION;VALUE=URI;X-ADDRESS=Goodson Chapel / Recital Hall 1400 L. P. HILL DR. Winchester VA 22601 United States;X-APPLE-RADIUS=500;X-TITLE=1400 L. P. HILL DR.:geo:-78.1562205,39.1667245
END:VEVENT
BEGIN:VEVENT
DTSTART;TZID=America/New_York:20260419T200000
DTEND;TZID=America/New_York:20260419T210000
DTSTAMP:20260419T000349
CREATED:20260115T211524Z
LAST-MODIFIED:20260115T211526Z
UID:10003496-1776628800-1776632400@www.su.edu
SUMMARY:Sunday Night: Live
DESCRIPTION:Home » Goodson Chapel / Recital Hall\n\n\n\nGoodson Chapel / Recital Hall\n\n\n\n\nThe Office of Spiritual Life invites students and staff to attend Sunday Night: Live\, a weekly ecumenical Christian worship service held on Sundays from 8-9 p.m. in Goodson Chapel-Recital Hall. All Shenandoah University students and staff are welcome to participate in worship and community each week throughout the semester. For more information\, contact DeLyn Celec at delyn.celec@su.edu. 
URL:https://www.su.edu/event/sunday-night-live/2026-04-19/
LOCATION:Goodson Chapel / Recital Hall\, 1400 L. P. HILL DR.\, Winchester\, VA\, 22601\, United States
CATEGORIES:Spiritual Life,Student Life
GEO:39.1667245;-78.1562205
X-APPLE-STRUCTURED-LOCATION;VALUE=URI;X-ADDRESS=Goodson Chapel / Recital Hall 1400 L. P. HILL DR. Winchester VA 22601 United States;X-APPLE-RADIUS=500;X-TITLE=1400 L. P. HILL DR.:geo:-78.1562205,39.1667245
END:VEVENT
BEGIN:VEVENT
DTSTART;TZID=America/New_York:20260420T193000
DTEND;TZID=America/New_York:20260420T193000
DTSTAMP:20260419T000349
CREATED:20251212T201408Z
LAST-MODIFIED:20260406T181723Z
UID:10003283-1776713400-1776713400@www.su.edu
SUMMARY:Guest Artist Recital: Nicolas Prost\, saxophone & Sébastien Paindestre\, piano
DESCRIPTION:Home » Goodson Chapel / Recital Hall\n\n\n\nGoodson Chapel / Recital Hall\n\n\n\n\nKnown for their electrifying performances and adventurous programming\, internationally acclaimed saxophonist Nicolas Prost and pianist Sébastien Paindestre present “Border Jazz\,” a program that pushes the boundaries of their instruments with dazzling technique and expressive depth. \n\n\n\nThis event is free and open to the public; no tickets are required. Visit conservatoryperforms.org to learn more and explore the digital program.
URL:https://www.su.edu/performs/event/26-04-nicolas-prost-saxophone/#new_tab
LOCATION:Goodson Chapel / Recital Hall\, 1400 L. P. HILL DR.\, Winchester\, VA\, 22601\, United States
CATEGORIES:Music,Performances
GEO:39.1667245;-78.1562205
X-APPLE-STRUCTURED-LOCATION;VALUE=URI;X-ADDRESS=Goodson Chapel / Recital Hall 1400 L. P. HILL DR. Winchester VA 22601 United States;X-APPLE-RADIUS=500;X-TITLE=1400 L. P. HILL DR.:geo:-78.1562205,39.1667245
END:VEVENT
BEGIN:VEVENT
DTSTART;TZID=America/New_York:20260421T193000
DTEND;TZID=America/New_York:20260421T193000
DTSTAMP:20260419T000349
CREATED:20251212T201532Z
LAST-MODIFIED:20251212T201534Z
UID:10003284-1776799800-1776799800@www.su.edu
SUMMARY:Guitar Ensemble
DESCRIPTION:Home » Goodson Chapel / Recital Hall\n\n\n\nGoodson Chapel / Recital Hall\n\n\n\n\nUnder the direction of Associate Professor of Guitar Colin Davin\, members of the Guitar Ensemble present their spring concert. \n\n\n\nThis event is free and open to the public; no tickets are required. Visit conservatoryperforms.org to learn more and explore the digital program.
URL:https://www.su.edu/performs/event/26-04-guitar-ensemble/#new_tab
LOCATION:Goodson Chapel / Recital Hall\, 1400 L. P. HILL DR.\, Winchester\, VA\, 22601\, United States
CATEGORIES:Music,Performances
GEO:39.1667245;-78.1562205
X-APPLE-STRUCTURED-LOCATION;VALUE=URI;X-ADDRESS=Goodson Chapel / Recital Hall 1400 L. P. HILL DR. Winchester VA 22601 United States;X-APPLE-RADIUS=500;X-TITLE=1400 L. P. HILL DR.:geo:-78.1562205,39.1667245
END:VEVENT
BEGIN:VEVENT
DTSTART;TZID=America/New_York:20260425T140000
DTEND;TZID=America/New_York:20260425T163000
DTSTAMP:20260419T000349
CREATED:20260401T155107Z
LAST-MODIFIED:20260401T155110Z
UID:10003930-1777125600-1777134600@www.su.edu
SUMMARY:Harambee Gospel Choir Spring Concert
DESCRIPTION:Home » Goodson Chapel / Recital Hall\n\n\n\nGoodson Chapel / Recital Hall\n\n\n\n\nThe Harambee Gospel Choir invites the university community to attend a spring concert\, “The Resurrection & The Promise.” This end-of-semester celebration takes place on Saturday\, April 25\, from 2-4:30 p.m. in Goodson Chapel-Recital Hall. For any questions\, please contact the Harambee Gospel Choir at harambee@su.edu. 
URL:https://www.su.edu/event/harambee-gospel-choir-spring-concert/
LOCATION:Goodson Chapel / Recital Hall\, 1400 L. P. HILL DR.\, Winchester\, VA\, 22601\, United States
CATEGORIES:Clubs & Organizations,Student Life
GEO:39.1667245;-78.1562205
X-APPLE-STRUCTURED-LOCATION;VALUE=URI;X-ADDRESS=Goodson Chapel / Recital Hall 1400 L. P. HILL DR. Winchester VA 22601 United States;X-APPLE-RADIUS=500;X-TITLE=1400 L. P. HILL DR.:geo:-78.1562205,39.1667245
END:VEVENT
BEGIN:VEVENT
DTSTART;TZID=America/New_York:20260425T193000
DTEND;TZID=America/New_York:20260425T193000
DTSTAMP:20260419T000349
CREATED:20251212T202307Z
LAST-MODIFIED:20251212T202309Z
UID:10003293-1777145400-1777145400@www.su.edu
SUMMARY:Saxophone Ensemble
DESCRIPTION:Home » Goodson Chapel / Recital Hall\n\n\n\nGoodson Chapel / Recital Hall\n\n\n\n\nUnder the direction of Professor of Saxophone Timothy Roberts\, members of the Saxophone Ensemble present their spring concert. \n\n\n\nThis event is free and open to the public; no tickets are required. Visit conservatoryperforms.org to learn more and explore the digital program.
URL:https://www.su.edu/performs/event/26-04-saxophone-ensemble/#new_tab
LOCATION:Goodson Chapel / Recital Hall\, 1400 L. P. HILL DR.\, Winchester\, VA\, 22601\, United States
CATEGORIES:Music,Performances
GEO:39.1667245;-78.1562205
X-APPLE-STRUCTURED-LOCATION;VALUE=URI;X-ADDRESS=Goodson Chapel / Recital Hall 1400 L. P. HILL DR. Winchester VA 22601 United States;X-APPLE-RADIUS=500;X-TITLE=1400 L. P. HILL DR.:geo:-78.1562205,39.1667245
END:VEVENT
BEGIN:VEVENT
DTSTART;TZID=America/New_York:20260426T200000
DTEND;TZID=America/New_York:20260426T210000
DTSTAMP:20260419T000349
CREATED:20260115T211524Z
LAST-MODIFIED:20260115T211526Z
UID:10003497-1777233600-1777237200@www.su.edu
SUMMARY:Sunday Night: Live
DESCRIPTION:Home » Goodson Chapel / Recital Hall\n\n\n\nGoodson Chapel / Recital Hall\n\n\n\n\nThe Office of Spiritual Life invites students and staff to attend Sunday Night: Live\, a weekly ecumenical Christian worship service held on Sundays from 8-9 p.m. in Goodson Chapel-Recital Hall. All Shenandoah University students and staff are welcome to participate in worship and community each week throughout the semester. For more information\, contact DeLyn Celec at delyn.celec@su.edu. 
URL:https://www.su.edu/event/sunday-night-live/2026-04-26/
LOCATION:Goodson Chapel / Recital Hall\, 1400 L. P. HILL DR.\, Winchester\, VA\, 22601\, United States
CATEGORIES:Spiritual Life,Student Life
GEO:39.1667245;-78.1562205
X-APPLE-STRUCTURED-LOCATION;VALUE=URI;X-ADDRESS=Goodson Chapel / Recital Hall 1400 L. P. HILL DR. Winchester VA 22601 United States;X-APPLE-RADIUS=500;X-TITLE=1400 L. P. HILL DR.:geo:-78.1562205,39.1667245
END:VEVENT
BEGIN:VEVENT
DTSTART;TZID=America/New_York:20260427T193000
DTEND;TZID=America/New_York:20260427T193000
DTSTAMP:20260419T000349
CREATED:20251212T202508Z
LAST-MODIFIED:20251212T202511Z
UID:10003295-1777318200-1777318200@www.su.edu
SUMMARY:Flute Ensemble
DESCRIPTION:Home » Goodson Chapel / Recital Hall\n\n\n\nGoodson Chapel / Recital Hall\n\n\n\n\nUnder the direction of Assistant Professor of Flute Julietta Curenton\, members of the Flute Ensemble present their spring concert. \n\n\n\nThis event is free and open to the public; no tickets are required. Visit conservatoryperforms.org to learn more and explore the digital program.
URL:https://www.su.edu/performs/event/26-04-flute-ensemble/#new_tab
LOCATION:Goodson Chapel / Recital Hall\, 1400 L. P. HILL DR.\, Winchester\, VA\, 22601\, United States
CATEGORIES:Music,Performances
GEO:39.1667245;-78.1562205
X-APPLE-STRUCTURED-LOCATION;VALUE=URI;X-ADDRESS=Goodson Chapel / Recital Hall 1400 L. P. HILL DR. Winchester VA 22601 United States;X-APPLE-RADIUS=500;X-TITLE=1400 L. P. HILL DR.:geo:-78.1562205,39.1667245
END:VEVENT
BEGIN:VEVENT
DTSTART;TZID=America/New_York:20260428T193000
DTEND;TZID=America/New_York:20260428T193000
DTSTAMP:20260419T000349
CREATED:20251212T202624Z
LAST-MODIFIED:20251212T202626Z
UID:10003296-1777404600-1777404600@www.su.edu
SUMMARY:Honors Chamber Music Recital
DESCRIPTION:Home » Goodson Chapel / Recital Hall\n\n\n\nGoodson Chapel / Recital Hall\n\n\n\n\nShenandoah Conservatory highlights the work of some of its most talented instrumental students with a special concert featuring a lineup of classical chamber music repertoire. \n\n\n\nThis event is free and open to the public; no tickets are required. Visit conservatoryperforms.org to learn more and explore the digital program.
URL:https://www.su.edu/performs/event/26-04-honors-chamber-music-recital/#new_tab
LOCATION:Goodson Chapel / Recital Hall\, 1400 L. P. HILL DR.\, Winchester\, VA\, 22601\, United States
CATEGORIES:Music,Performances
GEO:39.1667245;-78.1562205
X-APPLE-STRUCTURED-LOCATION;VALUE=URI;X-ADDRESS=Goodson Chapel / Recital Hall 1400 L. P. HILL DR. Winchester VA 22601 United States;X-APPLE-RADIUS=500;X-TITLE=1400 L. P. HILL DR.:geo:-78.1562205,39.1667245
END:VEVENT
BEGIN:VEVENT
DTSTART;TZID=America/New_York:20260429T190000
DTEND;TZID=America/New_York:20260429T190000
DTSTAMP:20260419T000349
CREATED:20260410T134658Z
LAST-MODIFIED:20260410T134701Z
UID:10003953-1777489200-1777489200@www.su.edu
SUMMARY:Mental Health Awareness Month Movie Night
DESCRIPTION:Home » Goodson Chapel / Recital Hall\n\n\n\nGoodson Chapel / Recital Hall\n\n\n\n\nRecognize Mental Health Awareness Month on Wednesday\, April 29\, at 7 p.m. in Goodson Chapel-Recital Hall by attending a special movie night featuring a comedy that explores the impact of mental health on everyday life. This event offers students a relaxed environment to engage with important wellness themes while enjoying free pizza and community connection. This session also qualifies as a Beyond the Classroom (BTC) credit opportunity. This event is hosted by the Office of Spiritual Life and the Wilkins Wellness & Counseling Center. For more information\, please contact spirituallife@su.edu. 
URL:https://www.su.edu/event/mental-health-awareness-month-movie-night/
LOCATION:Goodson Chapel / Recital Hall\, 1400 L. P. HILL DR.\, Winchester\, VA\, 22601\, United States
GEO:39.1667245;-78.1562205
X-APPLE-STRUCTURED-LOCATION;VALUE=URI;X-ADDRESS=Goodson Chapel / Recital Hall 1400 L. P. HILL DR. Winchester VA 22601 United States;X-APPLE-RADIUS=500;X-TITLE=1400 L. P. HILL DR.:geo:-78.1562205,39.1667245
END:VEVENT
BEGIN:VEVENT
DTSTART;TZID=America/New_York:20260503T200000
DTEND;TZID=America/New_York:20260503T210000
DTSTAMP:20260419T000349
CREATED:20260324T151504Z
LAST-MODIFIED:20260324T151504Z
UID:10003498-1777838400-1777842000@www.su.edu
SUMMARY:Sunday Night: Live
DESCRIPTION:Home » Goodson Chapel / Recital Hall\n\n\n\nGoodson Chapel / Recital Hall\n\n\n\n\nThe Office of Spiritual Life invites students and staff to attend Sunday Night: Live\, a weekly ecumenical Christian worship service held on Sundays from 8-9 p.m. in Goodson Chapel-Recital Hall. All Shenandoah University students and staff are welcome to participate in worship and community each week throughout the semester. For more information\, contact DeLyn Celec at delyn.celec@su.edu. 
URL:https://www.su.edu/event/sunday-night-live-3/
LOCATION:Goodson Chapel / Recital Hall\, 1400 L. P. HILL DR.\, Winchester\, VA\, 22601\, United States
CATEGORIES:Spiritual Life,Student Life
GEO:39.1667245;-78.1562205
X-APPLE-STRUCTURED-LOCATION;VALUE=URI;X-ADDRESS=Goodson Chapel / Recital Hall 1400 L. P. HILL DR. Winchester VA 22601 United States;X-APPLE-RADIUS=500;X-TITLE=1400 L. P. HILL DR.:geo:-78.1562205,39.1667245
END:VEVENT
BEGIN:VEVENT
DTSTART;TZID=America/New_York:20260508T190000
DTEND;TZID=America/New_York:20260508T200000
DTSTAMP:20260419T000349
CREATED:20260218T170145Z
LAST-MODIFIED:20260218T170148Z
UID:10003731-1778266800-1778270400@www.su.edu
SUMMARY:Division of Education and Leadership and Applied Behavioral Analysis Hooding Ceremony
DESCRIPTION:Home » Goodson Chapel / Recital Hall\n\n\n\nGoodson Chapel / Recital Hall\n\n\n\n\nThe Division of Education and Leadership and Applied Behavioral Analysis Hooding Ceremony is on Friday\, May 8 at 7 p.m. in Goodson Chapel – Recital Hall. For more information\, contact kmycko@su.edu.
URL:https://www.su.edu/event/division-of-education-and-leadership-and-applied-behavioral-analysis-hooding-ceremony/
LOCATION:Goodson Chapel / Recital Hall\, 1400 L. P. HILL DR.\, Winchester\, VA\, 22601\, United States
CATEGORIES:Commencement
GEO:39.1667245;-78.1562205
X-APPLE-STRUCTURED-LOCATION;VALUE=URI;X-ADDRESS=Goodson Chapel / Recital Hall 1400 L. P. HILL DR. Winchester VA 22601 United States;X-APPLE-RADIUS=500;X-TITLE=1400 L. P. HILL DR.:geo:-78.1562205,39.1667245
END:VEVENT
END:VCALENDAR