BEGIN:VCALENDAR
VERSION:2.0
PRODID:-//Shenandoah University - ECPv6.15.20//NONSGML v1.0//EN
CALSCALE:GREGORIAN
METHOD:PUBLISH
X-ORIGINAL-URL:https://www.su.edu
X-WR-CALDESC:Events for Shenandoah University
REFRESH-INTERVAL;VALUE=DURATION:PT1H
X-Robots-Tag:noindex
X-PUBLISHED-TTL:PT1H
BEGIN:VTIMEZONE
TZID:America/New_York
BEGIN:DAYLIGHT
TZOFFSETFROM:-0500
TZOFFSETTO:-0400
TZNAME:EDT
DTSTART:20250309T070000
END:DAYLIGHT
BEGIN:STANDARD
TZOFFSETFROM:-0400
TZOFFSETTO:-0500
TZNAME:EST
DTSTART:20251102T060000
END:STANDARD
BEGIN:DAYLIGHT
TZOFFSETFROM:-0500
TZOFFSETTO:-0400
TZNAME:EDT
DTSTART:20260308T070000
END:DAYLIGHT
BEGIN:STANDARD
TZOFFSETFROM:-0400
TZOFFSETTO:-0500
TZNAME:EST
DTSTART:20261101T060000
END:STANDARD
BEGIN:DAYLIGHT
TZOFFSETFROM:-0500
TZOFFSETTO:-0400
TZNAME:EDT
DTSTART:20270314T070000
END:DAYLIGHT
BEGIN:STANDARD
TZOFFSETFROM:-0400
TZOFFSETTO:-0500
TZNAME:EST
DTSTART:20271107T060000
END:STANDARD
END:VTIMEZONE
BEGIN:VEVENT
DTSTART;TZID=America/New_York:20260426T150000
DTEND;TZID=America/New_York:20260426T180000
DTSTAMP:20260424T120143
CREATED:20260316T184243Z
LAST-MODIFIED:20260319T154744Z
UID:10003898-1777215600-1777226400@www.su.edu
SUMMARY:The Sunday Reset: Level Up Your Semester
DESCRIPTION:Home » Smith Library\n\n\n\nSmith Library\n\n\n\n\nReset yourself with student support/academic coaching in the Smith Library every Sunday for “The Sunday Reset: Level Up Your Semester.” Held from 3-6 p.m. on the library’s third floor\, these weekly sessions help students manage the “Sunday scaries” through proactive organization and stress reduction. Participants can learn practical scheduling hacks\, strategies to outsmart procrastination and systems for managing multiple deadlines. Attendees may also partner one-on-one with a Thrive Guide to build a personalized weekly game plan or check in for academic support. For more information\, contact Kristy Fedyk at kristy.fedyk@su.edu. 
URL:https://www.su.edu/event/the-sunday-reset-level-up-your-semester/2026-04-26/
LOCATION:Smith Library\, 718 WADE MILLER DR.\, Winchester\, VA\, 22601\, United States
CATEGORIES:Student Life
GEO:39.1655287;-78.1586254
X-APPLE-STRUCTURED-LOCATION;VALUE=URI;X-ADDRESS=Smith Library 718 WADE MILLER DR. Winchester VA 22601 United States;X-APPLE-RADIUS=500;X-TITLE=718 WADE MILLER DR.:geo:-78.1586254,39.1655287
END:VEVENT
BEGIN:VEVENT
DTSTART;TZID=America/New_York:20260427T080000
DTEND;TZID=America/New_York:20260427T170000
DTSTAMP:20260424T120143
CREATED:20260422T151406Z
LAST-MODIFIED:20260422T151409Z
UID:10003994-1777276800-1777309200@www.su.edu
SUMMARY:Graduation Cap Decoration Station
DESCRIPTION:Home » Smith Library\n\n\n\nSmith Library\n\n\n\n\nGet creative at the Graduation Cap Decoration Station\, hosted by Student Support Services on the third floor of Smith Library. Open daily from 9 a.m.-5 p.m. through Friday\, May 8\, this station provides a spacious area and free supplies to help graduates personalize their commencement regalia. Students do not even need to bring their caps to participate\, as decorative placards are available to design and attach later. While general supplies are laid out for self-service\, glue guns and scissors may be requested from the staff. For additional details\, contact Kristy Fedyk at kristy.fedyk@su.edu. 
URL:https://www.su.edu/event/graduation-cap-decoration-station/2026-04-27/
LOCATION:Smith Library\, 718 WADE MILLER DR.\, Winchester\, VA\, 22601\, United States
CATEGORIES:Clubs & Organizations,Commencement,Student Life
GEO:39.1655287;-78.1586254
X-APPLE-STRUCTURED-LOCATION;VALUE=URI;X-ADDRESS=Smith Library 718 WADE MILLER DR. Winchester VA 22601 United States;X-APPLE-RADIUS=500;X-TITLE=718 WADE MILLER DR.:geo:-78.1586254,39.1655287
END:VEVENT
BEGIN:VEVENT
DTSTART;TZID=America/New_York:20260428T080000
DTEND;TZID=America/New_York:20260428T170000
DTSTAMP:20260424T120143
CREATED:20260422T151406Z
LAST-MODIFIED:20260422T151409Z
UID:10003995-1777363200-1777395600@www.su.edu
SUMMARY:Graduation Cap Decoration Station
DESCRIPTION:Home » Smith Library\n\n\n\nSmith Library\n\n\n\n\nGet creative at the Graduation Cap Decoration Station\, hosted by Student Support Services on the third floor of Smith Library. Open daily from 9 a.m.-5 p.m. through Friday\, May 8\, this station provides a spacious area and free supplies to help graduates personalize their commencement regalia. Students do not even need to bring their caps to participate\, as decorative placards are available to design and attach later. While general supplies are laid out for self-service\, glue guns and scissors may be requested from the staff. For additional details\, contact Kristy Fedyk at kristy.fedyk@su.edu. 
URL:https://www.su.edu/event/graduation-cap-decoration-station/2026-04-28/
LOCATION:Smith Library\, 718 WADE MILLER DR.\, Winchester\, VA\, 22601\, United States
CATEGORIES:Clubs & Organizations,Commencement,Student Life
GEO:39.1655287;-78.1586254
X-APPLE-STRUCTURED-LOCATION;VALUE=URI;X-ADDRESS=Smith Library 718 WADE MILLER DR. Winchester VA 22601 United States;X-APPLE-RADIUS=500;X-TITLE=718 WADE MILLER DR.:geo:-78.1586254,39.1655287
END:VEVENT
BEGIN:VEVENT
DTSTART;TZID=America/New_York:20260429T080000
DTEND;TZID=America/New_York:20260429T170000
DTSTAMP:20260424T120143
CREATED:20260422T151406Z
LAST-MODIFIED:20260422T151409Z
UID:10003996-1777449600-1777482000@www.su.edu
SUMMARY:Graduation Cap Decoration Station
DESCRIPTION:Home » Smith Library\n\n\n\nSmith Library\n\n\n\n\nGet creative at the Graduation Cap Decoration Station\, hosted by Student Support Services on the third floor of Smith Library. Open daily from 9 a.m.-5 p.m. through Friday\, May 8\, this station provides a spacious area and free supplies to help graduates personalize their commencement regalia. Students do not even need to bring their caps to participate\, as decorative placards are available to design and attach later. While general supplies are laid out for self-service\, glue guns and scissors may be requested from the staff. For additional details\, contact Kristy Fedyk at kristy.fedyk@su.edu. 
URL:https://www.su.edu/event/graduation-cap-decoration-station/2026-04-29/
LOCATION:Smith Library\, 718 WADE MILLER DR.\, Winchester\, VA\, 22601\, United States
CATEGORIES:Clubs & Organizations,Commencement,Student Life
GEO:39.1655287;-78.1586254
X-APPLE-STRUCTURED-LOCATION;VALUE=URI;X-ADDRESS=Smith Library 718 WADE MILLER DR. Winchester VA 22601 United States;X-APPLE-RADIUS=500;X-TITLE=718 WADE MILLER DR.:geo:-78.1586254,39.1655287
END:VEVENT
BEGIN:VEVENT
DTSTART;TZID=America/New_York:20260429T180000
DTEND;TZID=America/New_York:20260429T200000
DTSTAMP:20260424T120143
CREATED:20260422T151532Z
LAST-MODIFIED:20260422T151536Z
UID:10004005-1777485600-1777492800@www.su.edu
SUMMARY:Avalon Literature & Arts Launch Party
DESCRIPTION:Home » Smith Library\n\n\n\nSmith Library\n\n\n\n\nCelebrate the release of the Spring 2026 edition of Avalon Literature & Arts Magazine at a launch party on Wednesday\, April 29\, from 6 p.m. to 8 p.m. on the first floor of Smith Library. Hosted by the English Department\, the evening features snacks\, great conversation\, and live showcases from your fellow students. You’ll have the chance to hear published authors read their latest poetry and prose or listen to artists discuss their visual work. If you’ve been published in Avalon or have work you’d like to share with the community\, you can sign up for a reading slot online. Attendance also counts toward BTC credit\, so stop by to support your creative peers and grab a copy of the new issue. For more details\, reach out to Katelyn Garback (katelyn.garback@su.edu)\, Caroline Berry (caroline.berry@su.edu)\, or Dr. Jon Udelson (judelson@su.edu). 
URL:https://www.su.edu/event/avalon-literature-arts-launch-party/
LOCATION:Smith Library\, 718 WADE MILLER DR.\, Winchester\, VA\, 22601\, United States
CATEGORIES:Clubs & Organizations,Student Life
GEO:39.1655287;-78.1586254
X-APPLE-STRUCTURED-LOCATION;VALUE=URI;X-ADDRESS=Smith Library 718 WADE MILLER DR. Winchester VA 22601 United States;X-APPLE-RADIUS=500;X-TITLE=718 WADE MILLER DR.:geo:-78.1586254,39.1655287
END:VEVENT
BEGIN:VEVENT
DTSTART;TZID=America/New_York:20260430T080000
DTEND;TZID=America/New_York:20260430T170000
DTSTAMP:20260424T120143
CREATED:20260422T151406Z
LAST-MODIFIED:20260422T151409Z
UID:10003997-1777536000-1777568400@www.su.edu
SUMMARY:Graduation Cap Decoration Station
DESCRIPTION:Home » Smith Library\n\n\n\nSmith Library\n\n\n\n\nGet creative at the Graduation Cap Decoration Station\, hosted by Student Support Services on the third floor of Smith Library. Open daily from 9 a.m.-5 p.m. through Friday\, May 8\, this station provides a spacious area and free supplies to help graduates personalize their commencement regalia. Students do not even need to bring their caps to participate\, as decorative placards are available to design and attach later. While general supplies are laid out for self-service\, glue guns and scissors may be requested from the staff. For additional details\, contact Kristy Fedyk at kristy.fedyk@su.edu. 
URL:https://www.su.edu/event/graduation-cap-decoration-station/2026-04-30/
LOCATION:Smith Library\, 718 WADE MILLER DR.\, Winchester\, VA\, 22601\, United States
CATEGORIES:Clubs & Organizations,Commencement,Student Life
GEO:39.1655287;-78.1586254
X-APPLE-STRUCTURED-LOCATION;VALUE=URI;X-ADDRESS=Smith Library 718 WADE MILLER DR. Winchester VA 22601 United States;X-APPLE-RADIUS=500;X-TITLE=718 WADE MILLER DR.:geo:-78.1586254,39.1655287
END:VEVENT
BEGIN:VEVENT
DTSTART;TZID=America/New_York:20260501T080000
DTEND;TZID=America/New_York:20260501T170000
DTSTAMP:20260424T120143
CREATED:20260422T151406Z
LAST-MODIFIED:20260422T151409Z
UID:10003998-1777622400-1777654800@www.su.edu
SUMMARY:Graduation Cap Decoration Station
DESCRIPTION:Home » Smith Library\n\n\n\nSmith Library\n\n\n\n\nGet creative at the Graduation Cap Decoration Station\, hosted by Student Support Services on the third floor of Smith Library. Open daily from 9 a.m.-5 p.m. through Friday\, May 8\, this station provides a spacious area and free supplies to help graduates personalize their commencement regalia. Students do not even need to bring their caps to participate\, as decorative placards are available to design and attach later. While general supplies are laid out for self-service\, glue guns and scissors may be requested from the staff. For additional details\, contact Kristy Fedyk at kristy.fedyk@su.edu. 
URL:https://www.su.edu/event/graduation-cap-decoration-station/2026-05-01/
LOCATION:Smith Library\, 718 WADE MILLER DR.\, Winchester\, VA\, 22601\, United States
CATEGORIES:Clubs & Organizations,Commencement,Student Life
GEO:39.1655287;-78.1586254
X-APPLE-STRUCTURED-LOCATION;VALUE=URI;X-ADDRESS=Smith Library 718 WADE MILLER DR. Winchester VA 22601 United States;X-APPLE-RADIUS=500;X-TITLE=718 WADE MILLER DR.:geo:-78.1586254,39.1655287
END:VEVENT
BEGIN:VEVENT
DTSTART;TZID=America/New_York:20260502T080000
DTEND;TZID=America/New_York:20260502T170000
DTSTAMP:20260424T120143
CREATED:20260422T151406Z
LAST-MODIFIED:20260422T151409Z
UID:10003999-1777708800-1777741200@www.su.edu
SUMMARY:Graduation Cap Decoration Station
DESCRIPTION:Home » Smith Library\n\n\n\nSmith Library\n\n\n\n\nGet creative at the Graduation Cap Decoration Station\, hosted by Student Support Services on the third floor of Smith Library. Open daily from 9 a.m.-5 p.m. through Friday\, May 8\, this station provides a spacious area and free supplies to help graduates personalize their commencement regalia. Students do not even need to bring their caps to participate\, as decorative placards are available to design and attach later. While general supplies are laid out for self-service\, glue guns and scissors may be requested from the staff. For additional details\, contact Kristy Fedyk at kristy.fedyk@su.edu. 
URL:https://www.su.edu/event/graduation-cap-decoration-station/2026-05-02/
LOCATION:Smith Library\, 718 WADE MILLER DR.\, Winchester\, VA\, 22601\, United States
CATEGORIES:Clubs & Organizations,Commencement,Student Life
GEO:39.1655287;-78.1586254
X-APPLE-STRUCTURED-LOCATION;VALUE=URI;X-ADDRESS=Smith Library 718 WADE MILLER DR. Winchester VA 22601 United States;X-APPLE-RADIUS=500;X-TITLE=718 WADE MILLER DR.:geo:-78.1586254,39.1655287
END:VEVENT
BEGIN:VEVENT
DTSTART;TZID=America/New_York:20260503T080000
DTEND;TZID=America/New_York:20260503T170000
DTSTAMP:20260424T120143
CREATED:20260422T151406Z
LAST-MODIFIED:20260422T151409Z
UID:10004000-1777795200-1777827600@www.su.edu
SUMMARY:Graduation Cap Decoration Station
DESCRIPTION:Home » Smith Library\n\n\n\nSmith Library\n\n\n\n\nGet creative at the Graduation Cap Decoration Station\, hosted by Student Support Services on the third floor of Smith Library. Open daily from 9 a.m.-5 p.m. through Friday\, May 8\, this station provides a spacious area and free supplies to help graduates personalize their commencement regalia. Students do not even need to bring their caps to participate\, as decorative placards are available to design and attach later. While general supplies are laid out for self-service\, glue guns and scissors may be requested from the staff. For additional details\, contact Kristy Fedyk at kristy.fedyk@su.edu. 
URL:https://www.su.edu/event/graduation-cap-decoration-station/2026-05-03/
LOCATION:Smith Library\, 718 WADE MILLER DR.\, Winchester\, VA\, 22601\, United States
CATEGORIES:Clubs & Organizations,Commencement,Student Life
GEO:39.1655287;-78.1586254
X-APPLE-STRUCTURED-LOCATION;VALUE=URI;X-ADDRESS=Smith Library 718 WADE MILLER DR. Winchester VA 22601 United States;X-APPLE-RADIUS=500;X-TITLE=718 WADE MILLER DR.:geo:-78.1586254,39.1655287
END:VEVENT
BEGIN:VEVENT
DTSTART;TZID=America/New_York:20260503T150000
DTEND;TZID=America/New_York:20260503T180000
DTSTAMP:20260424T120143
CREATED:20260316T184243Z
LAST-MODIFIED:20260319T154744Z
UID:10003899-1777820400-1777831200@www.su.edu
SUMMARY:The Sunday Reset: Level Up Your Semester
DESCRIPTION:Home » Smith Library\n\n\n\nSmith Library\n\n\n\n\nReset yourself with student support/academic coaching in the Smith Library every Sunday for “The Sunday Reset: Level Up Your Semester.” Held from 3-6 p.m. on the library’s third floor\, these weekly sessions help students manage the “Sunday scaries” through proactive organization and stress reduction. Participants can learn practical scheduling hacks\, strategies to outsmart procrastination and systems for managing multiple deadlines. Attendees may also partner one-on-one with a Thrive Guide to build a personalized weekly game plan or check in for academic support. For more information\, contact Kristy Fedyk at kristy.fedyk@su.edu. 
URL:https://www.su.edu/event/the-sunday-reset-level-up-your-semester/2026-05-03/
LOCATION:Smith Library\, 718 WADE MILLER DR.\, Winchester\, VA\, 22601\, United States
CATEGORIES:Student Life
GEO:39.1655287;-78.1586254
X-APPLE-STRUCTURED-LOCATION;VALUE=URI;X-ADDRESS=Smith Library 718 WADE MILLER DR. Winchester VA 22601 United States;X-APPLE-RADIUS=500;X-TITLE=718 WADE MILLER DR.:geo:-78.1586254,39.1655287
END:VEVENT
BEGIN:VEVENT
DTSTART;TZID=America/New_York:20260504T080000
DTEND;TZID=America/New_York:20260504T170000
DTSTAMP:20260424T120143
CREATED:20260422T151406Z
LAST-MODIFIED:20260422T151409Z
UID:10004001-1777881600-1777914000@www.su.edu
SUMMARY:Graduation Cap Decoration Station
DESCRIPTION:Home » Smith Library\n\n\n\nSmith Library\n\n\n\n\nGet creative at the Graduation Cap Decoration Station\, hosted by Student Support Services on the third floor of Smith Library. Open daily from 9 a.m.-5 p.m. through Friday\, May 8\, this station provides a spacious area and free supplies to help graduates personalize their commencement regalia. Students do not even need to bring their caps to participate\, as decorative placards are available to design and attach later. While general supplies are laid out for self-service\, glue guns and scissors may be requested from the staff. For additional details\, contact Kristy Fedyk at kristy.fedyk@su.edu. 
URL:https://www.su.edu/event/graduation-cap-decoration-station/2026-05-04/
LOCATION:Smith Library\, 718 WADE MILLER DR.\, Winchester\, VA\, 22601\, United States
CATEGORIES:Clubs & Organizations,Commencement,Student Life
GEO:39.1655287;-78.1586254
X-APPLE-STRUCTURED-LOCATION;VALUE=URI;X-ADDRESS=Smith Library 718 WADE MILLER DR. Winchester VA 22601 United States;X-APPLE-RADIUS=500;X-TITLE=718 WADE MILLER DR.:geo:-78.1586254,39.1655287
END:VEVENT
BEGIN:VEVENT
DTSTART;TZID=America/New_York:20260505T080000
DTEND;TZID=America/New_York:20260505T170000
DTSTAMP:20260424T120143
CREATED:20260422T151406Z
LAST-MODIFIED:20260422T151409Z
UID:10004002-1777968000-1778000400@www.su.edu
SUMMARY:Graduation Cap Decoration Station
DESCRIPTION:Home » Smith Library\n\n\n\nSmith Library\n\n\n\n\nGet creative at the Graduation Cap Decoration Station\, hosted by Student Support Services on the third floor of Smith Library. Open daily from 9 a.m.-5 p.m. through Friday\, May 8\, this station provides a spacious area and free supplies to help graduates personalize their commencement regalia. Students do not even need to bring their caps to participate\, as decorative placards are available to design and attach later. While general supplies are laid out for self-service\, glue guns and scissors may be requested from the staff. For additional details\, contact Kristy Fedyk at kristy.fedyk@su.edu. 
URL:https://www.su.edu/event/graduation-cap-decoration-station/2026-05-05/
LOCATION:Smith Library\, 718 WADE MILLER DR.\, Winchester\, VA\, 22601\, United States
CATEGORIES:Clubs & Organizations,Commencement,Student Life
GEO:39.1655287;-78.1586254
X-APPLE-STRUCTURED-LOCATION;VALUE=URI;X-ADDRESS=Smith Library 718 WADE MILLER DR. Winchester VA 22601 United States;X-APPLE-RADIUS=500;X-TITLE=718 WADE MILLER DR.:geo:-78.1586254,39.1655287
END:VEVENT
BEGIN:VEVENT
DTSTART;TZID=America/New_York:20260506T080000
DTEND;TZID=America/New_York:20260506T170000
DTSTAMP:20260424T120143
CREATED:20260422T151406Z
LAST-MODIFIED:20260422T151409Z
UID:10004003-1778054400-1778086800@www.su.edu
SUMMARY:Graduation Cap Decoration Station
DESCRIPTION:Home » Smith Library\n\n\n\nSmith Library\n\n\n\n\nGet creative at the Graduation Cap Decoration Station\, hosted by Student Support Services on the third floor of Smith Library. Open daily from 9 a.m.-5 p.m. through Friday\, May 8\, this station provides a spacious area and free supplies to help graduates personalize their commencement regalia. Students do not even need to bring their caps to participate\, as decorative placards are available to design and attach later. While general supplies are laid out for self-service\, glue guns and scissors may be requested from the staff. For additional details\, contact Kristy Fedyk at kristy.fedyk@su.edu. 
URL:https://www.su.edu/event/graduation-cap-decoration-station/2026-05-06/
LOCATION:Smith Library\, 718 WADE MILLER DR.\, Winchester\, VA\, 22601\, United States
CATEGORIES:Clubs & Organizations,Commencement,Student Life
GEO:39.1655287;-78.1586254
X-APPLE-STRUCTURED-LOCATION;VALUE=URI;X-ADDRESS=Smith Library 718 WADE MILLER DR. Winchester VA 22601 United States;X-APPLE-RADIUS=500;X-TITLE=718 WADE MILLER DR.:geo:-78.1586254,39.1655287
END:VEVENT
BEGIN:VEVENT
DTSTART;TZID=America/New_York:20260507T080000
DTEND;TZID=America/New_York:20260507T170000
DTSTAMP:20260424T120143
CREATED:20260422T151406Z
LAST-MODIFIED:20260422T151409Z
UID:10004004-1778140800-1778173200@www.su.edu
SUMMARY:Graduation Cap Decoration Station
DESCRIPTION:Home » Smith Library\n\n\n\nSmith Library\n\n\n\n\nGet creative at the Graduation Cap Decoration Station\, hosted by Student Support Services on the third floor of Smith Library. Open daily from 9 a.m.-5 p.m. through Friday\, May 8\, this station provides a spacious area and free supplies to help graduates personalize their commencement regalia. Students do not even need to bring their caps to participate\, as decorative placards are available to design and attach later. While general supplies are laid out for self-service\, glue guns and scissors may be requested from the staff. For additional details\, contact Kristy Fedyk at kristy.fedyk@su.edu. 
URL:https://www.su.edu/event/graduation-cap-decoration-station/2026-05-07/
LOCATION:Smith Library\, 718 WADE MILLER DR.\, Winchester\, VA\, 22601\, United States
CATEGORIES:Clubs & Organizations,Commencement,Student Life
GEO:39.1655287;-78.1586254
X-APPLE-STRUCTURED-LOCATION;VALUE=URI;X-ADDRESS=Smith Library 718 WADE MILLER DR. Winchester VA 22601 United States;X-APPLE-RADIUS=500;X-TITLE=718 WADE MILLER DR.:geo:-78.1586254,39.1655287
END:VEVENT
END:VCALENDAR